{"text_format":"1","workbook":"xlsx","n_sheets":6,"sheets":["Start Here","Data","Table","Calucations","Achievement Measures","Optional Reporting Measures"],"not_rendered":{"charts":0,"images":2,"macros":1,"external_links":0,"defined_names":1,"comments":0,"pivot_tables":0},"unopened":[],"bounds":{"document_bytes":16777216,"sheet_cells":100000,"rows_first":2000,"rows_last":500,"rows_between":2000,"halvings":0,"cell_chars":16384,"cell_head_chars":4096},"cells_cut":0,"cells_raw":0,"read":"whole","date_system":"1900"}

{"sheet":"Start Here","index":0,"n_rows":20,"n_cols":7,"rows_kept":20,"cut":false,"hidden":false,"merged":[[19,1,19,14],[7,1,8,9],[17,1,18,13],[15,1,16,13],[11,1,11,7],[12,1,12,10],[13,1,13,10],[14,1,14,11]]}
[]
[]
[]
[null,null,null,null,null,null,"2020 EMS Recognition"]
[]
[]
[null,"Greetings!  "]
[null,"This is a tool that is designed for the data collection and reporting for the Mission: Lifeline EMS Recognition Application"]
[]
[]
[null,"INSTRUCTIONS:"]
[null,"1) You must have \"Macros\" enabled for Microsoft Excel"]
[null,"2) Please click on the button below to enter a new patient record."]
[null,"3) Enter the pertinent data on the form. For time entries, please use the HH:MM in 24hr"]
[null,"4) Once finished, please click on the \"Save Record\" then \"Close Form\" buttons in that order"]
[null,"5) Some data may not be available until after the feedback is received from the hospital.  Enter that data directly into the spreadsheet.  There is no need to reenter through the form. "]
[]
[null,"6) If you need to make edits to the record, please do so on the \"Data\" tab.  You are not able to edit through the form. "]
[]
[null,"7) All calculations (numerator / denominator) will display in the \"Table\" tab for use in your Recognition application."]

{"sheet":"Data","index":1,"n_rows":2399,"n_cols":78,"rows_kept":1125,"cut":true,"hidden":false,"merged":[],"bounds":{"rows_first":500,"rows_last":125,"rows_between":500,"halvings":2}}
["EMS Incident Number","Date of Call","Patient Age","Gender","First Responding Agencies","Chief Complaint/Impression","Trauma Related?","Cardiac Arrest?","ROSC Achieved PreHospital","Time of ROSC","Enroute","Onscene","FMC","Depart Scene","Arrived at Hospital","Loaded Miles","12 Lead Acquired?","Time of 12 Lead Acquisition","STEMI/STEMI Probable","Reason for Delay in Prehospital EKG","Time of Hospital Notification/STEMI Alert","Symptom Onset Time","Aspirin Administered?","Stroke Scale Used?","Stroke Scale Version","Positive Stroke Scale?","Stroke Alert Called?","Date of Last Known Well","Time of Last Known Well","Non PCI Hospital","PCI Capable Hospital","Not A Designated Stroke Center","Acute Stroke Ready","Primary Stroke Center","Thrombectomy Capable PSC","Comprehensive Stroke Center","Patient Transferred?","Date of Reperfusion (STEMI or Stroke)","Time of Reperfusion (STEMI or Stroke)","Non-System Reason for Delay (STEMI Only)","Last Name","First Name","Email","Title","Response Time","FMC to 12Lead","Positive 12Lead to Alert","FMC to PCI  /lytics","Transport time","Door to Reperfusion / lytics","Quarter",null,"M1_D","M1_N","M3a_D","M3a_N","M3b_N","PLUS_D","PLUS_N","M2_D","M2_N","M4_D","M4a_N","M4b_N",null,"M3_N Total","M_4N Total","M3_Ex1","M3_Ex2","M3_cmb","M1_Ex","M2_Ex1","M2_Ex2","M2_cmb","M4_Ex1","M4_Ex2","M4_cmb","Plus_Ex"]
[null,null,null,null,null,null,null,null,null,null,null,null,null,null,null,null,null,null,null,null,null,null,null,null,null,null,null,null,null,null,null,null,null,null,null,null,null,null,null,null,null,null,null,null,{"$f":"IF(K2=\"\",\"\",L2-K2)","v":""},{"$f":"IF(M2=\"\",\"\",R2-M2)","v":""},{"$f":"IF(U2=\"\",\"\",U2-R2)","v":""},{"$f":"IF(AM2=\"\",\"\",(AL2+AM2)-(B2+M2))","v":""},{"$f":"IF(N2=\"\",\"\",O2-N2)","v":""},{"$f":"IF(AM2=\"\",\"\",((AL2+AM2)-(B2+O2)))","v":""},{"$f":"IF(B2=\"\",\"\",ROUNDUP(MONTH(B2)/3,0))","v":""},null,{"$f":"COUNTIFS(C2, \">= 35\",F2, \"<>Suspected Stroke Symptoms\",G2,\"No\",O2,\"<>\"\"\")","v":0},{"$f":"COUNTIFS(C2, \">= 35\",F2, \"<>Suspected Stroke Symptoms\",G2,\"No\",O2,\"<>\"\"\",Q2,\"Yes\")","v":0},{"$f":"COUNTIFS(C2,\">=18\",S2,\"=TRUE\",AE2,\"=TRUE\", AM2,\"<>\"\"\")","v":0},{"$f":"COUNTIFS(C2,\">=18\",S2,\"=TRUE\",AE2,\"=TRUE\", AM2,\"<>\"\"\",AV2,\"<=0:90\",BE2,\"0\")","v":0},{"$f":"COUNTIFS(C2,\">=18\",S2,\"=TRUE\",AE2,\"=TRUE\", AM2,\"<>\"\"\",AV2,\"<=1:20\",AW2,\">=0:45\",AX2,\"<=0:30\",BD2, \"0\")","v":0},{"$f":"COUNTIFS(C2,\">=35\",F2, \"<>Suspected Stroke Symptoms\",G2,\"NO\",Q2,\"YES\",O2,\"<>\"\"\")","v":0},{"$f":"COUNTIFS(C2,\">=35\",F2, \"<>Suspected Stroke Symptoms\",G2,\"NO\",Q2,\"YES\",O2,\"<>\"\"\",AT2,\"<=0:10\")","v":0},{"$f":"COUNTIFS(C2,\">=35\",S2,\"TRUE\",O2,\"<>\"\"\")","v":0},{"$f":"COUNTIFS(C2,\">=35\",S2,\"TRUE\",O2,\"<>\"\"\",AU2,\"<=0:10\")","v":0},{"$f":"COUNTIFS(C2,\">=18\",S2,\"=TRUE\",AD2,\"=TRUE\", AM2,\"<>\"\"\",AV2,\"<>\"\"\")","v":0},{"$f":"COUNTIFS(C2,\">=18\",S2,\"=TRUE\",AD2,\"=TRUE\", AM2,\"<>\"\"\",AX2,\"<=0:30\")","v":0},{"$f":"COUNTIFS(C2,\">=18\",S2,\"=TRUE\",AD2,\"=TRUE\", AM2,\"<>\"\"\", AK2, \"TRUE\",AV2,\"<=1:20\")","v":0},null,{"$f":"SUM(BD2:BE2)","v":0},{"$f":"IF(SUM(BK2+BL2>=1),\"1\",\"0\")","v":"0"},{"$f":"COUNTIFS(C2,\">=18\",S2,\"=TRUE\",AE2,\"=TRUE\", AM2,\"<>\"\"\",AN2,\"<>\",BN2,\"0\")","v":0},{"$f":"COUNTIFS(C2,\">=18\",S2,\"=TRUE\",AE2,\"=TRUE\", AM2,\"<>\"\"\",H2,\"Yes\",BN2,\"0\")","v":0},{"$f":"IF(SUM(BP2+BQ2>=1),\"1\",\"0\")","v":"0"},{"$f":"COUNTIFS(C2, \">= 35\",F2, \"<>Suspected Stroke Symptoms\",G2,\"No\",O2,\"<>\"\"\",H2,\"Yes\",BB2,\"0\")","v":0},{"$f":"COUNTIFS(C2,\">=35\",S2,\"TRUE\",O2,\"<>\"\"\",H2,\"Yes\",BI2,\"0\")","v":0},{"$f":"COUNTIFS(C2,\">=35\",S2,\"TRUE\",O2,\"<>\"\"\",T2,\"<>\",BI2,\"0\")","v":0},{"$f":"IF(SUM(BT2+BU2>=1),\"1\",\"0\")","v":"0"},{"$f":"COUNTIFS(C2,\">=18\",S2,\"=TRUE\",AD2,\"=TRUE\", AM2,\"<>\"\"\",AV2,\"<>\",BO2,\"0\")","v":0},{"$f":"COUNTIFS(C2,\">=18\",S2,\"=TRUE\",AD2,\"=TRUE\", AM2,\"<>\"\"\",H2,\"Yes\",BO2,\"0\")","v":0},{"$f":"IF(SUM(BW2+BX2>=1),\"1\",\"0\")","v":"0"},{"$f":"COUNTIFS(C2,\">=35\",F2, \"<>Suspected Stroke Symptoms\",G2,\"NO\",Q2,\"YES\",O2,\"<>\"\"\",H2,\"Yes\")","v":0}]
[null,null,null,null,null,null,null,null,null,null,null,null,null,null,null,null,null,null,null,null,null,null,null,null,null,null,null,null,null,null,null,null,null,null,null,null,null,null,null,null,null,null,null,null,"","","","","","","",null,0,0,0,0,0,{"$f":"COUNTIFS(C3,\">=35\",F3, \"<>Suspected Stroke Symptoms\",G3,\"NO\",Q3,\"YES\",O3,\"<>\"\"\")","v":0},{"$f":"COUNTIFS(C3,\">=35\",F3, \"<>Suspected Stroke Symptoms\",G3,\"NO\",Q3,\"YES\",O3,\"<>\"\"\",AT3,\"<=0:10\")","v":0},{"$f":"COUNTIFS(C3,\">=35\",S3,\"TRUE\",O3,\"<>\"\"\")","v":0},{"$f":"COUNTIFS(C3,\">=35\",S3,\"TRUE\",O3,\"<>\"\"\",AU3,\"<=0:10\")","v":0},0,{"$f":"COUNTIFS(C3,\">=18\",S3,\"=TRUE\",AD3,\"=TRUE\", AM3,\"<>\"\"\",AX3,\"<=0:30\")","v":0},{"$f":"COUNTIFS(C3,\">=18\",S3,\"=TRUE\",AD3,\"=TRUE\", AM3,\"<>\"\"\", AK3, \"TRUE\",AV3,\"<=1:20\")","v":0},null,{"$f":"SUM(BD3:BE3)","v":0},{"$f":"IF(SUM(BK3+BL3>=1),\"1\",\"0\")","v":"0"},{"$f":"COUNTIFS(C3,\">=18\",S3,\"=TRUE\",AE3,\"=TRUE\", AM3,\"<>\"\"\",AN3,\"<>\",BN3,\"0\")","v":0},{"$f":"COUNTIFS(C3,\">=18\",S3,\"=TRUE\",AE3,\"=TRUE\", AM3,\"<>\"\"\",H3,\"Yes\",BN3,\"0\")","v":0},{"$f":"IF(SUM(BP3+BQ3>=1),\"1\",\"0\")","v":"0"},0,{"$f":"COUNTIFS(C3,\">=35\",S3,\"TRUE\",O3,\"<>\"\"\",H3,\"Yes\",BI3,\"0\")","v":0},{"$f":"COUNTIFS(C3,\">=35\",S3,\"TRUE\",O3,\"<>\"\"\",T3,\"<>\",BI3,\"0\")","v":0},"0",{"$f":"COUNTIFS(C3,\">=18\",S3,\"=TRUE\",AD3,\"=TRUE\", AM3,\"<>\"\"\",AV3,\"<>\",BO3,\"0\")","v":0},{"$f":"COUNTIFS(C3,\">=18\",S3,\"=TRUE\",AD3,\"=TRUE\", AM3,\"<>\"\"\",H3,\"Yes\",BO3,\"0\")","v":0},{"$f":"IF(SUM(BW3+BX3>=1),\"1\",\"0\")","v":"0"},{"$f":"COUNTIFS(C3,\">=35\",F3, \"<>Suspected Stroke Symptoms\",G3,\"NO\",Q3,\"YES\",O3,\"<>\"\"\",H3,\"Yes\")","v":0}]
[null,null,null,null,null,null,null,null,null,null,null,null,null,null,null,null,null,null,null,null,null,null,null,null,null,null,null,null,null,null,null,null,null,null,null,null,null,null,null,null,null,null,null,null,"","","","","","","",null,0,0,0,0,0,0,0,0,0,0,0,0,null,0,"0",0,0,"0",0,0,0,"0",0,0,"0",0]
[null,null,null,null,null,null,null,null,null,null,null,null,null,null,null,null,null,null,null,null,null,null,null,null,null,null,null,null,null,null,null,null,null,null,null,null,null,null,null,null,null,null,null,null,"","","","","","","",null,0,0,0,0,0,0,0,0,0,0,0,0,null,0,"0",0,0,"0",0,0,0,"0",0,0,"0",0]
[null,null,null,null,null,null,null,null,null,null,null,null,null,null,null,null,null,null,null,null,null,null,null,null,null,null,null,null,null,null,null,null,null,null,null,null,null,null,null,null,null,null,null,null,"","","","","","","",null,0,0,0,0,0,0,0,0,0,0,0,0,null,0,"0",0,0,"0",0,0,0,"0",0,0,"0",0]
[null,null,null,null,null,null,null,null,null,null,null,null,null,null,null,null,null,null,null,null,null,null,null,null,null,null,null,null,null,null,null,null,null,null,null,null,null,null,null,null,null,null,null,null,"","","","","","","",null,0,0,0,0,0,0,0,0,0,0,0,0,null,0,"0",0,0,"0",0,0,0,"0",0,0,"0",0]
[null,null,null,null,null,null,null,null,null,null,null,null,null,null,null,null,null,null,null,null,null,null,null,null,null,null,null,null,null,null,null,null,null,null,null,null,null,null,null,null,null,null,null,null,"","","","","","","",null,0,0,0,0,0,0,0,0,0,0,0,0,null,0,"0",0,0,"0",0,0,0,"0",0,0,"0",0]
[null,null,null,null,null,null,null,null,null,null,null,null,null,null,null,null,null,null,null,null,null,null,null,null,null,null,null,null,null,null,null,null,null,null,null,null,null,null,null,null,null,null,null,null,"","","","","","","",null,0,0,0,0,0,0,0,0,0,0,0,0,null,0,"0",0,0,"0",0,0,0,"0",0,0,"0",0]
[null,null,null,null,null,null,null,null,null,null,null,null,null,null,null,null,null,null,null,null,null,null,null,null,null,null,null,null,null,null,null,null,null,null,null,null,null,null,null,null,null,null,null,null,"","","","","","","",null,0,0,0,0,0,0,0,0,0,0,0,0,null,0,"0",0,0,"0",0,0,0,"0",0,0,"0",0]
[null,null,null,null,null,null,null,null,null,null,null,null,null,null,null,null,null,null,null,null,null,null,null,null,null,null,null,null,null,null,null,null,null,null,null,null,null,null,null,null,null,null,null,null,"","","","","","","",null,0,0,0,0,0,0,0,0,0,0,0,0,null,0,"0",0,0,"0",0,0,0,"0",0,0,"0",0]
[null,null,null,null,null,null,null,null,null,null,null,null,null,null,null,null,null,null,null,null,null,null,null,null,null,null,null,null,null,null,null,null,null,null,null,null,null,null,null,null,null,null,null,null,"","","","","","","",null,0,0,0,0,0,0,0,0,0,0,0,0,null,0,"0",0,0,"0",0,0,0,"0",0,0,"0",0]
[null,null,null,null,null,null,null,null,null,null,null,null,null,null,null,null,null,null,null,null,null,null,null,null,null,null,null,null,null,null,null,null,null,null,null,null,null,null,null,null,null,null,null,null,"","","","","","","",null,0,0,0,0,0,0,0,0,0,0,0,0,null,0,"0",0,0,"0",0,0,0,"0",0,0,"0",0]
[null,null,null,null,null,null,null,null,null,null,null,null,null,null,null,null,null,null,null,null,null,null,null,null,null,null,null,null,null,null,null,null,null,null,null,null,null,null,null,null,null,null,null,null,"","","","","","","",null,0,0,0,0,0,0,0,0,0,0,0,0,null,0,"0",0,0,"0",0,0,0,"0",0,0,"0",0]
[null,null,null,null,null,null,null,null,null,null,null,null,null,null,null,null,null,null,null,null,null,null,null,null,null,null,null,null,null,null,null,null,null,null,null,null,null,null,null,null,null,null,null,null,"","","","","","","",null,0,0,0,0,0,0,0,0,0,0,0,0,null,0,"0",0,0,"0",0,0,0,"0",0,0,"0",0]
[null,null,null,null,null,null,null,null,null,null,null,null,null,null,null,null,null,null,null,null,null,null,null,null,null,null,null,null,null,null,null,null,null,null,null,null,null,null,null,null,null,null,null,null,"","","","","","","",null,0,0,0,0,0,0,0,0,0,0,0,0,null,0,"0",0,0,"0",0,0,0,"0",0,0,"0",0]
[null,null,null,null,null,null,null,null,null,null,null,null,null,null,null,null,null,null,null,null,null,null,null,null,null,null,null,null,null,null,null,null,null,null,null,null,null,null,null,null,null,null,null,null,"","","","","","","",null,0,0,0,0,0,0,0,0,0,0,0,0,null,0,"0",0,0,"0",0,0,0,"0",0,0,"0",0]
[null,null,null,null,null,null,null,null,null,null,null,null,null,null,null,null,null,null,null,null,null,null,null,null,null,null,null,null,null,null,null,null,null,null,null,null,null,null,null,null,null,null,null,null,"","","","","","","",null,0,0,0,0,0,0,0,0,0,0,0,0,null,0,"0",0,0,"0",0,0,0,"0",0,0,"0",0]
[null,null,null,null,null,null,null,null,null,null,null,null,null,null,null,null,null,null,null,null,null,null,null,null,null,null,null,null,null,null,null,null,null,null,null,null,null,null,null,null,null,null,null,null,"","","","","","","",null,0,0,0,0,0,0,0,0,0,0,0,0,null,0,"0",0,0,"0",0,0,0,"0",0,0,"0",0]
[null,null,null,null,null,null,null,null,null,null,null,null,null,null,null,null,null,null,null,null,null,null,null,null,null,null,null,null,null,null,null,null,null,null,null,null,null,null,null,null,null,null,null,null,"","","","","","","",null,0,0,0,0,0,0,0,0,0,0,0,0,null,0,"0",0,0,"0",0,0,0,"0",0,0,"0",0]
[null,null,null,null,null,null,null,null,null,null,null,null,null,null,null,null,null,null,null,null,null,null,null,null,null,null,null,null,null,null,null,null,null,null,null,null,null,null,null,null,null,null,null,null,"","","","","","","",null,0,0,0,0,0,0,0,0,0,0,0,0,null,0,"0",0,0,"0",0,0,0,"0",0,0,"0",0]
[null,null,null,null,null,null,null,null,null,null,null,null,null,null,null,null,null,null,null,null,null,null,null,null,null,null,null,null,null,null,null,null,null,null,null,null,null,null,null,null,null,null,null,null,"","","","","","","",null,0,0,0,0,0,0,0,0,0,0,0,0,null,0,"0",0,0,"0",0,0,0,"0",0,0,"0",0]
[null,null,null,null,null,null,null,null,null,null,null,null,null,null,null,null,null,null,null,null,null,null,null,null,null,null,null,null,null,null,null,null,null,null,null,null,null,null,null,null,null,null,null,null,"","","","","","","",null,0,0,0,0,0,0,0,0,0,0,0,0,null,0,"0",0,0,"0",0,0,0,"0",0,0,"0",0]
[null,null,null,null,null,null,null,null,null,null,null,null,null,null,null,null,null,null,null,null,null,null,null,null,null,null,null,null,null,null,null,null,null,null,null,null,null,null,null,null,null,null,null,null,"","","","","","","",null,0,0,0,0,0,0,0,0,0,0,0,0,null,0,"0",0,0,"0",0,0,0,"0",0,0,"0",0]
[null,null,null,null,null,null,null,null,null,null,null,null,null,null,null,null,null,null,null,null,null,null,null,null,null,null,null,null,null,null,null,null,null,null,null,null,null,null,null,null,null,null,null,null,"","","","","","","",null,0,0,0,0,0,0,0,0,0,0,0,0,null,0,"0",0,0,"0",0,0,0,"0",0,0,"0",0]
[null,null,null,null,null,null,null,null,null,null,null,null,null,null,null,null,null,null,null,null,null,null,null,null,null,null,null,null,null,null,null,null,null,null,null,null,null,null,null,null,null,null,null,null,"","","","","","","",null,0,0,0,0,0,0,0,0,0,0,0,0,null,0,"0",0,0,"0",0,0,0,"0",0,0,"0",0]
[null,null,null,null,null,null,null,null,null,null,null,null,null,null,null,null,null,null,null,null,null,null,null,null,null,null,null,null,null,null,null,null,null,null,null,null,null,null,null,null,null,null,null,null,"","","","","","","",null,0,0,0,0,0,0,0,0,0,0,0,0,null,0,"0",0,0,"0",0,0,0,"0",0,0,"0",0]
[null,null,null,null,null,null,null,null,null,null,null,null,null,null,null,null,null,null,null,null,null,null,null,null,null,null,null,null,null,null,null,null,null,null,null,null,null,null,null,null,null,null,null,null,"","","","","","","",null,0,0,0,0,0,0,0,0,0,0,0,0,null,0,"0",0,0,"0",0,0,0,"0",0,0,"0",0]
[null,null,null,null,null,null,null,null,null,null,null,null,null,null,null,null,null,null,null,null,null,null,null,null,null,null,null,null,null,null,null,null,null,null,null,null,null,null,null,null,null,null,null,null,"","","","","","","",null,0,0,0,0,0,0,0,0,0,0,0,0,null,0,"0",0,0,"0",0,0,0,"0",0,0,"0",0]
[null,null,null,null,null,null,null,null,null,null,null,null,null,null,null,null,null,null,null,null,null,null,null,null,null,null,null,null,null,null,null,null,null,null,null,null,null,null,null,null,null,null,null,null,"","","","","","","",null,0,0,0,0,0,0,0,0,0,0,0,0,null,0,"0",0,0,"0",0,0,0,"0",0,0,"0",0]
[null,null,null,null,null,null,null,null,null,null,null,null,null,null,null,null,null,null,null,null,null,null,null,null,null,null,null,null,null,null,null,null,null,null,null,null,null,null,null,null,null,null,null,null,"","","","","","","",null,0,0,0,0,0,0,0,0,0,0,0,0,null,0,"0",0,0,"0",0,0,0,"0",0,0,"0",0]
[null,null,null,null,null,null,null,null,null,null,null,null,null,null,null,null,null,null,null,null,null,null,null,null,null,null,null,null,null,null,null,null,null,null,null,null,null,null,null,null,null,null,null,null,"","","","","","","",null,0,0,0,0,0,0,0,0,0,0,0,0,null,0,"0",0,0,"0",0,0,0,"0",0,0,"0",0]
[null,null,null,null,null,null,null,null,null,null,null,null,null,null,null,null,null,null,null,null,null,null,null,null,null,null,null,null,null,null,null,null,null,null,null,null,null,null,null,null,null,null,null,null,"","","","","","","",null,0,0,0,0,0,0,0,0,0,0,0,0,null,0,"0",0,0,"0",0,0,0,"0",0,0,"0",0]
[null,null,null,null,null,null,null,null,null,null,null,null,null,null,null,null,null,null,null,null,null,null,null,null,null,null,null,null,null,null,null,null,null,null,null,null,null,null,null,null,null,null,null,null,"","","","","","","",null,0,0,0,0,0,0,0,0,0,0,0,0,null,0,"0",0,0,"0",0,0,0,"0",0,0,"0",0]
[null,null,null,null,null,null,null,null,null,null,null,null,null,null,null,null,null,null,null,null,null,null,null,null,null,null,null,null,null,null,null,null,null,null,null,null,null,null,null,null,null,null,null,null,"","","","","","","",null,0,0,0,0,0,0,0,0,0,0,0,0,null,0,"0",0,0,"0",0,0,0,"0",0,0,"0",0]
[null,null,null,null,null,null,null,null,null,null,null,null,null,null,null,null,null,null,null,null,null,null,null,null,null,null,null,null,null,null,null,null,null,null,null,null,null,null,null,null,null,null,null,null,"","","","","","","",null,0,0,0,0,0,0,0,0,0,0,0,0,null,0,"0",0,0,"0",0,0,0,"0",0,0,"0",0]
[null,null,null,null,null,null,null,null,null,null,null,null,null,null,null,null,null,null,null,null,null,null,null,null,null,null,null,null,null,null,null,null,null,null,null,null,null,null,null,null,null,null,null,null,"","","","","","","",null,0,0,0,0,0,0,0,0,0,0,0,0,null,0,"0",0,0,"0",0,0,0,"0",0,0,"0",0]
[null,null,null,null,null,null,null,null,null,null,null,null,null,null,null,null,null,null,null,null,null,null,null,null,null,null,null,null,null,null,null,null,null,null,null,null,null,null,null,null,null,null,null,null,"","","","","","","",null,0,0,0,0,0,0,0,0,0,0,0,0,null,0,"0",0,0,"0",0,0,0,"0",0,0,"0",0]
[null,null,null,null,null,null,null,null,null,null,null,null,null,null,null,null,null,null,null,null,null,null,null,null,null,null,null,null,null,null,null,null,null,null,null,null,null,null,null,null,null,null,null,null,"","","","","","","",null,0,0,0,0,0,0,0,0,0,0,0,0,null,0,"0",0,0,"0",0,0,0,"0",0,0,"0",0]
[null,null,null,null,null,null,null,null,null,null,null,null,null,null,null,null,null,null,null,null,null,null,null,null,null,null,null,null,null,null,null,null,null,null,null,null,null,null,null,null,null,null,null,null,"","","","","","","",null,0,0,0,0,0,0,0,0,0,0,0,0,null,0,"0",0,0,"0",0,0,0,"0",0,0,"0",0]
[null,null,null,null,null,null,null,null,null,null,null,null,null,null,null,null,null,null,null,null,null,null,null,null,null,null,null,null,null,null,null,null,null,null,null,null,null,null,null,null,null,null,null,null,"","","","","","","",null,0,0,0,0,0,0,0,0,0,0,0,0,null,0,"0",0,0,"0",0,0,0,"0",0,0,"0",0]
[null,null,null,null,null,null,null,null,null,null,null,null,null,null,null,null,null,null,null,null,null,null,null,null,null,null,null,null,null,null,null,null,null,null,null,null,null,null,null,null,null,null,null,null,"","","","","","","",null,0,0,0,0,0,0,0,0,0,0,0,0,null,0,"0",0,0,"0",0,0,0,"0",0,0,"0",0]
[null,null,null,null,null,null,null,null,null,null,null,null,null,null,null,null,null,null,null,null,null,null,null,null,null,null,null,null,null,null,null,null,null,null,null,null,null,null,null,null,null,null,null,null,"","","","","","","",null,0,0,0,0,0,0,0,0,0,0,0,0,null,0,"0",0,0,"0",0,0,0,"0",0,0,"0",0]
[null,null,null,null,null,null,null,null,null,null,null,null,null,null,null,null,null,null,null,null,null,null,null,null,null,null,null,null,null,null,null,null,null,null,null,null,null,null,null,null,null,null,null,null,"","","","","","","",null,0,0,0,0,0,0,0,0,0,0,0,0,null,0,"0",0,0,"0",0,0,0,"0",0,0,"0",0]
[null,null,null,null,null,null,null,null,null,null,null,null,null,null,null,null,null,null,null,null,null,null,null,null,null,null,null,null,null,null,null,null,null,null,null,null,null,null,null,null,null,null,null,null,"","","","","","","",null,0,0,0,0,0,0,0,0,0,0,0,0,null,0,"0",0,0,"0",0,0,0,"0",0,0,"0",0]
[null,null,null,null,null,null,null,null,null,null,null,null,null,null,null,null,null,null,null,null,null,null,null,null,null,null,null,null,null,null,null,null,null,null,null,null,null,null,null,null,null,null,null,null,"","","","","","","",null,0,0,0,0,0,0,0,0,0,0,0,0,null,0,"0",0,0,"0",0,0,0,"0",0,0,"0",0]
[null,null,null,null,null,null,null,null,null,null,null,null,null,null,null,null,null,null,null,null,null,null,null,null,null,null,null,null,null,null,null,null,null,null,null,null,null,null,null,null,null,null,null,null,"","","","","","","",null,0,0,0,0,0,0,0,0,0,0,0,0,null,0,"0",0,0,"0",0,0,0,"0",0,0,"0",0]
[null,null,null,null,null,null,null,null,null,null,null,null,null,null,null,null,null,null,null,null,null,null,null,null,null,null,null,null,null,null,null,null,null,null,null,null,null,null,null,null,null,null,null,null,"","","","","","","",null,0,0,0,0,0,0,0,0,0,0,0,0,null,0,"0",0,0,"0",0,0,0,"0",0,0,"0",0]
[null,null,null,null,null,null,null,null,null,null,null,null,null,null,null,null,null,null,null,null,null,null,null,null,null,null,null,null,null,null,null,null,null,null,null,null,null,null,null,null,null,null,null,null,"","","","","","","",null,0,0,0,0,0,0,0,0,0,0,0,0,null,0,"0",0,0,"0",0,0,0,"0",0,0,"0",0]
[null,null,null,null,null,null,null,null,null,null,null,null,null,null,null,null,null,null,null,null,null,null,null,null,null,null,null,null,null,null,null,null,null,null,null,null,null,null,null,null,null,null,null,null,"","","","","","","",null,0,0,0,0,0,0,0,0,0,0,0,0,null,0,"0",0,0,"0",0,0,0,"0",0,0,"0",0]
[null,null,null,null,null,null,null,null,null,null,null,null,null,null,null,null,null,null,null,null,null,null,null,null,null,null,null,null,null,null,null,null,null,null,null,null,null,null,null,null,null,null,null,null,"","","","","","","",null,0,0,0,0,0,0,0,0,0,0,0,0,null,0,"0",0,0,"0",0,0,0,"0",0,0,"0",0]
[null,null,null,null,null,null,null,null,null,null,null,null,null,null,null,null,null,null,null,null,null,null,null,null,null,null,null,null,null,null,null,null,null,null,null,null,null,null,null,null,null,null,null,null,"","","","","","","",null,0,0,0,0,0,0,0,0,0,0,0,0,null,0,"0",0,0,"0",0,0,0,"0",0,0,"0",0]
[null,null,null,null,null,null,null,null,null,null,null,null,null,null,null,null,null,null,null,null,null,null,null,null,null,null,null,null,null,null,null,null,null,null,null,null,null,null,null,null,null,null,null,null,"","","","","","","",null,0,0,0,0,0,0,0,0,0,0,0,0,null,0,"0",0,0,"0",0,0,0,"0",0,0,"0",0]
[null,null,null,null,null,null,null,null,null,null,null,null,null,null,null,null,null,null,null,null,null,null,null,null,null,null,null,null,null,null,null,null,null,null,null,null,null,null,null,null,null,null,null,null,"","","","","","","",null,0,0,0,0,0,0,0,0,0,0,0,0,null,0,"0",0,0,"0",0,0,0,"0",0,0,"0",0]
[null,null,null,null,null,null,null,null,null,null,null,null,null,null,null,null,null,null,null,null,null,null,null,null,null,null,null,null,null,null,null,null,null,null,null,null,null,null,null,null,null,null,null,null,"","","","","","","",null,0,0,0,0,0,0,0,0,0,0,0,0,null,0,"0",0,0,"0",0,0,0,"0",0,0,"0",0]
[null,null,null,null,null,null,null,null,null,null,null,null,null,null,null,null,null,null,null,null,null,null,null,null,null,null,null,null,null,null,null,null,null,null,null,null,null,null,null,null,null,null,null,null,"","","","","","","",null,0,0,0,0,0,0,0,0,0,0,0,0,null,0,"0",0,0,"0",0,0,0,"0",0,0,"0",0]
[null,null,null,null,null,null,null,null,null,null,null,null,null,null,null,null,null,null,null,null,null,null,null,null,null,null,null,null,null,null,null,null,null,null,null,null,null,null,null,null,null,null,null,null,"","","","","","","",null,0,0,0,0,0,0,0,0,0,0,0,0,null,0,"0",0,0,"0",0,0,0,"0",0,0,"0",0]
[null,null,null,null,null,null,null,null,null,null,null,null,null,null,null,null,null,null,null,null,null,null,null,null,null,null,null,null,null,null,null,null,null,null,null,null,null,null,null,null,null,null,null,null,"","","","","","","",null,0,0,0,0,0,0,0,0,0,0,0,0,null,0,"0",0,0,"0",0,0,0,"0",0,0,"0",0]
[null,null,null,null,null,null,null,null,null,null,null,null,null,null,null,null,null,null,null,null,null,null,null,null,null,null,null,null,null,null,null,null,null,null,null,null,null,null,null,null,null,null,null,null,"","","","","","","",null,0,0,0,0,0,0,0,0,0,0,0,0,null,0,"0",0,0,"0",0,0,0,"0",0,0,"0",0]
[null,null,null,null,null,null,null,null,null,null,null,null,null,null,null,null,null,null,null,null,null,null,null,null,null,null,null,null,null,null,null,null,null,null,null,null,null,null,null,null,null,null,null,null,"","","","","","","",null,0,0,0,0,0,0,0,0,0,0,0,0,null,0,"0",0,0,"0",0,0,0,"0",0,0,"0",0]
[null,null,null,null,null,null,null,null,null,null,null,null,null,null,null,null,null,null,null,null,null,null,null,null,null,null,null,null,null,null,null,null,null,null,null,null,null,null,null,null,null,null,null,null,"","","","","","","",null,0,0,0,0,0,0,0,0,0,0,0,0,null,0,"0",0,0,"0",0,0,0,"0",0,0,"0",0]
[null,null,null,null,null,null,null,null,null,null,null,null,null,null,null,null,null,null,null,null,null,null,null,null,null,null,null,null,null,null,null,null,null,null,null,null,null,null,null,null,null,null,null,null,"","","","","","","",null,0,0,0,0,0,0,0,0,0,0,0,0,null,0,"0",0,0,"0",0,0,0,"0",0,0,"0",0]
[null,null,null,null,null,null,null,null,null,null,null,null,null,null,null,null,null,null,null,null,null,null,null,null,null,null,null,null,null,null,null,null,null,null,null,null,null,null,null,null,null,null,null,null,"","","","","","","",null,0,0,0,0,0,0,0,0,0,0,0,0,null,0,"0",0,0,"0",0,0,0,"0",0,0,"0",0]
[null,null,null,null,null,null,null,null,null,null,null,null,null,null,null,null,null,null,null,null,null,null,null,null,null,null,null,null,null,null,null,null,null,null,null,null,null,null,null,null,null,null,null,null,"","","","","","","",null,0,0,0,0,0,0,0,0,0,0,0,0,null,0,"0",0,0,"0",0,0,0,"0",0,0,"0",0]
[null,null,null,null,null,null,null,null,null,null,null,null,null,null,null,null,null,null,null,null,null,null,null,null,null,null,null,null,null,null,null,null,null,null,null,null,null,null,null,null,null,null,null,null,"","","","","","","",null,0,0,0,0,0,0,0,0,0,0,0,0,null,0,"0",0,0,"0",0,0,0,"0",0,0,"0",0]
[null,null,null,null,null,null,null,null,null,null,null,null,null,null,null,null,null,null,null,null,null,null,null,null,null,null,null,null,null,null,null,null,null,null,null,null,null,null,null,null,null,null,null,null,{"$f":"IF(K66=\"\",\"\",L66-K66)","v":""},{"$f":"IF(M66=\"\",\"\",R66-M66)","v":""},{"$f":"IF(U66=\"\",\"\",U66-R66)","v":""},{"$f":"IF(AM66=\"\",\"\",(AL66+AM66)-(B66+M66))","v":""},{"$f":"IF(N66=\"\",\"\",O66-N66)","v":""},{"$f":"IF(AM66=\"\",\"\",((AL66+AM66)-(B66+O66)))","v":""},{"$f":"IF(B66=\"\",\"\",ROUNDUP(MONTH(B66)/3,0))","v":""},null,{"$f":"COUNTIFS(C66, \">= 35\",F66, \"<>Suspected Stroke Symptoms\",G66,\"No\",O66,\"<>\"\"\")","v":0},{"$f":"COUNTIFS(C66, \">= 35\",F66, \"<>Suspected Stroke Symptoms\",G66,\"No\",O66,\"<>\"\"\",Q66,\"Yes\")","v":0},{"$f":"COUNTIFS(C66,\">=18\",S66,\"=TRUE\",AE66,\"=TRUE\", AM66,\"<>\"\"\")","v":0},{"$f":"COUNTIFS(C66,\">=18\",S66,\"=TRUE\",AE66,\"=TRUE\", AM66,\"<>\"\"\",AV66,\"<=0:90\",BE66,\"0\")","v":0},{"$f":"COUNTIFS(C66,\">=18\",S66,\"=TRUE\",AE66,\"=TRUE\", AM66,\"<>\"\"\",AV66,\"<=1:20\",AW66,\">=0:45\",AX66,\"<=0:30\",BD66, \"0\")","v":0},0,0,0,0,{"$f":"COUNTIFS(C66,\">=18\",S66,\"=TRUE\",AD66,\"=TRUE\", AM66,\"<>\"\"\",AV66,\"<>\"\"\")","v":0},0,0,null,0,"0",0,0,"0",{"$f":"COUNTIFS(C66, \">= 35\",F66, \"<>Suspected Stroke Symptoms\",G66,\"No\",O66,\"<>\"\"\",H66,\"Yes\",BB66,\"0\")","v":0},0,0,{"$f":"IF(SUM(BT66+BU66>=1),\"1\",\"0\")","v":"0"},0,0,"0",0]
[null,null,null,null,null,null,null,null,null,null,null,null,null,null,null,null,null,null,null,null,null,null,null,null,null,null,null,null,null,null,null,null,null,null,null,null,null,null,null,null,null,null,null,null,"","","","","","","",null,0,0,0,0,0,{"$f":"COUNTIFS(C67,\">=35\",F67, \"<>Suspected Stroke Symptoms\",G67,\"NO\",Q67,\"YES\",O67,\"<>\"\"\")","v":0},{"$f":"COUNTIFS(C67,\">=35\",F67, \"<>Suspected Stroke Symptoms\",G67,\"NO\",Q67,\"YES\",O67,\"<>\"\"\",AT67,\"<=0:10\")","v":0},{"$f":"COUNTIFS(C67,\">=35\",S67,\"TRUE\",O67,\"<>\"\"\")","v":0},{"$f":"COUNTIFS(C67,\">=35\",S67,\"TRUE\",O67,\"<>\"\"\",AU67,\"<=0:10\")","v":0},0,{"$f":"COUNTIFS(C67,\">=18\",S67,\"=TRUE\",AD67,\"=TRUE\", AM67,\"<>\"\"\",AX67,\"<=0:30\")","v":0},{"$f":"COUNTIFS(C67,\">=18\",S67,\"=TRUE\",AD67,\"=TRUE\", AM67,\"<>\"\"\", AK67, \"TRUE\",AV67,\"<=1:20\")","v":0},null,{"$f":"SUM(BD67:BE67)","v":0},{"$f":"IF(SUM(BK67+BL67>=1),\"1\",\"0\")","v":"0"},{"$f":"COUNTIFS(C67,\">=18\",S67,\"=TRUE\",AE67,\"=TRUE\", AM67,\"<>\"\"\",AN67,\"<>\",BN67,\"0\")","v":0},{"$f":"COUNTIFS(C67,\">=18\",S67,\"=TRUE\",AE67,\"=TRUE\", AM67,\"<>\"\"\",H67,\"Yes\",BN67,\"0\")","v":0},{"$f":"IF(SUM(BP67+BQ67>=1),\"1\",\"0\")","v":"0"},0,{"$f":"COUNTIFS(C67,\">=35\",S67,\"TRUE\",O67,\"<>\"\"\",H67,\"Yes\",BI67,\"0\")","v":0},{"$f":"COUNTIFS(C67,\">=35\",S67,\"TRUE\",O67,\"<>\"\"\",T67,\"<>\",BI67,\"0\")","v":0},"0",{"$f":"COUNTIFS(C67,\">=18\",S67,\"=TRUE\",AD67,\"=TRUE\", AM67,\"<>\"\"\",AV67,\"<>\",BO67,\"0\")","v":0},{"$f":"COUNTIFS(C67,\">=18\",S67,\"=TRUE\",AD67,\"=TRUE\", AM67,\"<>\"\"\",H67,\"Yes\",BO67,\"0\")","v":0},{"$f":"IF(SUM(BW67+BX67>=1),\"1\",\"0\")","v":"0"},{"$f":"COUNTIFS(C67,\">=35\",F67, \"<>Suspected Stroke Symptoms\",G67,\"NO\",Q67,\"YES\",O67,\"<>\"\"\",H67,\"Yes\")","v":0}]
[null,null,null,null,null,null,null,null,null,null,null,null,null,null,null,null,null,null,null,null,null,null,null,null,null,null,null,null,null,null,null,null,null,null,null,null,null,null,null,null,null,null,null,null,"","","","","","","",null,0,0,0,0,0,0,0,0,0,0,0,0,null,0,"0",0,0,"0",0,0,0,"0",0,0,"0",0]
[null,null,null,null,null,null,null,null,null,null,null,null,null,null,null,null,null,null,null,null,null,null,null,null,null,null,null,null,null,null,null,null,null,null,null,null,null,null,null,null,null,null,null,null,"","","","","","","",null,0,0,0,0,0,0,0,0,0,0,0,0,null,0,"0",0,0,"0",0,0,0,"0",0,0,"0",0]
[null,null,null,null,null,null,null,null,null,null,null,null,null,null,null,null,null,null,null,null,null,null,null,null,null,null,null,null,null,null,null,null,null,null,null,null,null,null,null,null,null,null,null,null,"","","","","","","",null,0,0,0,0,0,0,0,0,0,0,0,0,null,0,"0",0,0,"0",0,0,0,"0",0,0,"0",0]
[null,null,null,null,null,null,null,null,null,null,null,null,null,null,null,null,null,null,null,null,null,null,null,null,null,null,null,null,null,null,null,null,null,null,null,null,null,null,null,null,null,null,null,null,"","","","","","","",null,0,0,0,0,0,0,0,0,0,0,0,0,null,0,"0",0,0,"0",0,0,0,"0",0,0,"0",0]
[null,null,null,null,null,null,null,null,null,null,null,null,null,null,null,null,null,null,null,null,null,null,null,null,null,null,null,null,null,null,null,null,null,null,null,null,null,null,null,null,null,null,null,null,"","","","","","","",null,0,0,0,0,0,0,0,0,0,0,0,0,null,0,"0",0,0,"0",0,0,0,"0",0,0,"0",0]
[null,null,null,null,null,null,null,null,null,null,null,null,null,null,null,null,null,null,null,null,null,null,null,null,null,null,null,null,null,null,null,null,null,null,null,null,null,null,null,null,null,null,null,null,"","","","","","","",null,0,0,0,0,0,0,0,0,0,0,0,0,null,0,"0",0,0,"0",0,0,0,"0",0,0,"0",0]
[null,null,null,null,null,null,null,null,null,null,null,null,null,null,null,null,null,null,null,null,null,null,null,null,null,null,null,null,null,null,null,null,null,null,null,null,null,null,null,null,null,null,null,null,"","","","","","","",null,0,0,0,0,0,0,0,0,0,0,0,0,null,0,"0",0,0,"0",0,0,0,"0",0,0,"0",0]
[null,null,null,null,null,null,null,null,null,null,null,null,null,null,null,null,null,null,null,null,null,null,null,null,null,null,null,null,null,null,null,null,null,null,null,null,null,null,null,null,null,null,null,null,"","","","","","","",null,0,0,0,0,0,0,0,0,0,0,0,0,null,0,"0",0,0,"0",0,0,0,"0",0,0,"0",0]
[null,null,null,null,null,null,null,null,null,null,null,null,null,null,null,null,null,null,null,null,null,null,null,null,null,null,null,null,null,null,null,null,null,null,null,null,null,null,null,null,null,null,null,null,"","","","","","","",null,0,0,0,0,0,0,0,0,0,0,0,0,null,0,"0",0,0,"0",0,0,0,"0",0,0,"0",0]
[null,null,null,null,null,null,null,null,null,null,null,null,null,null,null,null,null,null,null,null,null,null,null,null,null,null,null,null,null,null,null,null,null,null,null,null,null,null,null,null,null,null,null,null,"","","","","","","",null,0,0,0,0,0,0,0,0,0,0,0,0,null,0,"0",0,0,"0",0,0,0,"0",0,0,"0",0]
[null,null,null,null,null,null,null,null,null,null,null,null,null,null,null,null,null,null,null,null,null,null,null,null,null,null,null,null,null,null,null,null,null,null,null,null,null,null,null,null,null,null,null,null,"","","","","","","",null,0,0,0,0,0,0,0,0,0,0,0,0,null,0,"0",0,0,"0",0,0,0,"0",0,0,"0",0]
[null,null,null,null,null,null,null,null,null,null,null,null,null,null,null,null,null,null,null,null,null,null,null,null,null,null,null,null,null,null,null,null,null,null,null,null,null,null,null,null,null,null,null,null,"","","","","","","",null,0,0,0,0,0,0,0,0,0,0,0,0,null,0,"0",0,0,"0",0,0,0,"0",0,0,"0",0]
[null,null,null,null,null,null,null,null,null,null,null,null,null,null,null,null,null,null,null,null,null,null,null,null,null,null,null,null,null,null,null,null,null,null,null,null,null,null,null,null,null,null,null,null,"","","","","","","",null,0,0,0,0,0,0,0,0,0,0,0,0,null,0,"0",0,0,"0",0,0,0,"0",0,0,"0",0]
[null,null,null,null,null,null,null,null,null,null,null,null,null,null,null,null,null,null,null,null,null,null,null,null,null,null,null,null,null,null,null,null,null,null,null,null,null,null,null,null,null,null,null,null,"","","","","","","",null,0,0,0,0,0,0,0,0,0,0,0,0,null,0,"0",0,0,"0",0,0,0,"0",0,0,"0",0]
[null,null,null,null,null,null,null,null,null,null,null,null,null,null,null,null,null,null,null,null,null,null,null,null,null,null,null,null,null,null,null,null,null,null,null,null,null,null,null,null,null,null,null,null,"","","","","","","",null,0,0,0,0,0,0,0,0,0,0,0,0,null,0,"0",0,0,"0",0,0,0,"0",0,0,"0",0]
[null,null,null,null,null,null,null,null,null,null,null,null,null,null,null,null,null,null,null,null,null,null,null,null,null,null,null,null,null,null,null,null,null,null,null,null,null,null,null,null,null,null,null,null,"","","","","","","",null,0,0,0,0,0,0,0,0,0,0,0,0,null,0,"0",0,0,"0",0,0,0,"0",0,0,"0",0]
[null,null,null,null,null,null,null,null,null,null,null,null,null,null,null,null,null,null,null,null,null,null,null,null,null,null,null,null,null,null,null,null,null,null,null,null,null,null,null,null,null,null,null,null,"","","","","","","",null,0,0,0,0,0,0,0,0,0,0,0,0,null,0,"0",0,0,"0",0,0,0,"0",0,0,"0",0]
[null,null,null,null,null,null,null,null,null,null,null,null,null,null,null,null,null,null,null,null,null,null,null,null,null,null,null,null,null,null,null,null,null,null,null,null,null,null,null,null,null,null,null,null,"","","","","","","",null,0,0,0,0,0,0,0,0,0,0,0,0,null,0,"0",0,0,"0",0,0,0,"0",0,0,"0",0]
[null,null,null,null,null,null,null,null,null,null,null,null,null,null,null,null,null,null,null,null,null,null,null,null,null,null,null,null,null,null,null,null,null,null,null,null,null,null,null,null,null,null,null,null,"","","","","","","",null,0,0,0,0,0,0,0,0,0,0,0,0,null,0,"0",0,0,"0",0,0,0,"0",0,0,"0",0]
[null,null,null,null,null,null,null,null,null,null,null,null,null,null,null,null,null,null,null,null,null,null,null,null,null,null,null,null,null,null,null,null,null,null,null,null,null,null,null,null,null,null,null,null,"","","","","","","",null,0,0,0,0,0,0,0,0,0,0,0,0,null,0,"0",0,0,"0",0,0,0,"0",0,0,"0",0]
[null,null,null,null,null,null,null,null,null,null,null,null,null,null,null,null,null,null,null,null,null,null,null,null,null,null,null,null,null,null,null,null,null,null,null,null,null,null,null,null,null,null,null,null,"","","","","","","",null,0,0,0,0,0,0,0,0,0,0,0,0,null,0,"0",0,0,"0",0,0,0,"0",0,0,"0",0]
[null,null,null,null,null,null,null,null,null,null,null,null,null,null,null,null,null,null,null,null,null,null,null,null,null,null,null,null,null,null,null,null,null,null,null,null,null,null,null,null,null,null,null,null,"","","","","","","",null,0,0,0,0,0,0,0,0,0,0,0,0,null,0,"0",0,0,"0",0,0,0,"0",0,0,"0",0]
[null,null,null,null,null,null,null,null,null,null,null,null,null,null,null,null,null,null,null,null,null,null,null,null,null,null,null,null,null,null,null,null,null,null,null,null,null,null,null,null,null,null,null,null,"","","","","","","",null,0,0,0,0,0,0,0,0,0,0,0,0,null,0,"0",0,0,"0",0,0,0,"0",0,0,"0",0]
[null,null,null,null,null,null,null,null,null,null,null,null,null,null,null,null,null,null,null,null,null,null,null,null,null,null,null,null,null,null,null,null,null,null,null,null,null,null,null,null,null,null,null,null,"","","","","","","",null,0,0,0,0,0,0,0,0,0,0,0,0,null,0,"0",0,0,"0",0,0,0,"0",0,0,"0",0]
[null,null,null,null,null,null,null,null,null,null,null,null,null,null,null,null,null,null,null,null,null,null,null,null,null,null,null,null,null,null,null,null,null,null,null,null,null,null,null,null,null,null,null,null,"","","","","","","",null,0,0,0,0,0,0,0,0,0,0,0,0,null,0,"0",0,0,"0",0,0,0,"0",0,0,"0",0]
[null,null,null,null,null,null,null,null,null,null,null,null,null,null,null,null,null,null,null,null,null,null,null,null,null,null,null,null,null,null,null,null,null,null,null,null,null,null,null,null,null,null,null,null,"","","","","","","",null,0,0,0,0,0,0,0,0,0,0,0,0,null,0,"0",0,0,"0",0,0,0,"0",0,0,"0",0]
[null,null,null,null,null,null,null,null,null,null,null,null,null,null,null,null,null,null,null,null,null,null,null,null,null,null,null,null,null,null,null,null,null,null,null,null,null,null,null,null,null,null,null,null,"","","","","","","",null,0,0,0,0,0,0,0,0,0,0,0,0,null,0,"0",0,0,"0",0,0,0,"0",0,0,"0",0]
[null,null,null,null,null,null,null,null,null,null,null,null,null,null,null,null,null,null,null,null,null,null,null,null,null,null,null,null,null,null,null,null,null,null,null,null,null,null,null,null,null,null,null,null,"","","","","","","",null,0,0,0,0,0,0,0,0,0,0,0,0,null,0,"0",0,0,"0",0,0,0,"0",0,0,"0",0]
[null,null,null,null,null,null,null,null,null,null,null,null,null,null,null,null,null,null,null,null,null,null,null,null,null,null,null,null,null,null,null,null,null,null,null,null,null,null,null,null,null,null,null,null,"","","","","","","",null,0,0,0,0,0,0,0,0,0,0,0,0,null,0,"0",0,0,"0",0,0,0,"0",0,0,"0",0]
[null,null,null,null,null,null,null,null,null,null,null,null,null,null,null,null,null,null,null,null,null,null,null,null,null,null,null,null,null,null,null,null,null,null,null,null,null,null,null,null,null,null,null,null,"","","","","","","",null,0,0,0,0,0,0,0,0,0,0,0,0,null,0,"0",0,0,"0",0,0,0,"0",0,0,"0",0]
[null,null,null,null,null,null,null,null,null,null,null,null,null,null,null,null,null,null,null,null,null,null,null,null,null,null,null,null,null,null,null,null,null,null,null,null,null,null,null,null,null,null,null,null,"","","","","","","",null,0,0,0,0,0,0,0,0,0,0,0,0,null,0,"0",0,0,"0",0,0,0,"0",0,0,"0",0]
[null,null,null,null,null,null,null,null,null,null,null,null,null,null,null,null,null,null,null,null,null,null,null,null,null,null,null,null,null,null,null,null,null,null,null,null,null,null,null,null,null,null,null,null,"","","","","","","",null,0,0,0,0,0,0,0,0,0,0,0,0,null,0,"0",0,0,"0",0,0,0,"0",0,0,"0",0]
[null,null,null,null,null,null,null,null,null,null,null,null,null,null,null,null,null,null,null,null,null,null,null,null,null,null,null,null,null,null,null,null,null,null,null,null,null,null,null,null,null,null,null,null,"","","","","","","",null,0,0,0,0,0,0,0,0,0,0,0,0,null,0,"0",0,0,"0",0,0,0,"0",0,0,"0",0]
[null,null,null,null,null,null,null,null,null,null,null,null,null,null,null,null,null,null,null,null,null,null,null,null,null,null,null,null,null,null,null,null,null,null,null,null,null,null,null,null,null,null,null,null,"","","","","","","",null,0,0,0,0,0,0,0,0,0,0,0,0,null,0,"0",0,0,"0",0,0,0,"0",0,0,"0",0]
[null,null,null,null,null,null,null,null,null,null,null,null,null,null,null,null,null,null,null,null,null,null,null,null,null,null,null,null,null,null,null,null,null,null,null,null,null,null,null,null,null,null,null,null,"","","","","","","",null,0,0,0,0,0,0,0,0,0,0,0,0,null,0,"0",0,0,"0",0,0,0,"0",0,0,"0",0]
[null,null,null,null,null,null,null,null,null,null,null,null,null,null,null,null,null,null,null,null,null,null,null,null,null,null,null,null,null,null,null,null,null,null,null,null,null,null,null,null,null,null,null,null,"","","","","","","",null,0,0,0,0,0,0,0,0,0,0,0,0,null,0,"0",0,0,"0",0,0,0,"0",0,0,"0",0]
[null,null,null,null,null,null,null,null,null,null,null,null,null,null,null,null,null,null,null,null,null,null,null,null,null,null,null,null,null,null,null,null,null,null,null,null,null,null,null,null,null,null,null,null,"","","","","","","",null,0,0,0,0,0,0,0,0,0,0,0,0,null,0,"0",0,0,"0",0,0,0,"0",0,0,"0",0]
[null,null,null,null,null,null,null,null,null,null,null,null,null,null,null,null,null,null,null,null,null,null,null,null,null,null,null,null,null,null,null,null,null,null,null,null,null,null,null,null,null,null,null,null,"","","","","","","",null,0,0,0,0,0,0,0,0,0,0,0,0,null,0,"0",0,0,"0",0,0,0,"0",0,0,"0",0]
[null,null,null,null,null,null,null,null,null,null,null,null,null,null,null,null,null,null,null,null,null,null,null,null,null,null,null,null,null,null,null,null,null,null,null,null,null,null,null,null,null,null,null,null,"","","","","","","",null,0,0,0,0,0,0,0,0,0,0,0,0,null,0,"0",0,0,"0",0,0,0,"0",0,0,"0",0]
[null,null,null,null,null,null,null,null,null,null,null,null,null,null,null,null,null,null,null,null,null,null,null,null,null,null,null,null,null,null,null,null,null,null,null,null,null,null,null,null,null,null,null,null,"","","","","","","",null,0,0,0,0,0,0,0,0,0,0,0,0,null,0,"0",0,0,"0",0,0,0,"0",0,0,"0",0]
[null,null,null,null,null,null,null,null,null,null,null,null,null,null,null,null,null,null,null,null,null,null,null,null,null,null,null,null,null,null,null,null,null,null,null,null,null,null,null,null,null,null,null,null,"","","","","","","",null,0,0,0,0,0,0,0,0,0,0,0,0,null,0,"0",0,0,"0",0,0,0,"0",0,0,"0",0]
[null,null,null,null,null,null,null,null,null,null,null,null,null,null,null,null,null,null,null,null,null,null,null,null,null,null,null,null,null,null,null,null,null,null,null,null,null,null,null,null,null,null,null,null,"","","","","","","",null,0,0,0,0,0,0,0,0,0,0,0,0,null,0,"0",0,0,"0",0,0,0,"0",0,0,"0",0]
[null,null,null,null,null,null,null,null,null,null,null,null,null,null,null,null,null,null,null,null,null,null,null,null,null,null,null,null,null,null,null,null,null,null,null,null,null,null,null,null,null,null,null,null,"","","","","","","",null,0,0,0,0,0,0,0,0,0,0,0,0,null,0,"0",0,0,"0",0,0,0,"0",0,0,"0",0]
[null,null,null,null,null,null,null,null,null,null,null,null,null,null,null,null,null,null,null,null,null,null,null,null,null,null,null,null,null,null,null,null,null,null,null,null,null,null,null,null,null,null,null,null,"","","","","","","",null,0,0,0,0,0,0,0,0,0,0,0,0,null,0,"0",0,0,"0",0,0,0,"0",0,0,"0",0]
[null,null,null,null,null,null,null,null,null,null,null,null,null,null,null,null,null,null,null,null,null,null,null,null,null,null,null,null,null,null,null,null,null,null,null,null,null,null,null,null,null,null,null,null,"","","","","","","",null,0,0,0,0,0,0,0,0,0,0,0,0,null,0,"0",0,0,"0",0,0,0,"0",0,0,"0",0]
[null,null,null,null,null,null,null,null,null,null,null,null,null,null,null,null,null,null,null,null,null,null,null,null,null,null,null,null,null,null,null,null,null,null,null,null,null,null,null,null,null,null,null,null,"","","","","","","",null,0,0,0,0,0,0,0,0,0,0,0,0,null,0,"0",0,0,"0",0,0,0,"0",0,0,"0",0]
[null,null,null,null,null,null,null,null,null,null,null,null,null,null,null,null,null,null,null,null,null,null,null,null,null,null,null,null,null,null,null,null,null,null,null,null,null,null,null,null,null,null,null,null,"","","","","","","",null,0,0,0,0,0,0,0,0,0,0,0,0,null,0,"0",0,0,"0",0,0,0,"0",0,0,"0",0]
[null,null,null,null,null,null,null,null,null,null,null,null,null,null,null,null,null,null,null,null,null,null,null,null,null,null,null,null,null,null,null,null,null,null,null,null,null,null,null,null,null,null,null,null,"","","","","","","",null,0,0,0,0,0,0,0,0,0,0,0,0,null,0,"0",0,0,"0",0,0,0,"0",0,0,"0",0]
[null,null,null,null,null,null,null,null,null,null,null,null,null,null,null,null,null,null,null,null,null,null,null,null,null,null,null,null,null,null,null,null,null,null,null,null,null,null,null,null,null,null,null,null,"","","","","","","",null,0,0,0,0,0,0,0,0,0,0,0,0,null,0,"0",0,0,"0",0,0,0,"0",0,0,"0",0]
[null,null,null,null,null,null,null,null,null,null,null,null,null,null,null,null,null,null,null,null,null,null,null,null,null,null,null,null,null,null,null,null,null,null,null,null,null,null,null,null,null,null,null,null,"","","","","","","",null,0,0,0,0,0,0,0,0,0,0,0,0,null,0,"0",0,0,"0",0,0,0,"0",0,0,"0",0]
[null,null,null,null,null,null,null,null,null,null,null,null,null,null,null,null,null,null,null,null,null,null,null,null,null,null,null,null,null,null,null,null,null,null,null,null,null,null,null,null,null,null,null,null,"","","","","","","",null,0,0,0,0,0,0,0,0,0,0,0,0,null,0,"0",0,0,"0",0,0,0,"0",0,0,"0",0]
[null,null,null,null,null,null,null,null,null,null,null,null,null,null,null,null,null,null,null,null,null,null,null,null,null,null,null,null,null,null,null,null,null,null,null,null,null,null,null,null,null,null,null,null,"","","","","","","",null,0,0,0,0,0,0,0,0,0,0,0,0,null,0,"0",0,0,"0",0,0,0,"0",0,0,"0",0]
[null,null,null,null,null,null,null,null,null,null,null,null,null,null,null,null,null,null,null,null,null,null,null,null,null,null,null,null,null,null,null,null,null,null,null,null,null,null,null,null,null,null,null,null,"","","","","","","",null,0,0,0,0,0,0,0,0,0,0,0,0,null,0,"0",0,0,"0",0,0,0,"0",0,0,"0",0]
[null,null,null,null,null,null,null,null,null,null,null,null,null,null,null,null,null,null,null,null,null,null,null,null,null,null,null,null,null,null,null,null,null,null,null,null,null,null,null,null,null,null,null,null,"","","","","","","",null,0,0,0,0,0,0,0,0,0,0,0,0,null,0,"0",0,0,"0",0,0,0,"0",0,0,"0",0]
[null,null,null,null,null,null,null,null,null,null,null,null,null,null,null,null,null,null,null,null,null,null,null,null,null,null,null,null,null,null,null,null,null,null,null,null,null,null,null,null,null,null,null,null,"","","","","","","",null,0,0,0,0,0,0,0,0,0,0,0,0,null,0,"0",0,0,"0",0,0,0,"0",0,0,"0",0]
[null,null,null,null,null,null,null,null,null,null,null,null,null,null,null,null,null,null,null,null,null,null,null,null,null,null,null,null,null,null,null,null,null,null,null,null,null,null,null,null,null,null,null,null,"","","","","","","",null,0,0,0,0,0,0,0,0,0,0,0,0,null,0,"0",0,0,"0",0,0,0,"0",0,0,"0",0]
[null,null,null,null,null,null,null,null,null,null,null,null,null,null,null,null,null,null,null,null,null,null,null,null,null,null,null,null,null,null,null,null,null,null,null,null,null,null,null,null,null,null,null,null,"","","","","","","",null,0,0,0,0,0,0,0,0,0,0,0,0,null,0,"0",0,0,"0",0,0,0,"0",0,0,"0",0]
[null,null,null,null,null,null,null,null,null,null,null,null,null,null,null,null,null,null,null,null,null,null,null,null,null,null,null,null,null,null,null,null,null,null,null,null,null,null,null,null,null,null,null,null,"","","","","","","",null,0,0,0,0,0,0,0,0,0,0,0,0,null,0,"0",0,0,"0",0,0,0,"0",0,0,"0",0]
[null,null,null,null,null,null,null,null,null,null,null,null,null,null,null,null,null,null,null,null,null,null,null,null,null,null,null,null,null,null,null,null,null,null,null,null,null,null,null,null,null,null,null,null,"","","","","","","",null,0,0,0,0,0,0,0,0,0,0,0,0,null,0,"0",0,0,"0",0,0,0,"0",0,0,"0",0]
[null,null,null,null,null,null,null,null,null,null,null,null,null,null,null,null,null,null,null,null,null,null,null,null,null,null,null,null,null,null,null,null,null,null,null,null,null,null,null,null,null,null,null,null,"","","","","","","",null,0,0,0,0,0,0,0,0,0,0,0,0,null,0,"0",0,0,"0",0,0,0,"0",0,0,"0",0]
[null,null,null,null,null,null,null,null,null,null,null,null,null,null,null,null,null,null,null,null,null,null,null,null,null,null,null,null,null,null,null,null,null,null,null,null,null,null,null,null,null,null,null,null,"","","","","","","",null,0,0,0,0,0,0,0,0,0,0,0,0,null,0,"0",0,0,"0",0,0,0,"0",0,0,"0",0]
[null,null,null,null,null,null,null,null,null,null,null,null,null,null,null,null,null,null,null,null,null,null,null,null,null,null,null,null,null,null,null,null,null,null,null,null,null,null,null,null,null,null,null,null,"","","","","","","",null,0,0,0,0,0,0,0,0,0,0,0,0,null,0,"0",0,0,"0",0,0,0,"0",0,0,"0",0]
[null,null,null,null,null,null,null,null,null,null,null,null,null,null,null,null,null,null,null,null,null,null,null,null,null,null,null,null,null,null,null,null,null,null,null,null,null,null,null,null,null,null,null,null,{"$f":"IF(K130=\"\",\"\",L130-K130)","v":""},{"$f":"IF(M130=\"\",\"\",R130-M130)","v":""},{"$f":"IF(U130=\"\",\"\",U130-R130)","v":""},{"$f":"IF(AM130=\"\",\"\",(AL130+AM130)-(B130+M130))","v":""},{"$f":"IF(N130=\"\",\"\",O130-N130)","v":""},{"$f":"IF(AM130=\"\",\"\",((AL130+AM130)-(B130+O130)))","v":""},{"$f":"IF(B130=\"\",\"\",ROUNDUP(MONTH(B130)/3,0))","v":""},null,{"$f":"COUNTIFS(C130, \">= 35\",F130, \"<>Suspected Stroke Symptoms\",G130,\"No\",O130,\"<>\"\"\")","v":0},{"$f":"COUNTIFS(C130, \">= 35\",F130, \"<>Suspected Stroke Symptoms\",G130,\"No\",O130,\"<>\"\"\",Q130,\"Yes\")","v":0},{"$f":"COUNTIFS(C130,\">=18\",S130,\"=TRUE\",AE130,\"=TRUE\", AM130,\"<>\"\"\")","v":0},{"$f":"COUNTIFS(C130,\">=18\",S130,\"=TRUE\",AE130,\"=TRUE\", AM130,\"<>\"\"\",AV130,\"<=0:90\",BE130,\"0\")","v":0},{"$f":"COUNTIFS(C130,\">=18\",S130,\"=TRUE\",AE130,\"=TRUE\", AM130,\"<>\"\"\",AV130,\"<=1:20\",AW130,\">=0:45\",AX130,\"<=0:30\",BD130, \"0\")","v":0},0,0,0,0,{"$f":"COUNTIFS(C130,\">=18\",S130,\"=TRUE\",AD130,\"=TRUE\", AM130,\"<>\"\"\",AV130,\"<>\"\"\")","v":0},0,0,null,0,"0",0,0,"0",{"$f":"COUNTIFS(C130, \">= 35\",F130, \"<>Suspected Stroke Symptoms\",G130,\"No\",O130,\"<>\"\"\",H130,\"Yes\",BB130,\"0\")","v":0},0,0,{"$f":"IF(SUM(BT130+BU130>=1),\"1\",\"0\")","v":"0"},0,0,"0",0]
[null,null,null,null,null,null,null,null,null,null,null,null,null,null,null,null,null,null,null,null,null,null,null,null,null,null,null,null,null,null,null,null,null,null,null,null,null,null,null,null,null,null,null,null,"","","","","","","",null,0,0,0,0,0,{"$f":"COUNTIFS(C131,\">=35\",F131, \"<>Suspected Stroke Symptoms\",G131,\"NO\",Q131,\"YES\",O131,\"<>\"\"\")","v":0},{"$f":"COUNTIFS(C131,\">=35\",F131, \"<>Suspected Stroke Symptoms\",G131,\"NO\",Q131,\"YES\",O131,\"<>\"\"\",AT131,\"<=0:10\")","v":0},{"$f":"COUNTIFS(C131,\">=35\",S131,\"TRUE\",O131,\"<>\"\"\")","v":0},{"$f":"COUNTIFS(C131,\">=35\",S131,\"TRUE\",O131,\"<>\"\"\",AU131,\"<=0:10\")","v":0},0,{"$f":"COUNTIFS(C131,\">=18\",S131,\"=TRUE\",AD131,\"=TRUE\", AM131,\"<>\"\"\",AX131,\"<=0:30\")","v":0},{"$f":"COUNTIFS(C131,\">=18\",S131,\"=TRUE\",AD131,\"=TRUE\", AM131,\"<>\"\"\", AK131, \"TRUE\",AV131,\"<=1:20\")","v":0},null,{"$f":"SUM(BD131:BE131)","v":0},{"$f":"IF(SUM(BK131+BL131>=1),\"1\",\"0\")","v":"0"},{"$f":"COUNTIFS(C131,\">=18\",S131,\"=TRUE\",AE131,\"=TRUE\", AM131,\"<>\"\"\",AN131,\"<>\",BN131,\"0\")","v":0},{"$f":"COUNTIFS(C131,\">=18\",S131,\"=TRUE\",AE131,\"=TRUE\", AM131,\"<>\"\"\",H131,\"Yes\",BN131,\"0\")","v":0},{"$f":"IF(SUM(BP131+BQ131>=1),\"1\",\"0\")","v":"0"},0,{"$f":"COUNTIFS(C131,\">=35\",S131,\"TRUE\",O131,\"<>\"\"\",H131,\"Yes\",BI131,\"0\")","v":0},{"$f":"COUNTIFS(C131,\">=35\",S131,\"TRUE\",O131,\"<>\"\"\",T131,\"<>\",BI131,\"0\")","v":0},"0",{"$f":"COUNTIFS(C131,\">=18\",S131,\"=TRUE\",AD131,\"=TRUE\", AM131,\"<>\"\"\",AV131,\"<>\",BO131,\"0\")","v":0},{"$f":"COUNTIFS(C131,\">=18\",S131,\"=TRUE\",AD131,\"=TRUE\", AM131,\"<>\"\"\",H131,\"Yes\",BO131,\"0\")","v":0},{"$f":"IF(SUM(BW131+BX131>=1),\"1\",\"0\")","v":"0"},{"$f":"COUNTIFS(C131,\">=35\",F131, \"<>Suspected Stroke Symptoms\",G131,\"NO\",Q131,\"YES\",O131,\"<>\"\"\",H131,\"Yes\")","v":0}]
[null,null,null,null,null,null,null,null,null,null,null,null,null,null,null,null,null,null,null,null,null,null,null,null,null,null,null,null,null,null,null,null,null,null,null,null,null,null,null,null,null,null,null,null,"","","","","","","",null,0,0,0,0,0,0,0,0,0,0,0,0,null,0,"0",0,0,"0",0,0,0,"0",0,0,"0",0]
[null,null,null,null,null,null,null,null,null,null,null,null,null,null,null,null,null,null,null,null,null,null,null,null,null,null,null,null,null,null,null,null,null,null,null,null,null,null,null,null,null,null,null,null,"","","","","","","",null,0,0,0,0,0,0,0,0,0,0,0,0,null,0,"0",0,0,"0",0,0,0,"0",0,0,"0",0]
[null,null,null,null,null,null,null,null,null,null,null,null,null,null,null,null,null,null,null,null,null,null,null,null,null,null,null,null,null,null,null,null,null,null,null,null,null,null,null,null,null,null,null,null,"","","","","","","",null,0,0,0,0,0,0,0,0,0,0,0,0,null,0,"0",0,0,"0",0,0,0,"0",0,0,"0",0]
[null,null,null,null,null,null,null,null,null,null,null,null,null,null,null,null,null,null,null,null,null,null,null,null,null,null,null,null,null,null,null,null,null,null,null,null,null,null,null,null,null,null,null,null,"","","","","","","",null,0,0,0,0,0,0,0,0,0,0,0,0,null,0,"0",0,0,"0",0,0,0,"0",0,0,"0",0]
[null,null,null,null,null,null,null,null,null,null,null,null,null,null,null,null,null,null,null,null,null,null,null,null,null,null,null,null,null,null,null,null,null,null,null,null,null,null,null,null,null,null,null,null,"","","","","","","",null,0,0,0,0,0,0,0,0,0,0,0,0,null,0,"0",0,0,"0",0,0,0,"0",0,0,"0",0]
[null,null,null,null,null,null,null,null,null,null,null,null,null,null,null,null,null,null,null,null,null,null,null,null,null,null,null,null,null,null,null,null,null,null,null,null,null,null,null,null,null,null,null,null,"","","","","","","",null,0,0,0,0,0,0,0,0,0,0,0,0,null,0,"0",0,0,"0",0,0,0,"0",0,0,"0",0]
[null,null,null,null,null,null,null,null,null,null,null,null,null,null,null,null,null,null,null,null,null,null,null,null,null,null,null,null,null,null,null,null,null,null,null,null,null,null,null,null,null,null,null,null,"","","","","","","",null,0,0,0,0,0,0,0,0,0,0,0,0,null,0,"0",0,0,"0",0,0,0,"0",0,0,"0",0]
[null,null,null,null,null,null,null,null,null,null,null,null,null,null,null,null,null,null,null,null,null,null,null,null,null,null,null,null,null,null,null,null,null,null,null,null,null,null,null,null,null,null,null,null,"","","","","","","",null,0,0,0,0,0,0,0,0,0,0,0,0,null,0,"0",0,0,"0",0,0,0,"0",0,0,"0",0]
[null,null,null,null,null,null,null,null,null,null,null,null,null,null,null,null,null,null,null,null,null,null,null,null,null,null,null,null,null,null,null,null,null,null,null,null,null,null,null,null,null,null,null,null,"","","","","","","",null,0,0,0,0,0,0,0,0,0,0,0,0,null,0,"0",0,0,"0",0,0,0,"0",0,0,"0",0]
[null,null,null,null,null,null,null,null,null,null,null,null,null,null,null,null,null,null,null,null,null,null,null,null,null,null,null,null,null,null,null,null,null,null,null,null,null,null,null,null,null,null,null,null,"","","","","","","",null,0,0,0,0,0,0,0,0,0,0,0,0,null,0,"0",0,0,"0",0,0,0,"0",0,0,"0",0]
[null,null,null,null,null,null,null,null,null,null,null,null,null,null,null,null,null,null,null,null,null,null,null,null,null,null,null,null,null,null,null,null,null,null,null,null,null,null,null,null,null,null,null,null,"","","","","","","",null,0,0,0,0,0,0,0,0,0,0,0,0,null,0,"0",0,0,"0",0,0,0,"0",0,0,"0",0]
[null,null,null,null,null,null,null,null,null,null,null,null,null,null,null,null,null,null,null,null,null,null,null,null,null,null,null,null,null,null,null,null,null,null,null,null,null,null,null,null,null,null,null,null,"","","","","","","",null,0,0,0,0,0,0,0,0,0,0,0,0,null,0,"0",0,0,"0",0,0,0,"0",0,0,"0",0]
[null,null,null,null,null,null,null,null,null,null,null,null,null,null,null,null,null,null,null,null,null,null,null,null,null,null,null,null,null,null,null,null,null,null,null,null,null,null,null,null,null,null,null,null,"","","","","","","",null,0,0,0,0,0,0,0,0,0,0,0,0,null,0,"0",0,0,"0",0,0,0,"0",0,0,"0",0]
[null,null,null,null,null,null,null,null,null,null,null,null,null,null,null,null,null,null,null,null,null,null,null,null,null,null,null,null,null,null,null,null,null,null,null,null,null,null,null,null,null,null,null,null,"","","","","","","",null,0,0,0,0,0,0,0,0,0,0,0,0,null,0,"0",0,0,"0",0,0,0,"0",0,0,"0",0]
[null,null,null,null,null,null,null,null,null,null,null,null,null,null,null,null,null,null,null,null,null,null,null,null,null,null,null,null,null,null,null,null,null,null,null,null,null,null,null,null,null,null,null,null,"","","","","","","",null,0,0,0,0,0,0,0,0,0,0,0,0,null,0,"0",0,0,"0",0,0,0,"0",0,0,"0",0]
[null,null,null,null,null,null,null,null,null,null,null,null,null,null,null,null,null,null,null,null,null,null,null,null,null,null,null,null,null,null,null,null,null,null,null,null,null,null,null,null,null,null,null,null,"","","","","","","",null,0,0,0,0,0,0,0,0,0,0,0,0,null,0,"0",0,0,"0",0,0,0,"0",0,0,"0",0]
[null,null,null,null,null,null,null,null,null,null,null,null,null,null,null,null,null,null,null,null,null,null,null,null,null,null,null,null,null,null,null,null,null,null,null,null,null,null,null,null,null,null,null,null,"","","","","","","",null,0,0,0,0,0,0,0,0,0,0,0,0,null,0,"0",0,0,"0",0,0,0,"0",0,0,"0",0]
[null,null,null,null,null,null,null,null,null,null,null,null,null,null,null,null,null,null,null,null,null,null,null,null,null,null,null,null,null,null,null,null,null,null,null,null,null,null,null,null,null,null,null,null,"","","","","","","",null,0,0,0,0,0,0,0,0,0,0,0,0,null,0,"0",0,0,"0",0,0,0,"0",0,0,"0",0]
[null,null,null,null,null,null,null,null,null,null,null,null,null,null,null,null,null,null,null,null,null,null,null,null,null,null,null,null,null,null,null,null,null,null,null,null,null,null,null,null,null,null,null,null,"","","","","","","",null,0,0,0,0,0,0,0,0,0,0,0,0,null,0,"0",0,0,"0",0,0,0,"0",0,0,"0",0]
[null,null,null,null,null,null,null,null,null,null,null,null,null,null,null,null,null,null,null,null,null,null,null,null,null,null,null,null,null,null,null,null,null,null,null,null,null,null,null,null,null,null,null,null,"","","","","","","",null,0,0,0,0,0,0,0,0,0,0,0,0,null,0,"0",0,0,"0",0,0,0,"0",0,0,"0",0]
[null,null,null,null,null,null,null,null,null,null,null,null,null,null,null,null,null,null,null,null,null,null,null,null,null,null,null,null,null,null,null,null,null,null,null,null,null,null,null,null,null,null,null,null,"","","","","","","",null,0,0,0,0,0,0,0,0,0,0,0,0,null,0,"0",0,0,"0",0,0,0,"0",0,0,"0",0]
[null,null,null,null,null,null,null,null,null,null,null,null,null,null,null,null,null,null,null,null,null,null,null,null,null,null,null,null,null,null,null,null,null,null,null,null,null,null,null,null,null,null,null,null,"","","","","","","",null,0,0,0,0,0,0,0,0,0,0,0,0,null,0,"0",0,0,"0",0,0,0,"0",0,0,"0",0]
[null,null,null,null,null,null,null,null,null,null,null,null,null,null,null,null,null,null,null,null,null,null,null,null,null,null,null,null,null,null,null,null,null,null,null,null,null,null,null,null,null,null,null,null,"","","","","","","",null,0,0,0,0,0,0,0,0,0,0,0,0,null,0,"0",0,0,"0",0,0,0,"0",0,0,"0",0]
[null,null,null,null,null,null,null,null,null,null,null,null,null,null,null,null,null,null,null,null,null,null,null,null,null,null,null,null,null,null,null,null,null,null,null,null,null,null,null,null,null,null,null,null,"","","","","","","",null,0,0,0,0,0,0,0,0,0,0,0,0,null,0,"0",0,0,"0",0,0,0,"0",0,0,"0",0]
[null,null,null,null,null,null,null,null,null,null,null,null,null,null,null,null,null,null,null,null,null,null,null,null,null,null,null,null,null,null,null,null,null,null,null,null,null,null,null,null,null,null,null,null,"","","","","","","",null,0,0,0,0,0,0,0,0,0,0,0,0,null,0,"0",0,0,"0",0,0,0,"0",0,0,"0",0]
[null,null,null,null,null,null,null,null,null,null,null,null,null,null,null,null,null,null,null,null,null,null,null,null,null,null,null,null,null,null,null,null,null,null,null,null,null,null,null,null,null,null,null,null,"","","","","","","",null,0,0,0,0,0,0,0,0,0,0,0,0,null,0,"0",0,0,"0",0,0,0,"0",0,0,"0",0]
[null,null,null,null,null,null,null,null,null,null,null,null,null,null,null,null,null,null,null,null,null,null,null,null,null,null,null,null,null,null,null,null,null,null,null,null,null,null,null,null,null,null,null,null,"","","","","","","",null,0,0,0,0,0,0,0,0,0,0,0,0,null,0,"0",0,0,"0",0,0,0,"0",0,0,"0",0]
[null,null,null,null,null,null,null,null,null,null,null,null,null,null,null,null,null,null,null,null,null,null,null,null,null,null,null,null,null,null,null,null,null,null,null,null,null,null,null,null,null,null,null,null,"","","","","","","",null,0,0,0,0,0,0,0,0,0,0,0,0,null,0,"0",0,0,"0",0,0,0,"0",0,0,"0",0]
[null,null,null,null,null,null,null,null,null,null,null,null,null,null,null,null,null,null,null,null,null,null,null,null,null,null,null,null,null,null,null,null,null,null,null,null,null,null,null,null,null,null,null,null,"","","","","","","",null,0,0,0,0,0,0,0,0,0,0,0,0,null,0,"0",0,0,"0",0,0,0,"0",0,0,"0",0]
[null,null,null,null,null,null,null,null,null,null,null,null,null,null,null,null,null,null,null,null,null,null,null,null,null,null,null,null,null,null,null,null,null,null,null,null,null,null,null,null,null,null,null,null,"","","","","","","",null,0,0,0,0,0,0,0,0,0,0,0,0,null,0,"0",0,0,"0",0,0,0,"0",0,0,"0",0]
[null,null,null,null,null,null,null,null,null,null,null,null,null,null,null,null,null,null,null,null,null,null,null,null,null,null,null,null,null,null,null,null,null,null,null,null,null,null,null,null,null,null,null,null,"","","","","","","",null,0,0,0,0,0,0,0,0,0,0,0,0,null,0,"0",0,0,"0",0,0,0,"0",0,0,"0",0]
[null,null,null,null,null,null,null,null,null,null,null,null,null,null,null,null,null,null,null,null,null,null,null,null,null,null,null,null,null,null,null,null,null,null,null,null,null,null,null,null,null,null,null,null,"","","","","","","",null,0,0,0,0,0,0,0,0,0,0,0,0,null,0,"0",0,0,"0",0,0,0,"0",0,0,"0",0]
[null,null,null,null,null,null,null,null,null,null,null,null,null,null,null,null,null,null,null,null,null,null,null,null,null,null,null,null,null,null,null,null,null,null,null,null,null,null,null,null,null,null,null,null,"","","","","","","",null,0,0,0,0,0,0,0,0,0,0,0,0,null,0,"0",0,0,"0",0,0,0,"0",0,0,"0",0]
[null,null,null,null,null,null,null,null,null,null,null,null,null,null,null,null,null,null,null,null,null,null,null,null,null,null,null,null,null,null,null,null,null,null,null,null,null,null,null,null,null,null,null,null,"","","","","","","",null,0,0,0,0,0,0,0,0,0,0,0,0,null,0,"0",0,0,"0",0,0,0,"0",0,0,"0",0]
[null,null,null,null,null,null,null,null,null,null,null,null,null,null,null,null,null,null,null,null,null,null,null,null,null,null,null,null,null,null,null,null,null,null,null,null,null,null,null,null,null,null,null,null,"","","","","","","",null,0,0,0,0,0,0,0,0,0,0,0,0,null,0,"0",0,0,"0",0,0,0,"0",0,0,"0",0]
[null,null,null,null,null,null,null,null,null,null,null,null,null,null,null,null,null,null,null,null,null,null,null,null,null,null,null,null,null,null,null,null,null,null,null,null,null,null,null,null,null,null,null,null,"","","","","","","",null,0,0,0,0,0,0,0,0,0,0,0,0,null,0,"0",0,0,"0",0,0,0,"0",0,0,"0",0]
[null,null,null,null,null,null,null,null,null,null,null,null,null,null,null,null,null,null,null,null,null,null,null,null,null,null,null,null,null,null,null,null,null,null,null,null,null,null,null,null,null,null,null,null,"","","","","","","",null,0,0,0,0,0,0,0,0,0,0,0,0,null,0,"0",0,0,"0",0,0,0,"0",0,0,"0",0]
[null,null,null,null,null,null,null,null,null,null,null,null,null,null,null,null,null,null,null,null,null,null,null,null,null,null,null,null,null,null,null,null,null,null,null,null,null,null,null,null,null,null,null,null,"","","","","","","",null,0,0,0,0,0,0,0,0,0,0,0,0,null,0,"0",0,0,"0",0,0,0,"0",0,0,"0",0]
[null,null,null,null,null,null,null,null,null,null,null,null,null,null,null,null,null,null,null,null,null,null,null,null,null,null,null,null,null,null,null,null,null,null,null,null,null,null,null,null,null,null,null,null,"","","","","","","",null,0,0,0,0,0,0,0,0,0,0,0,0,null,0,"0",0,0,"0",0,0,0,"0",0,0,"0",0]
[null,null,null,null,null,null,null,null,null,null,null,null,null,null,null,null,null,null,null,null,null,null,null,null,null,null,null,null,null,null,null,null,null,null,null,null,null,null,null,null,null,null,null,null,"","","","","","","",null,0,0,0,0,0,0,0,0,0,0,0,0,null,0,"0",0,0,"0",0,0,0,"0",0,0,"0",0]
[null,null,null,null,null,null,null,null,null,null,null,null,null,null,null,null,null,null,null,null,null,null,null,null,null,null,null,null,null,null,null,null,null,null,null,null,null,null,null,null,null,null,null,null,"","","","","","","",null,0,0,0,0,0,0,0,0,0,0,0,0,null,0,"0",0,0,"0",0,0,0,"0",0,0,"0",0]
[null,null,null,null,null,null,null,null,null,null,null,null,null,null,null,null,null,null,null,null,null,null,null,null,null,null,null,null,null,null,null,null,null,null,null,null,null,null,null,null,null,null,null,null,"","","","","","","",null,0,0,0,0,0,0,0,0,0,0,0,0,null,0,"0",0,0,"0",0,0,0,"0",0,0,"0",0]
[null,null,null,null,null,null,null,null,null,null,null,null,null,null,null,null,null,null,null,null,null,null,null,null,null,null,null,null,null,null,null,null,null,null,null,null,null,null,null,null,null,null,null,null,"","","","","","","",null,0,0,0,0,0,0,0,0,0,0,0,0,null,0,"0",0,0,"0",0,0,0,"0",0,0,"0",0]
[null,null,null,null,null,null,null,null,null,null,null,null,null,null,null,null,null,null,null,null,null,null,null,null,null,null,null,null,null,null,null,null,null,null,null,null,null,null,null,null,null,null,null,null,"","","","","","","",null,0,0,0,0,0,0,0,0,0,0,0,0,null,0,"0",0,0,"0",0,0,0,"0",0,0,"0",0]
[null,null,null,null,null,null,null,null,null,null,null,null,null,null,null,null,null,null,null,null,null,null,null,null,null,null,null,null,null,null,null,null,null,null,null,null,null,null,null,null,null,null,null,null,"","","","","","","",null,0,0,0,0,0,0,0,0,0,0,0,0,null,0,"0",0,0,"0",0,0,0,"0",0,0,"0",0]
[null,null,null,null,null,null,null,null,null,null,null,null,null,null,null,null,null,null,null,null,null,null,null,null,null,null,null,null,null,null,null,null,null,null,null,null,null,null,null,null,null,null,null,null,"","","","","","","",null,0,0,0,0,0,0,0,0,0,0,0,0,null,0,"0",0,0,"0",0,0,0,"0",0,0,"0",0]
[null,null,null,null,null,null,null,null,null,null,null,null,null,null,null,null,null,null,null,null,null,null,null,null,null,null,null,null,null,null,null,null,null,null,null,null,null,null,null,null,null,null,null,null,"","","","","","","",null,0,0,0,0,0,0,0,0,0,0,0,0,null,0,"0",0,0,"0",0,0,0,"0",0,0,"0",0]
[null,null,null,null,null,null,null,null,null,null,null,null,null,null,null,null,null,null,null,null,null,null,null,null,null,null,null,null,null,null,null,null,null,null,null,null,null,null,null,null,null,null,null,null,"","","","","","","",null,0,0,0,0,0,0,0,0,0,0,0,0,null,0,"0",0,0,"0",0,0,0,"0",0,0,"0",0]
[null,null,null,null,null,null,null,null,null,null,null,null,null,null,null,null,null,null,null,null,null,null,null,null,null,null,null,null,null,null,null,null,null,null,null,null,null,null,null,null,null,null,null,null,"","","","","","","",null,0,0,0,0,0,0,0,0,0,0,0,0,null,0,"0",0,0,"0",0,0,0,"0",0,0,"0",0]
[null,null,null,null,null,null,null,null,null,null,null,null,null,null,null,null,null,null,null,null,null,null,null,null,null,null,null,null,null,null,null,null,null,null,null,null,null,null,null,null,null,null,null,null,"","","","","","","",null,0,0,0,0,0,0,0,0,0,0,0,0,null,0,"0",0,0,"0",0,0,0,"0",0,0,"0",0]
[null,null,null,null,null,null,null,null,null,null,null,null,null,null,null,null,null,null,null,null,null,null,null,null,null,null,null,null,null,null,null,null,null,null,null,null,null,null,null,null,null,null,null,null,"","","","","","","",null,0,0,0,0,0,0,0,0,0,0,0,0,null,0,"0",0,0,"0",0,0,0,"0",0,0,"0",0]
[null,null,null,null,null,null,null,null,null,null,null,null,null,null,null,null,null,null,null,null,null,null,null,null,null,null,null,null,null,null,null,null,null,null,null,null,null,null,null,null,null,null,null,null,"","","","","","","",null,0,0,0,0,0,0,0,0,0,0,0,0,null,0,"0",0,0,"0",0,0,0,"0",0,0,"0",0]
[null,null,null,null,null,null,null,null,null,null,null,null,null,null,null,null,null,null,null,null,null,null,null,null,null,null,null,null,null,null,null,null,null,null,null,null,null,null,null,null,null,null,null,null,"","","","","","","",null,0,0,0,0,0,0,0,0,0,0,0,0,null,0,"0",0,0,"0",0,0,0,"0",0,0,"0",0]
[null,null,null,null,null,null,null,null,null,null,null,null,null,null,null,null,null,null,null,null,null,null,null,null,null,null,null,null,null,null,null,null,null,null,null,null,null,null,null,null,null,null,null,null,"","","","","","","",null,0,0,0,0,0,0,0,0,0,0,0,0,null,0,"0",0,0,"0",0,0,0,"0",0,0,"0",0]
[null,null,null,null,null,null,null,null,null,null,null,null,null,null,null,null,null,null,null,null,null,null,null,null,null,null,null,null,null,null,null,null,null,null,null,null,null,null,null,null,null,null,null,null,"","","","","","","",null,0,0,0,0,0,0,0,0,0,0,0,0,null,0,"0",0,0,"0",0,0,0,"0",0,0,"0",0]
[null,null,null,null,null,null,null,null,null,null,null,null,null,null,null,null,null,null,null,null,null,null,null,null,null,null,null,null,null,null,null,null,null,null,null,null,null,null,null,null,null,null,null,null,"","","","","","","",null,0,0,0,0,0,0,0,0,0,0,0,0,null,0,"0",0,0,"0",0,0,0,"0",0,0,"0",0]
[null,null,null,null,null,null,null,null,null,null,null,null,null,null,null,null,null,null,null,null,null,null,null,null,null,null,null,null,null,null,null,null,null,null,null,null,null,null,null,null,null,null,null,null,"","","","","","","",null,0,0,0,0,0,0,0,0,0,0,0,0,null,0,"0",0,0,"0",0,0,0,"0",0,0,"0",0]
[null,null,null,null,null,null,null,null,null,null,null,null,null,null,null,null,null,null,null,null,null,null,null,null,null,null,null,null,null,null,null,null,null,null,null,null,null,null,null,null,null,null,null,null,"","","","","","","",null,0,0,0,0,0,0,0,0,0,0,0,0,null,0,"0",0,0,"0",0,0,0,"0",0,0,"0",0]
[null,null,null,null,null,null,null,null,null,null,null,null,null,null,null,null,null,null,null,null,null,null,null,null,null,null,null,null,null,null,null,null,null,null,null,null,null,null,null,null,null,null,null,null,"","","","","","","",null,0,0,0,0,0,0,0,0,0,0,0,0,null,0,"0",0,0,"0",0,0,0,"0",0,0,"0",0]
[null,null,null,null,null,null,null,null,null,null,null,null,null,null,null,null,null,null,null,null,null,null,null,null,null,null,null,null,null,null,null,null,null,null,null,null,null,null,null,null,null,null,null,null,"","","","","","","",null,0,0,0,0,0,0,0,0,0,0,0,0,null,0,"0",0,0,"0",0,0,0,"0",0,0,"0",0]
[null,null,null,null,null,null,null,null,null,null,null,null,null,null,null,null,null,null,null,null,null,null,null,null,null,null,null,null,null,null,null,null,null,null,null,null,null,null,null,null,null,null,null,null,"","","","","","","",null,0,0,0,0,0,0,0,0,0,0,0,0,null,0,"0",0,0,"0",0,0,0,"0",0,0,"0",0]
[null,null,null,null,null,null,null,null,null,null,null,null,null,null,null,null,null,null,null,null,null,null,null,null,null,null,null,null,null,null,null,null,null,null,null,null,null,null,null,null,null,null,null,null,"","","","","","","",null,0,0,0,0,0,0,0,0,0,0,0,0,null,0,"0",0,0,"0",0,0,0,{"$f":"IF(SUM(BT193+BU193>=1),\"1\",\"0\")","v":"0"},0,0,"0",0]
[null,null,null,null,null,null,null,null,null,null,null,null,null,null,null,null,null,null,null,null,null,null,null,null,null,null,null,null,null,null,null,null,null,null,null,null,null,null,null,null,null,null,null,null,{"$f":"IF(K194=\"\",\"\",L194-K194)","v":""},{"$f":"IF(M194=\"\",\"\",R194-M194)","v":""},{"$f":"IF(U194=\"\",\"\",U194-R194)","v":""},{"$f":"IF(AM194=\"\",\"\",(AL194+AM194)-(B194+M194))","v":""},{"$f":"IF(N194=\"\",\"\",O194-N194)","v":""},{"$f":"IF(AM194=\"\",\"\",((AL194+AM194)-(B194+O194)))","v":""},{"$f":"IF(B194=\"\",\"\",ROUNDUP(MONTH(B194)/3,0))","v":""},null,{"$f":"COUNTIFS(C194, \">= 35\",F194, \"<>Suspected Stroke Symptoms\",G194,\"No\",O194,\"<>\"\"\")","v":0},{"$f":"COUNTIFS(C194, \">= 35\",F194, \"<>Suspected Stroke Symptoms\",G194,\"No\",O194,\"<>\"\"\",Q194,\"Yes\")","v":0},{"$f":"COUNTIFS(C194,\">=18\",S194,\"=TRUE\",AE194,\"=TRUE\", AM194,\"<>\"\"\")","v":0},{"$f":"COUNTIFS(C194,\">=18\",S194,\"=TRUE\",AE194,\"=TRUE\", AM194,\"<>\"\"\",AV194,\"<=0:90\",BE194,\"0\")","v":0},{"$f":"COUNTIFS(C194,\">=18\",S194,\"=TRUE\",AE194,\"=TRUE\", AM194,\"<>\"\"\",AV194,\"<=1:20\",AW194,\">=0:45\",AX194,\"<=0:30\",BD194, \"0\")","v":0},0,0,0,0,{"$f":"COUNTIFS(C194,\">=18\",S194,\"=TRUE\",AD194,\"=TRUE\", AM194,\"<>\"\"\",AV194,\"<>\"\"\")","v":0},0,0,null,{"$f":"SUM(BD194:BE194)","v":0},"0",{"$f":"COUNTIFS(C194,\">=18\",S194,\"=TRUE\",AE194,\"=TRUE\", AM194,\"<>\"\"\",AN194,\"<>\",BN194,\"0\")","v":0},{"$f":"COUNTIFS(C194,\">=18\",S194,\"=TRUE\",AE194,\"=TRUE\", AM194,\"<>\"\"\",H194,\"Yes\",BN194,\"0\")","v":0},{"$f":"IF(SUM(BP194+BQ194>=1),\"1\",\"0\")","v":"0"},{"$f":"COUNTIFS(C194, \">= 35\",F194, \"<>Suspected Stroke Symptoms\",G194,\"No\",O194,\"<>\"\"\",H194,\"Yes\",BB194,\"0\")","v":0},0,0,"0",0,0,"0",0]
[null,null,null,null,null,null,null,null,null,null,null,null,null,null,null,null,null,null,null,null,null,null,null,null,null,null,null,null,null,null,null,null,null,null,null,null,null,null,null,null,null,null,null,null,"","","","","","","",null,0,0,0,0,0,{"$f":"COUNTIFS(C195,\">=35\",F195, \"<>Suspected Stroke Symptoms\",G195,\"NO\",Q195,\"YES\",O195,\"<>\"\"\")","v":0},{"$f":"COUNTIFS(C195,\">=35\",F195, \"<>Suspected Stroke Symptoms\",G195,\"NO\",Q195,\"YES\",O195,\"<>\"\"\",AT195,\"<=0:10\")","v":0},{"$f":"COUNTIFS(C195,\">=35\",S195,\"TRUE\",O195,\"<>\"\"\")","v":0},{"$f":"COUNTIFS(C195,\">=35\",S195,\"TRUE\",O195,\"<>\"\"\",AU195,\"<=0:10\")","v":0},0,{"$f":"COUNTIFS(C195,\">=18\",S195,\"=TRUE\",AD195,\"=TRUE\", AM195,\"<>\"\"\",AX195,\"<=0:30\")","v":0},{"$f":"COUNTIFS(C195,\">=18\",S195,\"=TRUE\",AD195,\"=TRUE\", AM195,\"<>\"\"\", AK195, \"TRUE\",AV195,\"<=1:20\")","v":0},null,0,{"$f":"IF(SUM(BK195+BL195>=1),\"1\",\"0\")","v":"0"},0,0,"0",0,{"$f":"COUNTIFS(C195,\">=35\",S195,\"TRUE\",O195,\"<>\"\"\",H195,\"Yes\",BI195,\"0\")","v":0},{"$f":"COUNTIFS(C195,\">=35\",S195,\"TRUE\",O195,\"<>\"\"\",T195,\"<>\",BI195,\"0\")","v":0},"0",{"$f":"COUNTIFS(C195,\">=18\",S195,\"=TRUE\",AD195,\"=TRUE\", AM195,\"<>\"\"\",AV195,\"<>\",BO195,\"0\")","v":0},{"$f":"COUNTIFS(C195,\">=18\",S195,\"=TRUE\",AD195,\"=TRUE\", AM195,\"<>\"\"\",H195,\"Yes\",BO195,\"0\")","v":0},{"$f":"IF(SUM(BW195+BX195>=1),\"1\",\"0\")","v":"0"},{"$f":"COUNTIFS(C195,\">=35\",F195, \"<>Suspected Stroke Symptoms\",G195,\"NO\",Q195,\"YES\",O195,\"<>\"\"\",H195,\"Yes\")","v":0}]
[null,null,null,null,null,null,null,null,null,null,null,null,null,null,null,null,null,null,null,null,null,null,null,null,null,null,null,null,null,null,null,null,null,null,null,null,null,null,null,null,null,null,null,null,"","","","","","","",null,0,0,0,0,0,0,0,0,0,0,0,0,null,0,"0",0,0,"0",0,0,0,"0",0,0,"0",0]
[null,null,null,null,null,null,null,null,null,null,null,null,null,null,null,null,null,null,null,null,null,null,null,null,null,null,null,null,null,null,null,null,null,null,null,null,null,null,null,null,null,null,null,null,"","","","","","","",null,0,0,0,0,0,0,0,0,0,0,0,0,null,0,"0",0,0,"0",0,0,0,"0",0,0,"0",0]
[null,null,null,null,null,null,null,null,null,null,null,null,null,null,null,null,null,null,null,null,null,null,null,null,null,null,null,null,null,null,null,null,null,null,null,null,null,null,null,null,null,null,null,null,"","","","","","","",null,0,0,0,0,0,0,0,0,0,0,0,0,null,0,"0",0,0,"0",0,0,0,"0",0,0,"0",0]
[null,null,null,null,null,null,null,null,null,null,null,null,null,null,null,null,null,null,null,null,null,null,null,null,null,null,null,null,null,null,null,null,null,null,null,null,null,null,null,null,null,null,null,null,"","","","","","","",null,0,0,0,0,0,0,0,0,0,0,0,0,null,0,"0",0,0,"0",0,0,0,"0",0,0,"0",0]
[null,null,null,null,null,null,null,null,null,null,null,null,null,null,null,null,null,null,null,null,null,null,null,null,null,null,null,null,null,null,null,null,null,null,null,null,null,null,null,null,null,null,null,null,"","","","","","","",null,0,0,0,0,0,0,0,0,0,0,0,0,null,0,"0",0,0,"0",0,0,0,"0",0,0,"0",0]
[null,null,null,null,null,null,null,null,null,null,null,null,null,null,null,null,null,null,null,null,null,null,null,null,null,null,null,null,null,null,null,null,null,null,null,null,null,null,null,null,null,null,null,null,"","","","","","","",null,0,0,0,0,0,0,0,0,0,0,0,0,null,0,"0",0,0,"0",0,0,0,"0",0,0,"0",0]
[null,null,null,null,null,null,null,null,null,null,null,null,null,null,null,null,null,null,null,null,null,null,null,null,null,null,null,null,null,null,null,null,null,null,null,null,null,null,null,null,null,null,null,null,"","","","","","","",null,0,0,0,0,0,0,0,0,0,0,0,0,null,0,"0",0,0,"0",0,0,0,"0",0,0,"0",0]
[null,null,null,null,null,null,null,null,null,null,null,null,null,null,null,null,null,null,null,null,null,null,null,null,null,null,null,null,null,null,null,null,null,null,null,null,null,null,null,null,null,null,null,null,"","","","","","","",null,0,0,0,0,0,0,0,0,0,0,0,0,null,0,"0",0,0,"0",0,0,0,"0",0,0,"0",0]
[null,null,null,null,null,null,null,null,null,null,null,null,null,null,null,null,null,null,null,null,null,null,null,null,null,null,null,null,null,null,null,null,null,null,null,null,null,null,null,null,null,null,null,null,"","","","","","","",null,0,0,0,0,0,0,0,0,0,0,0,0,null,0,"0",0,0,"0",0,0,0,"0",0,0,"0",0]
[null,null,null,null,null,null,null,null,null,null,null,null,null,null,null,null,null,null,null,null,null,null,null,null,null,null,null,null,null,null,null,null,null,null,null,null,null,null,null,null,null,null,null,null,"","","","","","","",null,0,0,0,0,0,0,0,0,0,0,0,0,null,0,"0",0,0,"0",0,0,0,"0",0,0,"0",0]
[null,null,null,null,null,null,null,null,null,null,null,null,null,null,null,null,null,null,null,null,null,null,null,null,null,null,null,null,null,null,null,null,null,null,null,null,null,null,null,null,null,null,null,null,"","","","","","","",null,0,0,0,0,0,0,0,0,0,0,0,0,null,0,"0",0,0,"0",0,0,0,"0",0,0,"0",0]
[null,null,null,null,null,null,null,null,null,null,null,null,null,null,null,null,null,null,null,null,null,null,null,null,null,null,null,null,null,null,null,null,null,null,null,null,null,null,null,null,null,null,null,null,"","","","","","","",null,0,0,0,0,0,0,0,0,0,0,0,0,null,0,"0",0,0,"0",0,0,0,"0",0,0,"0",0]
[null,null,null,null,null,null,null,null,null,null,null,null,null,null,null,null,null,null,null,null,null,null,null,null,null,null,null,null,null,null,null,null,null,null,null,null,null,null,null,null,null,null,null,null,"","","","","","","",null,0,0,0,0,0,0,0,0,0,0,0,0,null,0,"0",0,0,"0",0,0,0,"0",0,0,"0",0]
[null,null,null,null,null,null,null,null,null,null,null,null,null,null,null,null,null,null,null,null,null,null,null,null,null,null,null,null,null,null,null,null,null,null,null,null,null,null,null,null,null,null,null,null,"","","","","","","",null,0,0,0,0,0,0,0,0,0,0,0,0,null,0,"0",0,0,"0",0,0,0,"0",0,0,"0",0]
[null,null,null,null,null,null,null,null,null,null,null,null,null,null,null,null,null,null,null,null,null,null,null,null,null,null,null,null,null,null,null,null,null,null,null,null,null,null,null,null,null,null,null,null,"","","","","","","",null,0,0,0,0,0,0,0,0,0,0,0,0,null,0,"0",0,0,"0",0,0,0,"0",0,0,"0",0]
[null,null,null,null,null,null,null,null,null,null,null,null,null,null,null,null,null,null,null,null,null,null,null,null,null,null,null,null,null,null,null,null,null,null,null,null,null,null,null,null,null,null,null,null,"","","","","","","",null,0,0,0,0,0,0,0,0,0,0,0,0,null,0,"0",0,0,"0",0,0,0,"0",0,0,"0",0]
[null,null,null,null,null,null,null,null,null,null,null,null,null,null,null,null,null,null,null,null,null,null,null,null,null,null,null,null,null,null,null,null,null,null,null,null,null,null,null,null,null,null,null,null,"","","","","","","",null,0,0,0,0,0,0,0,0,0,0,0,0,null,0,"0",0,0,"0",0,0,0,"0",0,0,"0",0]
[null,null,null,null,null,null,null,null,null,null,null,null,null,null,null,null,null,null,null,null,null,null,null,null,null,null,null,null,null,null,null,null,null,null,null,null,null,null,null,null,null,null,null,null,"","","","","","","",null,0,0,0,0,0,0,0,0,0,0,0,0,null,0,"0",0,0,"0",0,0,0,"0",0,0,"0",0]
[null,null,null,null,null,null,null,null,null,null,null,null,null,null,null,null,null,null,null,null,null,null,null,null,null,null,null,null,null,null,null,null,null,null,null,null,null,null,null,null,null,null,null,null,"","","","","","","",null,0,0,0,0,0,0,0,0,0,0,0,0,null,0,"0",0,0,"0",0,0,0,"0",0,0,"0",0]
[null,null,null,null,null,null,null,null,null,null,null,null,null,null,null,null,null,null,null,null,null,null,null,null,null,null,null,null,null,null,null,null,null,null,null,null,null,null,null,null,null,null,null,null,"","","","","","","",null,0,0,0,0,0,0,0,0,0,0,0,0,null,0,"0",0,0,"0",0,0,0,"0",0,0,"0",0]
[null,null,null,null,null,null,null,null,null,null,null,null,null,null,null,null,null,null,null,null,null,null,null,null,null,null,null,null,null,null,null,null,null,null,null,null,null,null,null,null,null,null,null,null,"","","","","","","",null,0,0,0,0,0,0,0,0,0,0,0,0,null,0,"0",0,0,"0",0,0,0,"0",0,0,"0",0]
[null,null,null,null,null,null,null,null,null,null,null,null,null,null,null,null,null,null,null,null,null,null,null,null,null,null,null,null,null,null,null,null,null,null,null,null,null,null,null,null,null,null,null,null,"","","","","","","",null,0,0,0,0,0,0,0,0,0,0,0,0,null,0,"0",0,0,"0",0,0,0,"0",0,0,"0",0]
[null,null,null,null,null,null,null,null,null,null,null,null,null,null,null,null,null,null,null,null,null,null,null,null,null,null,null,null,null,null,null,null,null,null,null,null,null,null,null,null,null,null,null,null,"","","","","","","",null,0,0,0,0,0,0,0,0,0,0,0,0,null,0,"0",0,0,"0",0,0,0,"0",0,0,"0",0]
[null,null,null,null,null,null,null,null,null,null,null,null,null,null,null,null,null,null,null,null,null,null,null,null,null,null,null,null,null,null,null,null,null,null,null,null,null,null,null,null,null,null,null,null,"","","","","","","",null,0,0,0,0,0,0,0,0,0,0,0,0,null,0,"0",0,0,"0",0,0,0,"0",0,0,"0",0]
[null,null,null,null,null,null,null,null,null,null,null,null,null,null,null,null,null,null,null,null,null,null,null,null,null,null,null,null,null,null,null,null,null,null,null,null,null,null,null,null,null,null,null,null,"","","","","","","",null,0,0,0,0,0,0,0,0,0,0,0,0,null,0,"0",0,0,"0",0,0,0,"0",0,0,"0",0]
[null,null,null,null,null,null,null,null,null,null,null,null,null,null,null,null,null,null,null,null,null,null,null,null,null,null,null,null,null,null,null,null,null,null,null,null,null,null,null,null,null,null,null,null,"","","","","","","",null,0,0,0,0,0,0,0,0,0,0,0,0,null,0,"0",0,0,"0",0,0,0,"0",0,0,"0",0]
[null,null,null,null,null,null,null,null,null,null,null,null,null,null,null,null,null,null,null,null,null,null,null,null,null,null,null,null,null,null,null,null,null,null,null,null,null,null,null,null,null,null,null,null,"","","","","","","",null,0,0,0,0,0,0,0,0,0,0,0,0,null,0,"0",0,0,"0",0,0,0,"0",0,0,"0",0]
[null,null,null,null,null,null,null,null,null,null,null,null,null,null,null,null,null,null,null,null,null,null,null,null,null,null,null,null,null,null,null,null,null,null,null,null,null,null,null,null,null,null,null,null,"","","","","","","",null,0,0,0,0,0,0,0,0,0,0,0,0,null,0,"0",0,0,"0",0,0,0,"0",0,0,"0",0]
[null,null,null,null,null,null,null,null,null,null,null,null,null,null,null,null,null,null,null,null,null,null,null,null,null,null,null,null,null,null,null,null,null,null,null,null,null,null,null,null,null,null,null,null,"","","","","","","",null,0,0,0,0,0,0,0,0,0,0,0,0,null,0,"0",0,0,"0",0,0,0,"0",0,0,"0",0]
[null,null,null,null,null,null,null,null,null,null,null,null,null,null,null,null,null,null,null,null,null,null,null,null,null,null,null,null,null,null,null,null,null,null,null,null,null,null,null,null,null,null,null,null,"","","","","","","",null,0,0,0,0,0,0,0,0,0,0,0,0,null,0,"0",0,0,"0",0,0,0,"0",0,0,"0",0]
[null,null,null,null,null,null,null,null,null,null,null,null,null,null,null,null,null,null,null,null,null,null,null,null,null,null,null,null,null,null,null,null,null,null,null,null,null,null,null,null,null,null,null,null,"","","","","","","",null,0,0,0,0,0,0,0,0,0,0,0,0,null,0,"0",0,0,"0",0,0,0,"0",0,0,"0",0]
[null,null,null,null,null,null,null,null,null,null,null,null,null,null,null,null,null,null,null,null,null,null,null,null,null,null,null,null,null,null,null,null,null,null,null,null,null,null,null,null,null,null,null,null,"","","","","","","",null,0,0,0,0,0,0,0,0,0,0,0,0,null,0,"0",0,0,"0",0,0,0,"0",0,0,"0",0]
[null,null,null,null,null,null,null,null,null,null,null,null,null,null,null,null,null,null,null,null,null,null,null,null,null,null,null,null,null,null,null,null,null,null,null,null,null,null,null,null,null,null,null,null,"","","","","","","",null,0,0,0,0,0,0,0,0,0,0,0,0,null,0,"0",0,0,"0",0,0,0,"0",0,0,"0",0]
[null,null,null,null,null,null,null,null,null,null,null,null,null,null,null,null,null,null,null,null,null,null,null,null,null,null,null,null,null,null,null,null,null,null,null,null,null,null,null,null,null,null,null,null,"","","","","","","",null,0,0,0,0,0,0,0,0,0,0,0,0,null,0,"0",0,0,"0",0,0,0,"0",0,0,"0",0]
[null,null,null,null,null,null,null,null,null,null,null,null,null,null,null,null,null,null,null,null,null,null,null,null,null,null,null,null,null,null,null,null,null,null,null,null,null,null,null,null,null,null,null,null,"","","","","","","",null,0,0,0,0,0,0,0,0,0,0,0,0,null,0,"0",0,0,"0",0,0,0,"0",0,0,"0",0]
[null,null,null,null,null,null,null,null,null,null,null,null,null,null,null,null,null,null,null,null,null,null,null,null,null,null,null,null,null,null,null,null,null,null,null,null,null,null,null,null,null,null,null,null,"","","","","","","",null,0,0,0,0,0,0,0,0,0,0,0,0,null,0,"0",0,0,"0",0,0,0,"0",0,0,"0",0]
[null,null,null,null,null,null,null,null,null,null,null,null,null,null,null,null,null,null,null,null,null,null,null,null,null,null,null,null,null,null,null,null,null,null,null,null,null,null,null,null,null,null,null,null,"","","","","","","",null,0,0,0,0,0,0,0,0,0,0,0,0,null,0,"0",0,0,"0",0,0,0,"0",0,0,"0",0]
[null,null,null,null,null,null,null,null,null,null,null,null,null,null,null,null,null,null,null,null,null,null,null,null,null,null,null,null,null,null,null,null,null,null,null,null,null,null,null,null,null,null,null,null,"","","","","","","",null,0,0,0,0,0,0,0,0,0,0,0,0,null,0,"0",0,0,"0",0,0,0,"0",0,0,"0",0]
[null,null,null,null,null,null,null,null,null,null,null,null,null,null,null,null,null,null,null,null,null,null,null,null,null,null,null,null,null,null,null,null,null,null,null,null,null,null,null,null,null,null,null,null,"","","","","","","",null,0,0,0,0,0,0,0,0,0,0,0,0,null,0,"0",0,0,"0",0,0,0,"0",0,0,"0",0]
[null,null,null,null,null,null,null,null,null,null,null,null,null,null,null,null,null,null,null,null,null,null,null,null,null,null,null,null,null,null,null,null,null,null,null,null,null,null,null,null,null,null,null,null,"","","","","","","",null,0,0,0,0,0,0,0,0,0,0,0,0,null,0,"0",0,0,"0",0,0,0,"0",0,0,"0",0]
[null,null,null,null,null,null,null,null,null,null,null,null,null,null,null,null,null,null,null,null,null,null,null,null,null,null,null,null,null,null,null,null,null,null,null,null,null,null,null,null,null,null,null,null,"","","","","","","",null,0,0,0,0,0,0,0,0,0,0,0,0,null,0,"0",0,0,"0",0,0,0,"0",0,0,"0",0]
[null,null,null,null,null,null,null,null,null,null,null,null,null,null,null,null,null,null,null,null,null,null,null,null,null,null,null,null,null,null,null,null,null,null,null,null,null,null,null,null,null,null,null,null,"","","","","","","",null,0,0,0,0,0,0,0,0,0,0,0,0,null,0,"0",0,0,"0",0,0,0,"0",0,0,"0",0]
[null,null,null,null,null,null,null,null,null,null,null,null,null,null,null,null,null,null,null,null,null,null,null,null,null,null,null,null,null,null,null,null,null,null,null,null,null,null,null,null,null,null,null,null,"","","","","","","",null,0,0,0,0,0,0,0,0,0,0,0,0,null,0,"0",0,0,"0",0,0,0,"0",0,0,"0",0]
[null,null,null,null,null,null,null,null,null,null,null,null,null,null,null,null,null,null,null,null,null,null,null,null,null,null,null,null,null,null,null,null,null,null,null,null,null,null,null,null,null,null,null,null,"","","","","","","",null,0,0,0,0,0,0,0,0,0,0,0,0,null,0,"0",0,0,"0",0,0,0,"0",0,0,"0",0]
[null,null,null,null,null,null,null,null,null,null,null,null,null,null,null,null,null,null,null,null,null,null,null,null,null,null,null,null,null,null,null,null,null,null,null,null,null,null,null,null,null,null,null,null,"","","","","","","",null,0,0,0,0,0,0,0,0,0,0,0,0,null,0,"0",0,0,"0",0,0,0,"0",0,0,"0",0]
[null,null,null,null,null,null,null,null,null,null,null,null,null,null,null,null,null,null,null,null,null,null,null,null,null,null,null,null,null,null,null,null,null,null,null,null,null,null,null,null,null,null,null,null,"","","","","","","",null,0,0,0,0,0,0,0,0,0,0,0,0,null,0,"0",0,0,"0",0,0,0,"0",0,0,"0",0]
[null,null,null,null,null,null,null,null,null,null,null,null,null,null,null,null,null,null,null,null,null,null,null,null,null,null,null,null,null,null,null,null,null,null,null,null,null,null,null,null,null,null,null,null,"","","","","","","",null,0,0,0,0,0,0,0,0,0,0,0,0,null,0,"0",0,0,"0",0,0,0,"0",0,0,"0",0]
[null,null,null,null,null,null,null,null,null,null,null,null,null,null,null,null,null,null,null,null,null,null,null,null,null,null,null,null,null,null,null,null,null,null,null,null,null,null,null,null,null,null,null,null,"","","","","","","",null,0,0,0,0,0,0,0,0,0,0,0,0,null,0,"0",0,0,"0",0,0,0,"0",0,0,"0",0]
[null,null,null,null,null,null,null,null,null,null,null,null,null,null,null,null,null,null,null,null,null,null,null,null,null,null,null,null,null,null,null,null,null,null,null,null,null,null,null,null,null,null,null,null,"","","","","","","",null,0,0,0,0,0,0,0,0,0,0,0,0,null,0,"0",0,0,"0",0,0,0,"0",0,0,"0",0]
[null,null,null,null,null,null,null,null,null,null,null,null,null,null,null,null,null,null,null,null,null,null,null,null,null,null,null,null,null,null,null,null,null,null,null,null,null,null,null,null,null,null,null,null,"","","","","","","",null,0,0,0,0,0,0,0,0,0,0,0,0,null,0,"0",0,0,"0",0,0,0,"0",0,0,"0",0]
[null,null,null,null,null,null,null,null,null,null,null,null,null,null,null,null,null,null,null,null,null,null,null,null,null,null,null,null,null,null,null,null,null,null,null,null,null,null,null,null,null,null,null,null,"","","","","","","",null,0,0,0,0,0,0,0,0,0,0,0,0,null,0,"0",0,0,"0",0,0,0,"0",0,0,"0",0]
[null,null,null,null,null,null,null,null,null,null,null,null,null,null,null,null,null,null,null,null,null,null,null,null,null,null,null,null,null,null,null,null,null,null,null,null,null,null,null,null,null,null,null,null,"","","","","","","",null,0,0,0,0,0,0,0,0,0,0,0,0,null,0,"0",0,0,"0",0,0,0,"0",0,0,"0",0]
[null,null,null,null,null,null,null,null,null,null,null,null,null,null,null,null,null,null,null,null,null,null,null,null,null,null,null,null,null,null,null,null,null,null,null,null,null,null,null,null,null,null,null,null,"","","","","","","",null,0,0,0,0,0,0,0,0,0,0,0,0,null,0,"0",0,0,"0",0,0,0,"0",0,0,"0",0]
[null,null,null,null,null,null,null,null,null,null,null,null,null,null,null,null,null,null,null,null,null,null,null,null,null,null,null,null,null,null,null,null,null,null,null,null,null,null,null,null,null,null,null,null,"","","","","","","",null,0,0,0,0,0,0,0,0,0,0,0,0,null,0,"0",0,0,"0",0,0,0,"0",0,0,"0",0]
[null,null,null,null,null,null,null,null,null,null,null,null,null,null,null,null,null,null,null,null,null,null,null,null,null,null,null,null,null,null,null,null,null,null,null,null,null,null,null,null,null,null,null,null,"","","","","","","",null,0,0,0,0,0,0,0,0,0,0,0,0,null,0,"0",0,0,"0",0,0,0,"0",0,0,"0",0]
[null,null,null,null,null,null,null,null,null,null,null,null,null,null,null,null,null,null,null,null,null,null,null,null,null,null,null,null,null,null,null,null,null,null,null,null,null,null,null,null,null,null,null,null,"","","","","","","",null,0,0,0,0,0,0,0,0,0,0,0,0,null,0,"0",0,0,"0",0,0,0,"0",0,0,"0",0]
[null,null,null,null,null,null,null,null,null,null,null,null,null,null,null,null,null,null,null,null,null,null,null,null,null,null,null,null,null,null,null,null,null,null,null,null,null,null,null,null,null,null,null,null,"","","","","","","",null,0,0,0,0,0,0,0,0,0,0,0,0,null,0,"0",0,0,"0",0,0,0,"0",0,0,"0",0]
[null,null,null,null,null,null,null,null,null,null,null,null,null,null,null,null,null,null,null,null,null,null,null,null,null,null,null,null,null,null,null,null,null,null,null,null,null,null,null,null,null,null,null,null,"","","","","","","",null,0,0,0,0,0,0,0,0,0,0,0,0,null,0,"0",0,0,"0",0,0,0,"0",0,0,"0",0]
[null,null,null,null,null,null,null,null,null,null,null,null,null,null,null,null,null,null,null,null,null,null,null,null,null,null,null,null,null,null,null,null,null,null,null,null,null,null,null,null,null,null,null,null,"","","","","","","",null,0,0,0,0,0,0,0,0,0,0,0,0,null,0,"0",0,0,"0",0,0,0,"0",0,0,"0",0]
[null,null,null,null,null,null,null,null,null,null,null,null,null,null,null,null,null,null,null,null,null,null,null,null,null,null,null,null,null,null,null,null,null,null,null,null,null,null,null,null,null,null,null,null,"","","","","","","",null,0,0,0,0,0,0,0,0,0,0,0,0,null,0,"0",0,0,"0",0,0,0,"0",0,0,"0",0]
[null,null,null,null,null,null,null,null,null,null,null,null,null,null,null,null,null,null,null,null,null,null,null,null,null,null,null,null,null,null,null,null,null,null,null,null,null,null,null,null,null,null,null,null,"","","","","","","",null,0,0,0,0,0,0,0,0,0,0,0,0,null,0,"0",0,0,"0",0,0,0,"0",0,0,"0",0]
[null,null,null,null,null,null,null,null,null,null,null,null,null,null,null,null,null,null,null,null,null,null,null,null,null,null,null,null,null,null,null,null,null,null,null,null,null,null,null,null,null,null,null,null,"","","","","","","",null,0,0,0,0,0,0,0,0,0,0,0,0,null,0,"0",0,0,"0",0,0,0,{"$f":"IF(SUM(BT257+BU257>=1),\"1\",\"0\")","v":"0"},0,0,"0",0]
[null,null,null,null,null,null,null,null,null,null,null,null,null,null,null,null,null,null,null,null,null,null,null,null,null,null,null,null,null,null,null,null,null,null,null,null,null,null,null,null,null,null,null,null,{"$f":"IF(K258=\"\",\"\",L258-K258)","v":""},{"$f":"IF(M258=\"\",\"\",R258-M258)","v":""},{"$f":"IF(U258=\"\",\"\",U258-R258)","v":""},{"$f":"IF(AM258=\"\",\"\",(AL258+AM258)-(B258+M258))","v":""},{"$f":"IF(N258=\"\",\"\",O258-N258)","v":""},{"$f":"IF(AM258=\"\",\"\",((AL258+AM258)-(B258+O258)))","v":""},{"$f":"IF(B258=\"\",\"\",ROUNDUP(MONTH(B258)/3,0))","v":""},null,{"$f":"COUNTIFS(C258, \">= 35\",F258, \"<>Suspected Stroke Symptoms\",G258,\"No\",O258,\"<>\"\"\")","v":0},{"$f":"COUNTIFS(C258, \">= 35\",F258, \"<>Suspected Stroke Symptoms\",G258,\"No\",O258,\"<>\"\"\",Q258,\"Yes\")","v":0},{"$f":"COUNTIFS(C258,\">=18\",S258,\"=TRUE\",AE258,\"=TRUE\", AM258,\"<>\"\"\")","v":0},{"$f":"COUNTIFS(C258,\">=18\",S258,\"=TRUE\",AE258,\"=TRUE\", AM258,\"<>\"\"\",AV258,\"<=0:90\",BE258,\"0\")","v":0},{"$f":"COUNTIFS(C258,\">=18\",S258,\"=TRUE\",AE258,\"=TRUE\", AM258,\"<>\"\"\",AV258,\"<=1:20\",AW258,\">=0:45\",AX258,\"<=0:30\",BD258, \"0\")","v":0},0,0,0,0,{"$f":"COUNTIFS(C258,\">=18\",S258,\"=TRUE\",AD258,\"=TRUE\", AM258,\"<>\"\"\",AV258,\"<>\"\"\")","v":0},0,0,null,{"$f":"SUM(BD258:BE258)","v":0},"0",{"$f":"COUNTIFS(C258,\">=18\",S258,\"=TRUE\",AE258,\"=TRUE\", AM258,\"<>\"\"\",AN258,\"<>\",BN258,\"0\")","v":0},{"$f":"COUNTIFS(C258,\">=18\",S258,\"=TRUE\",AE258,\"=TRUE\", AM258,\"<>\"\"\",H258,\"Yes\",BN258,\"0\")","v":0},{"$f":"IF(SUM(BP258+BQ258>=1),\"1\",\"0\")","v":"0"},{"$f":"COUNTIFS(C258, \">= 35\",F258, \"<>Suspected Stroke Symptoms\",G258,\"No\",O258,\"<>\"\"\",H258,\"Yes\",BB258,\"0\")","v":0},0,0,"0",0,0,"0",0]
[null,null,null,null,null,null,null,null,null,null,null,null,null,null,null,null,null,null,null,null,null,null,null,null,null,null,null,null,null,null,null,null,null,null,null,null,null,null,null,null,null,null,null,null,"","","","","","","",null,0,0,0,0,0,{"$f":"COUNTIFS(C259,\">=35\",F259, \"<>Suspected Stroke Symptoms\",G259,\"NO\",Q259,\"YES\",O259,\"<>\"\"\")","v":0},{"$f":"COUNTIFS(C259,\">=35\",F259, \"<>Suspected Stroke Symptoms\",G259,\"NO\",Q259,\"YES\",O259,\"<>\"\"\",AT259,\"<=0:10\")","v":0},{"$f":"COUNTIFS(C259,\">=35\",S259,\"TRUE\",O259,\"<>\"\"\")","v":0},{"$f":"COUNTIFS(C259,\">=35\",S259,\"TRUE\",O259,\"<>\"\"\",AU259,\"<=0:10\")","v":0},0,{"$f":"COUNTIFS(C259,\">=18\",S259,\"=TRUE\",AD259,\"=TRUE\", AM259,\"<>\"\"\",AX259,\"<=0:30\")","v":0},{"$f":"COUNTIFS(C259,\">=18\",S259,\"=TRUE\",AD259,\"=TRUE\", AM259,\"<>\"\"\", AK259, \"TRUE\",AV259,\"<=1:20\")","v":0},null,0,{"$f":"IF(SUM(BK259+BL259>=1),\"1\",\"0\")","v":"0"},0,0,"0",0,{"$f":"COUNTIFS(C259,\">=35\",S259,\"TRUE\",O259,\"<>\"\"\",H259,\"Yes\",BI259,\"0\")","v":0},{"$f":"COUNTIFS(C259,\">=35\",S259,\"TRUE\",O259,\"<>\"\"\",T259,\"<>\",BI259,\"0\")","v":0},"0",{"$f":"COUNTIFS(C259,\">=18\",S259,\"=TRUE\",AD259,\"=TRUE\", AM259,\"<>\"\"\",AV259,\"<>\",BO259,\"0\")","v":0},{"$f":"COUNTIFS(C259,\">=18\",S259,\"=TRUE\",AD259,\"=TRUE\", AM259,\"<>\"\"\",H259,\"Yes\",BO259,\"0\")","v":0},{"$f":"IF(SUM(BW259+BX259>=1),\"1\",\"0\")","v":"0"},{"$f":"COUNTIFS(C259,\">=35\",F259, \"<>Suspected Stroke Symptoms\",G259,\"NO\",Q259,\"YES\",O259,\"<>\"\"\",H259,\"Yes\")","v":0}]
[null,null,null,null,null,null,null,null,null,null,null,null,null,null,null,null,null,null,null,null,null,null,null,null,null,null,null,null,null,null,null,null,null,null,null,null,null,null,null,null,null,null,null,null,"","","","","","","",null,0,0,0,0,0,0,0,0,0,0,0,0,null,0,"0",0,0,"0",0,0,0,"0",0,0,"0",0]
[null,null,null,null,null,null,null,null,null,null,null,null,null,null,null,null,null,null,null,null,null,null,null,null,null,null,null,null,null,null,null,null,null,null,null,null,null,null,null,null,null,null,null,null,"","","","","","","",null,0,0,0,0,0,0,0,0,0,0,0,0,null,0,"0",0,0,"0",0,0,0,"0",0,0,"0",0]
[null,null,null,null,null,null,null,null,null,null,null,null,null,null,null,null,null,null,null,null,null,null,null,null,null,null,null,null,null,null,null,null,null,null,null,null,null,null,null,null,null,null,null,null,"","","","","","","",null,0,0,0,0,0,0,0,0,0,0,0,0,null,0,"0",0,0,"0",0,0,0,"0",0,0,"0",0]
[null,null,null,null,null,null,null,null,null,null,null,null,null,null,null,null,null,null,null,null,null,null,null,null,null,null,null,null,null,null,null,null,null,null,null,null,null,null,null,null,null,null,null,null,"","","","","","","",null,0,0,0,0,0,0,0,0,0,0,0,0,null,0,"0",0,0,"0",0,0,0,"0",0,0,"0",0]
[null,null,null,null,null,null,null,null,null,null,null,null,null,null,null,null,null,null,null,null,null,null,null,null,null,null,null,null,null,null,null,null,null,null,null,null,null,null,null,null,null,null,null,null,"","","","","","","",null,0,0,0,0,0,0,0,0,0,0,0,0,null,0,"0",0,0,"0",0,0,0,"0",0,0,"0",0]
[null,null,null,null,null,null,null,null,null,null,null,null,null,null,null,null,null,null,null,null,null,null,null,null,null,null,null,null,null,null,null,null,null,null,null,null,null,null,null,null,null,null,null,null,"","","","","","","",null,0,0,0,0,0,0,0,0,0,0,0,0,null,0,"0",0,0,"0",0,0,0,"0",0,0,"0",0]
[null,null,null,null,null,null,null,null,null,null,null,null,null,null,null,null,null,null,null,null,null,null,null,null,null,null,null,null,null,null,null,null,null,null,null,null,null,null,null,null,null,null,null,null,"","","","","","","",null,0,0,0,0,0,0,0,0,0,0,0,0,null,0,"0",0,0,"0",0,0,0,"0",0,0,"0",0]
[null,null,null,null,null,null,null,null,null,null,null,null,null,null,null,null,null,null,null,null,null,null,null,null,null,null,null,null,null,null,null,null,null,null,null,null,null,null,null,null,null,null,null,null,"","","","","","","",null,0,0,0,0,0,0,0,0,0,0,0,0,null,0,"0",0,0,"0",0,0,0,"0",0,0,"0",0]
[null,null,null,null,null,null,null,null,null,null,null,null,null,null,null,null,null,null,null,null,null,null,null,null,null,null,null,null,null,null,null,null,null,null,null,null,null,null,null,null,null,null,null,null,"","","","","","","",null,0,0,0,0,0,0,0,0,0,0,0,0,null,0,"0",0,0,"0",0,0,0,"0",0,0,"0",0]
[null,null,null,null,null,null,null,null,null,null,null,null,null,null,null,null,null,null,null,null,null,null,null,null,null,null,null,null,null,null,null,null,null,null,null,null,null,null,null,null,null,null,null,null,"","","","","","","",null,0,0,0,0,0,0,0,0,0,0,0,0,null,0,"0",0,0,"0",0,0,0,"0",0,0,"0",0]
[null,null,null,null,null,null,null,null,null,null,null,null,null,null,null,null,null,null,null,null,null,null,null,null,null,null,null,null,null,null,null,null,null,null,null,null,null,null,null,null,null,null,null,null,"","","","","","","",null,0,0,0,0,0,0,0,0,0,0,0,0,null,0,"0",0,0,"0",0,0,0,"0",0,0,"0",0]
[null,null,null,null,null,null,null,null,null,null,null,null,null,null,null,null,null,null,null,null,null,null,null,null,null,null,null,null,null,null,null,null,null,null,null,null,null,null,null,null,null,null,null,null,"","","","","","","",null,0,0,0,0,0,0,0,0,0,0,0,0,null,0,"0",0,0,"0",0,0,0,"0",0,0,"0",0]
[null,null,null,null,null,null,null,null,null,null,null,null,null,null,null,null,null,null,null,null,null,null,null,null,null,null,null,null,null,null,null,null,null,null,null,null,null,null,null,null,null,null,null,null,"","","","","","","",null,0,0,0,0,0,0,0,0,0,0,0,0,null,0,"0",0,0,"0",0,0,0,"0",0,0,"0",0]
[null,null,null,null,null,null,null,null,null,null,null,null,null,null,null,null,null,null,null,null,null,null,null,null,null,null,null,null,null,null,null,null,null,null,null,null,null,null,null,null,null,null,null,null,"","","","","","","",null,0,0,0,0,0,0,0,0,0,0,0,0,null,0,"0",0,0,"0",0,0,0,"0",0,0,"0",0]
[null,null,null,null,null,null,null,null,null,null,null,null,null,null,null,null,null,null,null,null,null,null,null,null,null,null,null,null,null,null,null,null,null,null,null,null,null,null,null,null,null,null,null,null,"","","","","","","",null,0,0,0,0,0,0,0,0,0,0,0,0,null,0,"0",0,0,"0",0,0,0,"0",0,0,"0",0]
[null,null,null,null,null,null,null,null,null,null,null,null,null,null,null,null,null,null,null,null,null,null,null,null,null,null,null,null,null,null,null,null,null,null,null,null,null,null,null,null,null,null,null,null,"","","","","","","",null,0,0,0,0,0,0,0,0,0,0,0,0,null,0,"0",0,0,"0",0,0,0,"0",0,0,"0",0]
[null,null,null,null,null,null,null,null,null,null,null,null,null,null,null,null,null,null,null,null,null,null,null,null,null,null,null,null,null,null,null,null,null,null,null,null,null,null,null,null,null,null,null,null,"","","","","","","",null,0,0,0,0,0,0,0,0,0,0,0,0,null,0,"0",0,0,"0",0,0,0,"0",0,0,"0",0]
[null,null,null,null,null,null,null,null,null,null,null,null,null,null,null,null,null,null,null,null,null,null,null,null,null,null,null,null,null,null,null,null,null,null,null,null,null,null,null,null,null,null,null,null,"","","","","","","",null,0,0,0,0,0,0,0,0,0,0,0,0,null,0,"0",0,0,"0",0,0,0,"0",0,0,"0",0]
[null,null,null,null,null,null,null,null,null,null,null,null,null,null,null,null,null,null,null,null,null,null,null,null,null,null,null,null,null,null,null,null,null,null,null,null,null,null,null,null,null,null,null,null,"","","","","","","",null,0,0,0,0,0,0,0,0,0,0,0,0,null,0,"0",0,0,"0",0,0,0,"0",0,0,"0",0]
[null,null,null,null,null,null,null,null,null,null,null,null,null,null,null,null,null,null,null,null,null,null,null,null,null,null,null,null,null,null,null,null,null,null,null,null,null,null,null,null,null,null,null,null,"","","","","","","",null,0,0,0,0,0,0,0,0,0,0,0,0,null,0,"0",0,0,"0",0,0,0,"0",0,0,"0",0]
[null,null,null,null,null,null,null,null,null,null,null,null,null,null,null,null,null,null,null,null,null,null,null,null,null,null,null,null,null,null,null,null,null,null,null,null,null,null,null,null,null,null,null,null,"","","","","","","",null,0,0,0,0,0,0,0,0,0,0,0,0,null,0,"0",0,0,"0",0,0,0,"0",0,0,"0",0]
[null,null,null,null,null,null,null,null,null,null,null,null,null,null,null,null,null,null,null,null,null,null,null,null,null,null,null,null,null,null,null,null,null,null,null,null,null,null,null,null,null,null,null,null,"","","","","","","",null,0,0,0,0,0,0,0,0,0,0,0,0,null,0,"0",0,0,"0",0,0,0,"0",0,0,"0",0]
[null,null,null,null,null,null,null,null,null,null,null,null,null,null,null,null,null,null,null,null,null,null,null,null,null,null,null,null,null,null,null,null,null,null,null,null,null,null,null,null,null,null,null,null,"","","","","","","",null,0,0,0,0,0,0,0,0,0,0,0,0,null,0,"0",0,0,"0",0,0,0,"0",0,0,"0",0]
[null,null,null,null,null,null,null,null,null,null,null,null,null,null,null,null,null,null,null,null,null,null,null,null,null,null,null,null,null,null,null,null,null,null,null,null,null,null,null,null,null,null,null,null,"","","","","","","",null,0,0,0,0,0,0,0,0,0,0,0,0,null,0,"0",0,0,"0",0,0,0,"0",0,0,"0",0]
[null,null,null,null,null,null,null,null,null,null,null,null,null,null,null,null,null,null,null,null,null,null,null,null,null,null,null,null,null,null,null,null,null,null,null,null,null,null,null,null,null,null,null,null,"","","","","","","",null,0,0,0,0,0,0,0,0,0,0,0,0,null,0,"0",0,0,"0",0,0,0,"0",0,0,"0",0]
[null,null,null,null,null,null,null,null,null,null,null,null,null,null,null,null,null,null,null,null,null,null,null,null,null,null,null,null,null,null,null,null,null,null,null,null,null,null,null,null,null,null,null,null,"","","","","","","",null,0,0,0,0,0,0,0,0,0,0,0,0,null,0,"0",0,0,"0",0,0,0,"0",0,0,"0",0]
[null,null,null,null,null,null,null,null,null,null,null,null,null,null,null,null,null,null,null,null,null,null,null,null,null,null,null,null,null,null,null,null,null,null,null,null,null,null,null,null,null,null,null,null,"","","","","","","",null,0,0,0,0,0,0,0,0,0,0,0,0,null,0,"0",0,0,"0",0,0,0,"0",0,0,"0",0]
[null,null,null,null,null,null,null,null,null,null,null,null,null,null,null,null,null,null,null,null,null,null,null,null,null,null,null,null,null,null,null,null,null,null,null,null,null,null,null,null,null,null,null,null,"","","","","","","",null,0,0,0,0,0,0,0,0,0,0,0,0,null,0,"0",0,0,"0",0,0,0,"0",0,0,"0",0]
[null,null,null,null,null,null,null,null,null,null,null,null,null,null,null,null,null,null,null,null,null,null,null,null,null,null,null,null,null,null,null,null,null,null,null,null,null,null,null,null,null,null,null,null,"","","","","","","",null,0,0,0,0,0,0,0,0,0,0,0,0,null,0,"0",0,0,"0",0,0,0,"0",0,0,"0",0]
[null,null,null,null,null,null,null,null,null,null,null,null,null,null,null,null,null,null,null,null,null,null,null,null,null,null,null,null,null,null,null,null,null,null,null,null,null,null,null,null,null,null,null,null,"","","","","","","",null,0,0,0,0,0,0,0,0,0,0,0,0,null,0,"0",0,0,"0",0,0,0,"0",0,0,"0",0]
[null,null,null,null,null,null,null,null,null,null,null,null,null,null,null,null,null,null,null,null,null,null,null,null,null,null,null,null,null,null,null,null,null,null,null,null,null,null,null,null,null,null,null,null,"","","","","","","",null,0,0,0,0,0,0,0,0,0,0,0,0,null,0,"0",0,0,"0",0,0,0,"0",0,0,"0",0]
[null,null,null,null,null,null,null,null,null,null,null,null,null,null,null,null,null,null,null,null,null,null,null,null,null,null,null,null,null,null,null,null,null,null,null,null,null,null,null,null,null,null,null,null,"","","","","","","",null,0,0,0,0,0,0,0,0,0,0,0,0,null,0,"0",0,0,"0",0,0,0,"0",0,0,"0",0]
[null,null,null,null,null,null,null,null,null,null,null,null,null,null,null,null,null,null,null,null,null,null,null,null,null,null,null,null,null,null,null,null,null,null,null,null,null,null,null,null,null,null,null,null,"","","","","","","",null,0,0,0,0,0,0,0,0,0,0,0,0,null,0,"0",0,0,"0",0,0,0,"0",0,0,"0",0]
[null,null,null,null,null,null,null,null,null,null,null,null,null,null,null,null,null,null,null,null,null,null,null,null,null,null,null,null,null,null,null,null,null,null,null,null,null,null,null,null,null,null,null,null,"","","","","","","",null,0,0,0,0,0,0,0,0,0,0,0,0,null,0,"0",0,0,"0",0,0,0,"0",0,0,"0",0]
[null,null,null,null,null,null,null,null,null,null,null,null,null,null,null,null,null,null,null,null,null,null,null,null,null,null,null,null,null,null,null,null,null,null,null,null,null,null,null,null,null,null,null,null,"","","","","","","",null,0,0,0,0,0,0,0,0,0,0,0,0,null,0,"0",0,0,"0",0,0,0,"0",0,0,"0",0]
[null,null,null,null,null,null,null,null,null,null,null,null,null,null,null,null,null,null,null,null,null,null,null,null,null,null,null,null,null,null,null,null,null,null,null,null,null,null,null,null,null,null,null,null,"","","","","","","",null,0,0,0,0,0,0,0,0,0,0,0,0,null,0,"0",0,0,"0",0,0,0,"0",0,0,"0",0]
[null,null,null,null,null,null,null,null,null,null,null,null,null,null,null,null,null,null,null,null,null,null,null,null,null,null,null,null,null,null,null,null,null,null,null,null,null,null,null,null,null,null,null,null,"","","","","","","",null,0,0,0,0,0,0,0,0,0,0,0,0,null,0,"0",0,0,"0",0,0,0,"0",0,0,"0",0]
[null,null,null,null,null,null,null,null,null,null,null,null,null,null,null,null,null,null,null,null,null,null,null,null,null,null,null,null,null,null,null,null,null,null,null,null,null,null,null,null,null,null,null,null,"","","","","","","",null,0,0,0,0,0,0,0,0,0,0,0,0,null,0,"0",0,0,"0",0,0,0,"0",0,0,"0",0]
[null,null,null,null,null,null,null,null,null,null,null,null,null,null,null,null,null,null,null,null,null,null,null,null,null,null,null,null,null,null,null,null,null,null,null,null,null,null,null,null,null,null,null,null,"","","","","","","",null,0,0,0,0,0,0,0,0,0,0,0,0,null,0,"0",0,0,"0",0,0,0,"0",0,0,"0",0]
[null,null,null,null,null,null,null,null,null,null,null,null,null,null,null,null,null,null,null,null,null,null,null,null,null,null,null,null,null,null,null,null,null,null,null,null,null,null,null,null,null,null,null,null,"","","","","","","",null,0,0,0,0,0,0,0,0,0,0,0,0,null,0,"0",0,0,"0",0,0,0,"0",0,0,"0",0]
[null,null,null,null,null,null,null,null,null,null,null,null,null,null,null,null,null,null,null,null,null,null,null,null,null,null,null,null,null,null,null,null,null,null,null,null,null,null,null,null,null,null,null,null,"","","","","","","",null,0,0,0,0,0,0,0,0,0,0,0,0,null,0,"0",0,0,"0",0,0,0,"0",0,0,"0",0]
[null,null,null,null,null,null,null,null,null,null,null,null,null,null,null,null,null,null,null,null,null,null,null,null,null,null,null,null,null,null,null,null,null,null,null,null,null,null,null,null,null,null,null,null,"","","","","","","",null,0,0,0,0,0,0,0,0,0,0,0,0,null,0,"0",0,0,"0",0,0,0,"0",0,0,"0",0]
[null,null,null,null,null,null,null,null,null,null,null,null,null,null,null,null,null,null,null,null,null,null,null,null,null,null,null,null,null,null,null,null,null,null,null,null,null,null,null,null,null,null,null,null,"","","","","","","",null,0,0,0,0,0,0,0,0,0,0,0,0,null,0,"0",0,0,"0",0,0,0,"0",0,0,"0",0]
[null,null,null,null,null,null,null,null,null,null,null,null,null,null,null,null,null,null,null,null,null,null,null,null,null,null,null,null,null,null,null,null,null,null,null,null,null,null,null,null,null,null,null,null,"","","","","","","",null,0,0,0,0,0,0,0,0,0,0,0,0,null,0,"0",0,0,"0",0,0,0,"0",0,0,"0",0]
[null,null,null,null,null,null,null,null,null,null,null,null,null,null,null,null,null,null,null,null,null,null,null,null,null,null,null,null,null,null,null,null,null,null,null,null,null,null,null,null,null,null,null,null,"","","","","","","",null,0,0,0,0,0,0,0,0,0,0,0,0,null,0,"0",0,0,"0",0,0,0,"0",0,0,"0",0]
[null,null,null,null,null,null,null,null,null,null,null,null,null,null,null,null,null,null,null,null,null,null,null,null,null,null,null,null,null,null,null,null,null,null,null,null,null,null,null,null,null,null,null,null,"","","","","","","",null,0,0,0,0,0,0,0,0,0,0,0,0,null,0,"0",0,0,"0",0,0,0,"0",0,0,"0",0]
[null,null,null,null,null,null,null,null,null,null,null,null,null,null,null,null,null,null,null,null,null,null,null,null,null,null,null,null,null,null,null,null,null,null,null,null,null,null,null,null,null,null,null,null,"","","","","","","",null,0,0,0,0,0,0,0,0,0,0,0,0,null,0,"0",0,0,"0",0,0,0,"0",0,0,"0",0]
[null,null,null,null,null,null,null,null,null,null,null,null,null,null,null,null,null,null,null,null,null,null,null,null,null,null,null,null,null,null,null,null,null,null,null,null,null,null,null,null,null,null,null,null,"","","","","","","",null,0,0,0,0,0,0,0,0,0,0,0,0,null,0,"0",0,0,"0",0,0,0,"0",0,0,"0",0]
[null,null,null,null,null,null,null,null,null,null,null,null,null,null,null,null,null,null,null,null,null,null,null,null,null,null,null,null,null,null,null,null,null,null,null,null,null,null,null,null,null,null,null,null,"","","","","","","",null,0,0,0,0,0,0,0,0,0,0,0,0,null,0,"0",0,0,"0",0,0,0,"0",0,0,"0",0]
[null,null,null,null,null,null,null,null,null,null,null,null,null,null,null,null,null,null,null,null,null,null,null,null,null,null,null,null,null,null,null,null,null,null,null,null,null,null,null,null,null,null,null,null,"","","","","","","",null,0,0,0,0,0,0,0,0,0,0,0,0,null,0,"0",0,0,"0",0,0,0,"0",0,0,"0",0]
[null,null,null,null,null,null,null,null,null,null,null,null,null,null,null,null,null,null,null,null,null,null,null,null,null,null,null,null,null,null,null,null,null,null,null,null,null,null,null,null,null,null,null,null,"","","","","","","",null,0,0,0,0,0,0,0,0,0,0,0,0,null,0,"0",0,0,"0",0,0,0,"0",0,0,"0",0]
[null,null,null,null,null,null,null,null,null,null,null,null,null,null,null,null,null,null,null,null,null,null,null,null,null,null,null,null,null,null,null,null,null,null,null,null,null,null,null,null,null,null,null,null,"","","","","","","",null,0,0,0,0,0,0,0,0,0,0,0,0,null,0,"0",0,0,"0",0,0,0,"0",0,0,"0",0]
[null,null,null,null,null,null,null,null,null,null,null,null,null,null,null,null,null,null,null,null,null,null,null,null,null,null,null,null,null,null,null,null,null,null,null,null,null,null,null,null,null,null,null,null,"","","","","","","",null,0,0,0,0,0,0,0,0,0,0,0,0,null,0,"0",0,0,"0",0,0,0,"0",0,0,"0",0]
[null,null,null,null,null,null,null,null,null,null,null,null,null,null,null,null,null,null,null,null,null,null,null,null,null,null,null,null,null,null,null,null,null,null,null,null,null,null,null,null,null,null,null,null,"","","","","","","",null,0,0,0,0,0,0,0,0,0,0,0,0,null,0,"0",0,0,"0",0,0,0,"0",0,0,"0",0]
[null,null,null,null,null,null,null,null,null,null,null,null,null,null,null,null,null,null,null,null,null,null,null,null,null,null,null,null,null,null,null,null,null,null,null,null,null,null,null,null,null,null,null,null,"","","","","","","",null,0,0,0,0,0,0,0,0,0,0,0,0,null,0,"0",0,0,"0",0,0,0,"0",0,0,"0",0]
[null,null,null,null,null,null,null,null,null,null,null,null,null,null,null,null,null,null,null,null,null,null,null,null,null,null,null,null,null,null,null,null,null,null,null,null,null,null,null,null,null,null,null,null,"","","","","","","",null,0,0,0,0,0,0,0,0,0,0,0,0,null,0,"0",0,0,"0",0,0,0,"0",0,0,"0",0]
[null,null,null,null,null,null,null,null,null,null,null,null,null,null,null,null,null,null,null,null,null,null,null,null,null,null,null,null,null,null,null,null,null,null,null,null,null,null,null,null,null,null,null,null,"","","","","","","",null,0,0,0,0,0,0,0,0,0,0,0,0,null,0,"0",0,0,"0",0,0,0,"0",0,0,"0",0]
[null,null,null,null,null,null,null,null,null,null,null,null,null,null,null,null,null,null,null,null,null,null,null,null,null,null,null,null,null,null,null,null,null,null,null,null,null,null,null,null,null,null,null,null,"","","","","","","",null,0,0,0,0,0,0,0,0,0,0,0,0,null,0,"0",0,0,"0",0,0,0,"0",0,0,"0",0]
[null,null,null,null,null,null,null,null,null,null,null,null,null,null,null,null,null,null,null,null,null,null,null,null,null,null,null,null,null,null,null,null,null,null,null,null,null,null,null,null,null,null,null,null,"","","","","","","",null,0,0,0,0,0,0,0,0,0,0,0,0,null,0,"0",0,0,"0",0,0,0,"0",0,0,"0",0]
[null,null,null,null,null,null,null,null,null,null,null,null,null,null,null,null,null,null,null,null,null,null,null,null,null,null,null,null,null,null,null,null,null,null,null,null,null,null,null,null,null,null,null,null,"","","","","","","",null,0,0,0,0,0,0,0,0,0,0,0,0,null,0,"0",0,0,"0",0,0,0,"0",0,0,"0",0]
[null,null,null,null,null,null,null,null,null,null,null,null,null,null,null,null,null,null,null,null,null,null,null,null,null,null,null,null,null,null,null,null,null,null,null,null,null,null,null,null,null,null,null,null,"","","","","","","",null,0,0,0,0,0,0,0,0,0,0,0,0,null,0,"0",0,0,"0",0,0,0,"0",0,0,"0",0]
[null,null,null,null,null,null,null,null,null,null,null,null,null,null,null,null,null,null,null,null,null,null,null,null,null,null,null,null,null,null,null,null,null,null,null,null,null,null,null,null,null,null,null,null,"","","","","","","",null,0,0,0,0,0,0,0,0,0,0,0,0,null,0,"0",0,0,"0",0,0,0,{"$f":"IF(SUM(BT321+BU321>=1),\"1\",\"0\")","v":"0"},0,0,"0",0]
[null,null,null,null,null,null,null,null,null,null,null,null,null,null,null,null,null,null,null,null,null,null,null,null,null,null,null,null,null,null,null,null,null,null,null,null,null,null,null,null,null,null,null,null,{"$f":"IF(K322=\"\",\"\",L322-K322)","v":""},{"$f":"IF(M322=\"\",\"\",R322-M322)","v":""},{"$f":"IF(U322=\"\",\"\",U322-R322)","v":""},{"$f":"IF(AM322=\"\",\"\",(AL322+AM322)-(B322+M322))","v":""},{"$f":"IF(N322=\"\",\"\",O322-N322)","v":""},{"$f":"IF(AM322=\"\",\"\",((AL322+AM322)-(B322+O322)))","v":""},{"$f":"IF(B322=\"\",\"\",ROUNDUP(MONTH(B322)/3,0))","v":""},null,{"$f":"COUNTIFS(C322, \">= 35\",F322, \"<>Suspected Stroke Symptoms\",G322,\"No\",O322,\"<>\"\"\")","v":0},{"$f":"COUNTIFS(C322, \">= 35\",F322, \"<>Suspected Stroke Symptoms\",G322,\"No\",O322,\"<>\"\"\",Q322,\"Yes\")","v":0},{"$f":"COUNTIFS(C322,\">=18\",S322,\"=TRUE\",AE322,\"=TRUE\", AM322,\"<>\"\"\")","v":0},{"$f":"COUNTIFS(C322,\">=18\",S322,\"=TRUE\",AE322,\"=TRUE\", AM322,\"<>\"\"\",AV322,\"<=0:90\",BE322,\"0\")","v":0},{"$f":"COUNTIFS(C322,\">=18\",S322,\"=TRUE\",AE322,\"=TRUE\", AM322,\"<>\"\"\",AV322,\"<=1:20\",AW322,\">=0:45\",AX322,\"<=0:30\",BD322, \"0\")","v":0},0,0,0,0,{"$f":"COUNTIFS(C322,\">=18\",S322,\"=TRUE\",AD322,\"=TRUE\", AM322,\"<>\"\"\",AV322,\"<>\"\"\")","v":0},0,0,null,{"$f":"SUM(BD322:BE322)","v":0},"0",{"$f":"COUNTIFS(C322,\">=18\",S322,\"=TRUE\",AE322,\"=TRUE\", AM322,\"<>\"\"\",AN322,\"<>\",BN322,\"0\")","v":0},{"$f":"COUNTIFS(C322,\">=18\",S322,\"=TRUE\",AE322,\"=TRUE\", AM322,\"<>\"\"\",H322,\"Yes\",BN322,\"0\")","v":0},{"$f":"IF(SUM(BP322+BQ322>=1),\"1\",\"0\")","v":"0"},{"$f":"COUNTIFS(C322, \">= 35\",F322, \"<>Suspected Stroke Symptoms\",G322,\"No\",O322,\"<>\"\"\",H322,\"Yes\",BB322,\"0\")","v":0},0,0,"0",0,0,"0",0]
[null,null,null,null,null,null,null,null,null,null,null,null,null,null,null,null,null,null,null,null,null,null,null,null,null,null,null,null,null,null,null,null,null,null,null,null,null,null,null,null,null,null,null,null,"","","","","","","",null,0,0,0,0,0,{"$f":"COUNTIFS(C323,\">=35\",F323, \"<>Suspected Stroke Symptoms\",G323,\"NO\",Q323,\"YES\",O323,\"<>\"\"\")","v":0},{"$f":"COUNTIFS(C323,\">=35\",F323, \"<>Suspected Stroke Symptoms\",G323,\"NO\",Q323,\"YES\",O323,\"<>\"\"\",AT323,\"<=0:10\")","v":0},{"$f":"COUNTIFS(C323,\">=35\",S323,\"TRUE\",O323,\"<>\"\"\")","v":0},{"$f":"COUNTIFS(C323,\">=35\",S323,\"TRUE\",O323,\"<>\"\"\",AU323,\"<=0:10\")","v":0},0,{"$f":"COUNTIFS(C323,\">=18\",S323,\"=TRUE\",AD323,\"=TRUE\", AM323,\"<>\"\"\",AX323,\"<=0:30\")","v":0},{"$f":"COUNTIFS(C323,\">=18\",S323,\"=TRUE\",AD323,\"=TRUE\", AM323,\"<>\"\"\", AK323, \"TRUE\",AV323,\"<=1:20\")","v":0},null,0,{"$f":"IF(SUM(BK323+BL323>=1),\"1\",\"0\")","v":"0"},0,0,"0",0,{"$f":"COUNTIFS(C323,\">=35\",S323,\"TRUE\",O323,\"<>\"\"\",H323,\"Yes\",BI323,\"0\")","v":0},{"$f":"COUNTIFS(C323,\">=35\",S323,\"TRUE\",O323,\"<>\"\"\",T323,\"<>\",BI323,\"0\")","v":0},"0",{"$f":"COUNTIFS(C323,\">=18\",S323,\"=TRUE\",AD323,\"=TRUE\", AM323,\"<>\"\"\",AV323,\"<>\",BO323,\"0\")","v":0},{"$f":"COUNTIFS(C323,\">=18\",S323,\"=TRUE\",AD323,\"=TRUE\", AM323,\"<>\"\"\",H323,\"Yes\",BO323,\"0\")","v":0},{"$f":"IF(SUM(BW323+BX323>=1),\"1\",\"0\")","v":"0"},{"$f":"COUNTIFS(C323,\">=35\",F323, \"<>Suspected Stroke Symptoms\",G323,\"NO\",Q323,\"YES\",O323,\"<>\"\"\",H323,\"Yes\")","v":0}]
[null,null,null,null,null,null,null,null,null,null,null,null,null,null,null,null,null,null,null,null,null,null,null,null,null,null,null,null,null,null,null,null,null,null,null,null,null,null,null,null,null,null,null,null,"","","","","","","",null,0,0,0,0,0,0,0,0,0,0,0,0,null,0,"0",0,0,"0",0,0,0,"0",0,0,"0",0]
[null,null,null,null,null,null,null,null,null,null,null,null,null,null,null,null,null,null,null,null,null,null,null,null,null,null,null,null,null,null,null,null,null,null,null,null,null,null,null,null,null,null,null,null,"","","","","","","",null,0,0,0,0,0,0,0,0,0,0,0,0,null,0,"0",0,0,"0",0,0,0,"0",0,0,"0",0]
[null,null,null,null,null,null,null,null,null,null,null,null,null,null,null,null,null,null,null,null,null,null,null,null,null,null,null,null,null,null,null,null,null,null,null,null,null,null,null,null,null,null,null,null,"","","","","","","",null,0,0,0,0,0,0,0,0,0,0,0,0,null,0,"0",0,0,"0",0,0,0,"0",0,0,"0",0]
[null,null,null,null,null,null,null,null,null,null,null,null,null,null,null,null,null,null,null,null,null,null,null,null,null,null,null,null,null,null,null,null,null,null,null,null,null,null,null,null,null,null,null,null,"","","","","","","",null,0,0,0,0,0,0,0,0,0,0,0,0,null,0,"0",0,0,"0",0,0,0,"0",0,0,"0",0]
[null,null,null,null,null,null,null,null,null,null,null,null,null,null,null,null,null,null,null,null,null,null,null,null,null,null,null,null,null,null,null,null,null,null,null,null,null,null,null,null,null,null,null,null,"","","","","","","",null,0,0,0,0,0,0,0,0,0,0,0,0,null,0,"0",0,0,"0",0,0,0,"0",0,0,"0",0]
[null,null,null,null,null,null,null,null,null,null,null,null,null,null,null,null,null,null,null,null,null,null,null,null,null,null,null,null,null,null,null,null,null,null,null,null,null,null,null,null,null,null,null,null,"","","","","","","",null,0,0,0,0,0,0,0,0,0,0,0,0,null,0,"0",0,0,"0",0,0,0,"0",0,0,"0",0]
[null,null,null,null,null,null,null,null,null,null,null,null,null,null,null,null,null,null,null,null,null,null,null,null,null,null,null,null,null,null,null,null,null,null,null,null,null,null,null,null,null,null,null,null,"","","","","","","",null,0,0,0,0,0,0,0,0,0,0,0,0,null,0,"0",0,0,"0",0,0,0,"0",0,0,"0",0]
[null,null,null,null,null,null,null,null,null,null,null,null,null,null,null,null,null,null,null,null,null,null,null,null,null,null,null,null,null,null,null,null,null,null,null,null,null,null,null,null,null,null,null,null,"","","","","","","",null,0,0,0,0,0,0,0,0,0,0,0,0,null,0,"0",0,0,"0",0,0,0,"0",0,0,"0",0]
[null,null,null,null,null,null,null,null,null,null,null,null,null,null,null,null,null,null,null,null,null,null,null,null,null,null,null,null,null,null,null,null,null,null,null,null,null,null,null,null,null,null,null,null,"","","","","","","",null,0,0,0,0,0,0,0,0,0,0,0,0,null,0,"0",0,0,"0",0,0,0,"0",0,0,"0",0]
[null,null,null,null,null,null,null,null,null,null,null,null,null,null,null,null,null,null,null,null,null,null,null,null,null,null,null,null,null,null,null,null,null,null,null,null,null,null,null,null,null,null,null,null,"","","","","","","",null,0,0,0,0,0,0,0,0,0,0,0,0,null,0,"0",0,0,"0",0,0,0,"0",0,0,"0",0]
[null,null,null,null,null,null,null,null,null,null,null,null,null,null,null,null,null,null,null,null,null,null,null,null,null,null,null,null,null,null,null,null,null,null,null,null,null,null,null,null,null,null,null,null,"","","","","","","",null,0,0,0,0,0,0,0,0,0,0,0,0,null,0,"0",0,0,"0",0,0,0,"0",0,0,"0",0]
[null,null,null,null,null,null,null,null,null,null,null,null,null,null,null,null,null,null,null,null,null,null,null,null,null,null,null,null,null,null,null,null,null,null,null,null,null,null,null,null,null,null,null,null,"","","","","","","",null,0,0,0,0,0,0,0,0,0,0,0,0,null,0,"0",0,0,"0",0,0,0,"0",0,0,"0",0]
[null,null,null,null,null,null,null,null,null,null,null,null,null,null,null,null,null,null,null,null,null,null,null,null,null,null,null,null,null,null,null,null,null,null,null,null,null,null,null,null,null,null,null,null,"","","","","","","",null,0,0,0,0,0,0,0,0,0,0,0,0,null,0,"0",0,0,"0",0,0,0,"0",0,0,"0",0]
[null,null,null,null,null,null,null,null,null,null,null,null,null,null,null,null,null,null,null,null,null,null,null,null,null,null,null,null,null,null,null,null,null,null,null,null,null,null,null,null,null,null,null,null,"","","","","","","",null,0,0,0,0,0,0,0,0,0,0,0,0,null,0,"0",0,0,"0",0,0,0,"0",0,0,"0",0]
[null,null,null,null,null,null,null,null,null,null,null,null,null,null,null,null,null,null,null,null,null,null,null,null,null,null,null,null,null,null,null,null,null,null,null,null,null,null,null,null,null,null,null,null,"","","","","","","",null,0,0,0,0,0,0,0,0,0,0,0,0,null,0,"0",0,0,"0",0,0,0,"0",0,0,"0",0]
[null,null,null,null,null,null,null,null,null,null,null,null,null,null,null,null,null,null,null,null,null,null,null,null,null,null,null,null,null,null,null,null,null,null,null,null,null,null,null,null,null,null,null,null,"","","","","","","",null,0,0,0,0,0,0,0,0,0,0,0,0,null,0,"0",0,0,"0",0,0,0,"0",0,0,"0",0]
[null,null,null,null,null,null,null,null,null,null,null,null,null,null,null,null,null,null,null,null,null,null,null,null,null,null,null,null,null,null,null,null,null,null,null,null,null,null,null,null,null,null,null,null,"","","","","","","",null,0,0,0,0,0,0,0,0,0,0,0,0,null,0,"0",0,0,"0",0,0,0,"0",0,0,"0",0]
[null,null,null,null,null,null,null,null,null,null,null,null,null,null,null,null,null,null,null,null,null,null,null,null,null,null,null,null,null,null,null,null,null,null,null,null,null,null,null,null,null,null,null,null,"","","","","","","",null,0,0,0,0,0,0,0,0,0,0,0,0,null,0,"0",0,0,"0",0,0,0,"0",0,0,"0",0]
[null,null,null,null,null,null,null,null,null,null,null,null,null,null,null,null,null,null,null,null,null,null,null,null,null,null,null,null,null,null,null,null,null,null,null,null,null,null,null,null,null,null,null,null,"","","","","","","",null,0,0,0,0,0,0,0,0,0,0,0,0,null,0,"0",0,0,"0",0,0,0,"0",0,0,"0",0]
[null,null,null,null,null,null,null,null,null,null,null,null,null,null,null,null,null,null,null,null,null,null,null,null,null,null,null,null,null,null,null,null,null,null,null,null,null,null,null,null,null,null,null,null,"","","","","","","",null,0,0,0,0,0,0,0,0,0,0,0,0,null,0,"0",0,0,"0",0,0,0,"0",0,0,"0",0]
[null,null,null,null,null,null,null,null,null,null,null,null,null,null,null,null,null,null,null,null,null,null,null,null,null,null,null,null,null,null,null,null,null,null,null,null,null,null,null,null,null,null,null,null,"","","","","","","",null,0,0,0,0,0,0,0,0,0,0,0,0,null,0,"0",0,0,"0",0,0,0,"0",0,0,"0",0]
[null,null,null,null,null,null,null,null,null,null,null,null,null,null,null,null,null,null,null,null,null,null,null,null,null,null,null,null,null,null,null,null,null,null,null,null,null,null,null,null,null,null,null,null,"","","","","","","",null,0,0,0,0,0,0,0,0,0,0,0,0,null,0,"0",0,0,"0",0,0,0,"0",0,0,"0",0]
[null,null,null,null,null,null,null,null,null,null,null,null,null,null,null,null,null,null,null,null,null,null,null,null,null,null,null,null,null,null,null,null,null,null,null,null,null,null,null,null,null,null,null,null,"","","","","","","",null,0,0,0,0,0,0,0,0,0,0,0,0,null,0,"0",0,0,"0",0,0,0,"0",0,0,"0",0]
[null,null,null,null,null,null,null,null,null,null,null,null,null,null,null,null,null,null,null,null,null,null,null,null,null,null,null,null,null,null,null,null,null,null,null,null,null,null,null,null,null,null,null,null,"","","","","","","",null,0,0,0,0,0,0,0,0,0,0,0,0,null,0,"0",0,0,"0",0,0,0,"0",0,0,"0",0]
[null,null,null,null,null,null,null,null,null,null,null,null,null,null,null,null,null,null,null,null,null,null,null,null,null,null,null,null,null,null,null,null,null,null,null,null,null,null,null,null,null,null,null,null,"","","","","","","",null,0,0,0,0,0,0,0,0,0,0,0,0,null,0,"0",0,0,"0",0,0,0,"0",0,0,"0",0]
[null,null,null,null,null,null,null,null,null,null,null,null,null,null,null,null,null,null,null,null,null,null,null,null,null,null,null,null,null,null,null,null,null,null,null,null,null,null,null,null,null,null,null,null,"","","","","","","",null,0,0,0,0,0,0,0,0,0,0,0,0,null,0,"0",0,0,"0",0,0,0,"0",0,0,"0",0]
[null,null,null,null,null,null,null,null,null,null,null,null,null,null,null,null,null,null,null,null,null,null,null,null,null,null,null,null,null,null,null,null,null,null,null,null,null,null,null,null,null,null,null,null,"","","","","","","",null,0,0,0,0,0,0,0,0,0,0,0,0,null,0,"0",0,0,"0",0,0,0,"0",0,0,"0",0]
[null,null,null,null,null,null,null,null,null,null,null,null,null,null,null,null,null,null,null,null,null,null,null,null,null,null,null,null,null,null,null,null,null,null,null,null,null,null,null,null,null,null,null,null,"","","","","","","",null,0,0,0,0,0,0,0,0,0,0,0,0,null,0,"0",0,0,"0",0,0,0,"0",0,0,"0",0]
[null,null,null,null,null,null,null,null,null,null,null,null,null,null,null,null,null,null,null,null,null,null,null,null,null,null,null,null,null,null,null,null,null,null,null,null,null,null,null,null,null,null,null,null,"","","","","","","",null,0,0,0,0,0,0,0,0,0,0,0,0,null,0,"0",0,0,"0",0,0,0,"0",0,0,"0",0]
[null,null,null,null,null,null,null,null,null,null,null,null,null,null,null,null,null,null,null,null,null,null,null,null,null,null,null,null,null,null,null,null,null,null,null,null,null,null,null,null,null,null,null,null,"","","","","","","",null,0,0,0,0,0,0,0,0,0,0,0,0,null,0,"0",0,0,"0",0,0,0,"0",0,0,"0",0]
[null,null,null,null,null,null,null,null,null,null,null,null,null,null,null,null,null,null,null,null,null,null,null,null,null,null,null,null,null,null,null,null,null,null,null,null,null,null,null,null,null,null,null,null,"","","","","","","",null,0,0,0,0,0,0,0,0,0,0,0,0,null,0,"0",0,0,"0",0,0,0,"0",0,0,"0",0]
[null,null,null,null,null,null,null,null,null,null,null,null,null,null,null,null,null,null,null,null,null,null,null,null,null,null,null,null,null,null,null,null,null,null,null,null,null,null,null,null,null,null,null,null,"","","","","","","",null,0,0,0,0,0,0,0,0,0,0,0,0,null,0,"0",0,0,"0",0,0,0,"0",0,0,"0",0]
[null,null,null,null,null,null,null,null,null,null,null,null,null,null,null,null,null,null,null,null,null,null,null,null,null,null,null,null,null,null,null,null,null,null,null,null,null,null,null,null,null,null,null,null,"","","","","","","",null,0,0,0,0,0,0,0,0,0,0,0,0,null,0,"0",0,0,"0",0,0,0,"0",0,0,"0",0]
[null,null,null,null,null,null,null,null,null,null,null,null,null,null,null,null,null,null,null,null,null,null,null,null,null,null,null,null,null,null,null,null,null,null,null,null,null,null,null,null,null,null,null,null,"","","","","","","",null,0,0,0,0,0,0,0,0,0,0,0,0,null,0,"0",0,0,"0",0,0,0,"0",0,0,"0",0]
[null,null,null,null,null,null,null,null,null,null,null,null,null,null,null,null,null,null,null,null,null,null,null,null,null,null,null,null,null,null,null,null,null,null,null,null,null,null,null,null,null,null,null,null,"","","","","","","",null,0,0,0,0,0,0,0,0,0,0,0,0,null,0,"0",0,0,"0",0,0,0,"0",0,0,"0",0]
[null,null,null,null,null,null,null,null,null,null,null,null,null,null,null,null,null,null,null,null,null,null,null,null,null,null,null,null,null,null,null,null,null,null,null,null,null,null,null,null,null,null,null,null,"","","","","","","",null,0,0,0,0,0,0,0,0,0,0,0,0,null,0,"0",0,0,"0",0,0,0,"0",0,0,"0",0]
[null,null,null,null,null,null,null,null,null,null,null,null,null,null,null,null,null,null,null,null,null,null,null,null,null,null,null,null,null,null,null,null,null,null,null,null,null,null,null,null,null,null,null,null,"","","","","","","",null,0,0,0,0,0,0,0,0,0,0,0,0,null,0,"0",0,0,"0",0,0,0,"0",0,0,"0",0]
[null,null,null,null,null,null,null,null,null,null,null,null,null,null,null,null,null,null,null,null,null,null,null,null,null,null,null,null,null,null,null,null,null,null,null,null,null,null,null,null,null,null,null,null,"","","","","","","",null,0,0,0,0,0,0,0,0,0,0,0,0,null,0,"0",0,0,"0",0,0,0,"0",0,0,"0",0]
[null,null,null,null,null,null,null,null,null,null,null,null,null,null,null,null,null,null,null,null,null,null,null,null,null,null,null,null,null,null,null,null,null,null,null,null,null,null,null,null,null,null,null,null,"","","","","","","",null,0,0,0,0,0,0,0,0,0,0,0,0,null,0,"0",0,0,"0",0,0,0,"0",0,0,"0",0]
[null,null,null,null,null,null,null,null,null,null,null,null,null,null,null,null,null,null,null,null,null,null,null,null,null,null,null,null,null,null,null,null,null,null,null,null,null,null,null,null,null,null,null,null,"","","","","","","",null,0,0,0,0,0,0,0,0,0,0,0,0,null,0,"0",0,0,"0",0,0,0,"0",0,0,"0",0]
[null,null,null,null,null,null,null,null,null,null,null,null,null,null,null,null,null,null,null,null,null,null,null,null,null,null,null,null,null,null,null,null,null,null,null,null,null,null,null,null,null,null,null,null,"","","","","","","",null,0,0,0,0,0,0,0,0,0,0,0,0,null,0,"0",0,0,"0",0,0,0,"0",0,0,"0",0]
[null,null,null,null,null,null,null,null,null,null,null,null,null,null,null,null,null,null,null,null,null,null,null,null,null,null,null,null,null,null,null,null,null,null,null,null,null,null,null,null,null,null,null,null,"","","","","","","",null,0,0,0,0,0,0,0,0,0,0,0,0,null,0,"0",0,0,"0",0,0,0,"0",0,0,"0",0]
[null,null,null,null,null,null,null,null,null,null,null,null,null,null,null,null,null,null,null,null,null,null,null,null,null,null,null,null,null,null,null,null,null,null,null,null,null,null,null,null,null,null,null,null,"","","","","","","",null,0,0,0,0,0,0,0,0,0,0,0,0,null,0,"0",0,0,"0",0,0,0,"0",0,0,"0",0]
[null,null,null,null,null,null,null,null,null,null,null,null,null,null,null,null,null,null,null,null,null,null,null,null,null,null,null,null,null,null,null,null,null,null,null,null,null,null,null,null,null,null,null,null,"","","","","","","",null,0,0,0,0,0,0,0,0,0,0,0,0,null,0,"0",0,0,"0",0,0,0,"0",0,0,"0",0]
[null,null,null,null,null,null,null,null,null,null,null,null,null,null,null,null,null,null,null,null,null,null,null,null,null,null,null,null,null,null,null,null,null,null,null,null,null,null,null,null,null,null,null,null,"","","","","","","",null,0,0,0,0,0,0,0,0,0,0,0,0,null,0,"0",0,0,"0",0,0,0,"0",0,0,"0",0]
[null,null,null,null,null,null,null,null,null,null,null,null,null,null,null,null,null,null,null,null,null,null,null,null,null,null,null,null,null,null,null,null,null,null,null,null,null,null,null,null,null,null,null,null,"","","","","","","",null,0,0,0,0,0,0,0,0,0,0,0,0,null,0,"0",0,0,"0",0,0,0,"0",0,0,"0",0]
[null,null,null,null,null,null,null,null,null,null,null,null,null,null,null,null,null,null,null,null,null,null,null,null,null,null,null,null,null,null,null,null,null,null,null,null,null,null,null,null,null,null,null,null,"","","","","","","",null,0,0,0,0,0,0,0,0,0,0,0,0,null,0,"0",0,0,"0",0,0,0,"0",0,0,"0",0]
[null,null,null,null,null,null,null,null,null,null,null,null,null,null,null,null,null,null,null,null,null,null,null,null,null,null,null,null,null,null,null,null,null,null,null,null,null,null,null,null,null,null,null,null,"","","","","","","",null,0,0,0,0,0,0,0,0,0,0,0,0,null,0,"0",0,0,"0",0,0,0,"0",0,0,"0",0]
[null,null,null,null,null,null,null,null,null,null,null,null,null,null,null,null,null,null,null,null,null,null,null,null,null,null,null,null,null,null,null,null,null,null,null,null,null,null,null,null,null,null,null,null,"","","","","","","",null,0,0,0,0,0,0,0,0,0,0,0,0,null,0,"0",0,0,"0",0,0,0,"0",0,0,"0",0]
[null,null,null,null,null,null,null,null,null,null,null,null,null,null,null,null,null,null,null,null,null,null,null,null,null,null,null,null,null,null,null,null,null,null,null,null,null,null,null,null,null,null,null,null,"","","","","","","",null,0,0,0,0,0,0,0,0,0,0,0,0,null,0,"0",0,0,"0",0,0,0,"0",0,0,"0",0]
[null,null,null,null,null,null,null,null,null,null,null,null,null,null,null,null,null,null,null,null,null,null,null,null,null,null,null,null,null,null,null,null,null,null,null,null,null,null,null,null,null,null,null,null,"","","","","","","",null,0,0,0,0,0,0,0,0,0,0,0,0,null,0,"0",0,0,"0",0,0,0,"0",0,0,"0",0]
[null,null,null,null,null,null,null,null,null,null,null,null,null,null,null,null,null,null,null,null,null,null,null,null,null,null,null,null,null,null,null,null,null,null,null,null,null,null,null,null,null,null,null,null,"","","","","","","",null,0,0,0,0,0,0,0,0,0,0,0,0,null,0,"0",0,0,"0",0,0,0,"0",0,0,"0",0]
[null,null,null,null,null,null,null,null,null,null,null,null,null,null,null,null,null,null,null,null,null,null,null,null,null,null,null,null,null,null,null,null,null,null,null,null,null,null,null,null,null,null,null,null,"","","","","","","",null,0,0,0,0,0,0,0,0,0,0,0,0,null,0,"0",0,0,"0",0,0,0,"0",0,0,"0",0]
[null,null,null,null,null,null,null,null,null,null,null,null,null,null,null,null,null,null,null,null,null,null,null,null,null,null,null,null,null,null,null,null,null,null,null,null,null,null,null,null,null,null,null,null,"","","","","","","",null,0,0,0,0,0,0,0,0,0,0,0,0,null,0,"0",0,0,"0",0,0,0,"0",0,0,"0",0]
[null,null,null,null,null,null,null,null,null,null,null,null,null,null,null,null,null,null,null,null,null,null,null,null,null,null,null,null,null,null,null,null,null,null,null,null,null,null,null,null,null,null,null,null,"","","","","","","",null,0,0,0,0,0,0,0,0,0,0,0,0,null,0,"0",0,0,"0",0,0,0,"0",0,0,"0",0]
[null,null,null,null,null,null,null,null,null,null,null,null,null,null,null,null,null,null,null,null,null,null,null,null,null,null,null,null,null,null,null,null,null,null,null,null,null,null,null,null,null,null,null,null,"","","","","","","",null,0,0,0,0,0,0,0,0,0,0,0,0,null,0,"0",0,0,"0",0,0,0,"0",0,0,"0",0]
[null,null,null,null,null,null,null,null,null,null,null,null,null,null,null,null,null,null,null,null,null,null,null,null,null,null,null,null,null,null,null,null,null,null,null,null,null,null,null,null,null,null,null,null,"","","","","","","",null,0,0,0,0,0,0,0,0,0,0,0,0,null,0,"0",0,0,"0",0,0,0,"0",0,0,"0",0]
[null,null,null,null,null,null,null,null,null,null,null,null,null,null,null,null,null,null,null,null,null,null,null,null,null,null,null,null,null,null,null,null,null,null,null,null,null,null,null,null,null,null,null,null,"","","","","","","",null,0,0,0,0,0,0,0,0,0,0,0,0,null,0,"0",0,0,"0",0,0,0,"0",0,0,"0",0]
[null,null,null,null,null,null,null,null,null,null,null,null,null,null,null,null,null,null,null,null,null,null,null,null,null,null,null,null,null,null,null,null,null,null,null,null,null,null,null,null,null,null,null,null,"","","","","","","",null,0,0,0,0,0,0,0,0,0,0,0,0,null,0,"0",0,0,"0",0,0,0,"0",0,0,"0",0]
[null,null,null,null,null,null,null,null,null,null,null,null,null,null,null,null,null,null,null,null,null,null,null,null,null,null,null,null,null,null,null,null,null,null,null,null,null,null,null,null,null,null,null,null,"","","","","","","",null,0,0,0,0,0,0,0,0,0,0,0,0,null,0,"0",0,0,"0",0,0,0,"0",0,0,"0",0]
[null,null,null,null,null,null,null,null,null,null,null,null,null,null,null,null,null,null,null,null,null,null,null,null,null,null,null,null,null,null,null,null,null,null,null,null,null,null,null,null,null,null,null,null,"","","","","","","",null,0,0,0,0,0,0,0,0,0,0,0,0,null,0,"0",0,0,"0",0,0,0,"0",0,0,"0",0]
[null,null,null,null,null,null,null,null,null,null,null,null,null,null,null,null,null,null,null,null,null,null,null,null,null,null,null,null,null,null,null,null,null,null,null,null,null,null,null,null,null,null,null,null,"","","","","","","",null,0,0,0,0,0,0,0,0,0,0,0,0,null,0,"0",0,0,"0",0,0,0,{"$f":"IF(SUM(BT385+BU385>=1),\"1\",\"0\")","v":"0"},0,0,"0",0]
[null,null,null,null,null,null,null,null,null,null,null,null,null,null,null,null,null,null,null,null,null,null,null,null,null,null,null,null,null,null,null,null,null,null,null,null,null,null,null,null,null,null,null,null,{"$f":"IF(K386=\"\",\"\",L386-K386)","v":""},{"$f":"IF(M386=\"\",\"\",R386-M386)","v":""},{"$f":"IF(U386=\"\",\"\",U386-R386)","v":""},{"$f":"IF(AM386=\"\",\"\",(AL386+AM386)-(B386+M386))","v":""},{"$f":"IF(N386=\"\",\"\",O386-N386)","v":""},{"$f":"IF(AM386=\"\",\"\",((AL386+AM386)-(B386+O386)))","v":""},{"$f":"IF(B386=\"\",\"\",ROUNDUP(MONTH(B386)/3,0))","v":""},null,{"$f":"COUNTIFS(C386, \">= 35\",F386, \"<>Suspected Stroke Symptoms\",G386,\"No\",O386,\"<>\"\"\")","v":0},{"$f":"COUNTIFS(C386, \">= 35\",F386, \"<>Suspected Stroke Symptoms\",G386,\"No\",O386,\"<>\"\"\",Q386,\"Yes\")","v":0},{"$f":"COUNTIFS(C386,\">=18\",S386,\"=TRUE\",AE386,\"=TRUE\", AM386,\"<>\"\"\")","v":0},{"$f":"COUNTIFS(C386,\">=18\",S386,\"=TRUE\",AE386,\"=TRUE\", AM386,\"<>\"\"\",AV386,\"<=0:90\",BE386,\"0\")","v":0},{"$f":"COUNTIFS(C386,\">=18\",S386,\"=TRUE\",AE386,\"=TRUE\", AM386,\"<>\"\"\",AV386,\"<=1:20\",AW386,\">=0:45\",AX386,\"<=0:30\",BD386, \"0\")","v":0},0,0,0,0,{"$f":"COUNTIFS(C386,\">=18\",S386,\"=TRUE\",AD386,\"=TRUE\", AM386,\"<>\"\"\",AV386,\"<>\"\"\")","v":0},0,0,null,{"$f":"SUM(BD386:BE386)","v":0},"0",{"$f":"COUNTIFS(C386,\">=18\",S386,\"=TRUE\",AE386,\"=TRUE\", AM386,\"<>\"\"\",AN386,\"<>\",BN386,\"0\")","v":0},{"$f":"COUNTIFS(C386,\">=18\",S386,\"=TRUE\",AE386,\"=TRUE\", AM386,\"<>\"\"\",H386,\"Yes\",BN386,\"0\")","v":0},{"$f":"IF(SUM(BP386+BQ386>=1),\"1\",\"0\")","v":"0"},{"$f":"COUNTIFS(C386, \">= 35\",F386, \"<>Suspected Stroke Symptoms\",G386,\"No\",O386,\"<>\"\"\",H386,\"Yes\",BB386,\"0\")","v":0},0,0,"0",0,0,"0",0]
[null,null,null,null,null,null,null,null,null,null,null,null,null,null,null,null,null,null,null,null,null,null,null,null,null,null,null,null,null,null,null,null,null,null,null,null,null,null,null,null,null,null,null,null,"","","","","","","",null,0,0,0,0,0,{"$f":"COUNTIFS(C387,\">=35\",F387, \"<>Suspected Stroke Symptoms\",G387,\"NO\",Q387,\"YES\",O387,\"<>\"\"\")","v":0},{"$f":"COUNTIFS(C387,\">=35\",F387, \"<>Suspected Stroke Symptoms\",G387,\"NO\",Q387,\"YES\",O387,\"<>\"\"\",AT387,\"<=0:10\")","v":0},{"$f":"COUNTIFS(C387,\">=35\",S387,\"TRUE\",O387,\"<>\"\"\")","v":0},{"$f":"COUNTIFS(C387,\">=35\",S387,\"TRUE\",O387,\"<>\"\"\",AU387,\"<=0:10\")","v":0},0,{"$f":"COUNTIFS(C387,\">=18\",S387,\"=TRUE\",AD387,\"=TRUE\", AM387,\"<>\"\"\",AX387,\"<=0:30\")","v":0},{"$f":"COUNTIFS(C387,\">=18\",S387,\"=TRUE\",AD387,\"=TRUE\", AM387,\"<>\"\"\", AK387, \"TRUE\",AV387,\"<=1:20\")","v":0},null,0,{"$f":"IF(SUM(BK387+BL387>=1),\"1\",\"0\")","v":"0"},0,0,"0",0,{"$f":"COUNTIFS(C387,\">=35\",S387,\"TRUE\",O387,\"<>\"\"\",H387,\"Yes\",BI387,\"0\")","v":0},{"$f":"COUNTIFS(C387,\">=35\",S387,\"TRUE\",O387,\"<>\"\"\",T387,\"<>\",BI387,\"0\")","v":0},"0",{"$f":"COUNTIFS(C387,\">=18\",S387,\"=TRUE\",AD387,\"=TRUE\", AM387,\"<>\"\"\",AV387,\"<>\",BO387,\"0\")","v":0},{"$f":"COUNTIFS(C387,\">=18\",S387,\"=TRUE\",AD387,\"=TRUE\", AM387,\"<>\"\"\",H387,\"Yes\",BO387,\"0\")","v":0},{"$f":"IF(SUM(BW387+BX387>=1),\"1\",\"0\")","v":"0"},{"$f":"COUNTIFS(C387,\">=35\",F387, \"<>Suspected Stroke Symptoms\",G387,\"NO\",Q387,\"YES\",O387,\"<>\"\"\",H387,\"Yes\")","v":0}]
[null,null,null,null,null,null,null,null,null,null,null,null,null,null,null,null,null,null,null,null,null,null,null,null,null,null,null,null,null,null,null,null,null,null,null,null,null,null,null,null,null,null,null,null,"","","","","","","",null,0,0,0,0,0,0,0,0,0,0,0,0,null,0,"0",0,0,"0",0,0,0,"0",0,0,"0",0]
[null,null,null,null,null,null,null,null,null,null,null,null,null,null,null,null,null,null,null,null,null,null,null,null,null,null,null,null,null,null,null,null,null,null,null,null,null,null,null,null,null,null,null,null,"","","","","","","",null,0,0,0,0,0,0,0,0,0,0,0,0,null,0,"0",0,0,"0",0,0,0,"0",0,0,"0",0]
[null,null,null,null,null,null,null,null,null,null,null,null,null,null,null,null,null,null,null,null,null,null,null,null,null,null,null,null,null,null,null,null,null,null,null,null,null,null,null,null,null,null,null,null,"","","","","","","",null,0,0,0,0,0,0,0,0,0,0,0,0,null,0,"0",0,0,"0",0,0,0,"0",0,0,"0",0]
[null,null,null,null,null,null,null,null,null,null,null,null,null,null,null,null,null,null,null,null,null,null,null,null,null,null,null,null,null,null,null,null,null,null,null,null,null,null,null,null,null,null,null,null,"","","","","","","",null,0,0,0,0,0,0,0,0,0,0,0,0,null,0,"0",0,0,"0",0,0,0,"0",0,0,"0",0]
[null,null,null,null,null,null,null,null,null,null,null,null,null,null,null,null,null,null,null,null,null,null,null,null,null,null,null,null,null,null,null,null,null,null,null,null,null,null,null,null,null,null,null,null,"","","","","","","",null,0,0,0,0,0,0,0,0,0,0,0,0,null,0,"0",0,0,"0",0,0,0,"0",0,0,"0",0]
[null,null,null,null,null,null,null,null,null,null,null,null,null,null,null,null,null,null,null,null,null,null,null,null,null,null,null,null,null,null,null,null,null,null,null,null,null,null,null,null,null,null,null,null,"","","","","","","",null,0,0,0,0,0,0,0,0,0,0,0,0,null,0,"0",0,0,"0",0,0,0,"0",0,0,"0",0]
[null,null,null,null,null,null,null,null,null,null,null,null,null,null,null,null,null,null,null,null,null,null,null,null,null,null,null,null,null,null,null,null,null,null,null,null,null,null,null,null,null,null,null,null,"","","","","","","",null,0,0,0,0,0,0,0,0,0,0,0,0,null,0,"0",0,0,"0",0,0,0,"0",0,0,"0",0]
[null,null,null,null,null,null,null,null,null,null,null,null,null,null,null,null,null,null,null,null,null,null,null,null,null,null,null,null,null,null,null,null,null,null,null,null,null,null,null,null,null,null,null,null,"","","","","","","",null,0,0,0,0,0,0,0,0,0,0,0,0,null,0,"0",0,0,"0",0,0,0,"0",0,0,"0",0]
[null,null,null,null,null,null,null,null,null,null,null,null,null,null,null,null,null,null,null,null,null,null,null,null,null,null,null,null,null,null,null,null,null,null,null,null,null,null,null,null,null,null,null,null,"","","","","","","",null,0,0,0,0,0,0,0,0,0,0,0,0,null,0,"0",0,0,"0",0,0,0,"0",0,0,"0",0]
[null,null,null,null,null,null,null,null,null,null,null,null,null,null,null,null,null,null,null,null,null,null,null,null,null,null,null,null,null,null,null,null,null,null,null,null,null,null,null,null,null,null,null,null,"","","","","","","",null,0,0,0,0,0,0,0,0,0,0,0,0,null,0,"0",0,0,"0",0,0,0,"0",0,0,"0",0]
[null,null,null,null,null,null,null,null,null,null,null,null,null,null,null,null,null,null,null,null,null,null,null,null,null,null,null,null,null,null,null,null,null,null,null,null,null,null,null,null,null,null,null,null,"","","","","","","",null,0,0,0,0,0,0,0,0,0,0,0,0,null,0,"0",0,0,"0",0,0,0,"0",0,0,"0",0]
[null,null,null,null,null,null,null,null,null,null,null,null,null,null,null,null,null,null,null,null,null,null,null,null,null,null,null,null,null,null,null,null,null,null,null,null,null,null,null,null,null,null,null,null,"","","","","","","",null,0,0,0,0,0,0,0,0,0,0,0,0,null,0,"0",0,0,"0",0,0,0,"0",0,0,"0",0]
[null,null,null,null,null,null,null,null,null,null,null,null,null,null,null,null,null,null,null,null,null,null,null,null,null,null,null,null,null,null,null,null,null,null,null,null,null,null,null,null,null,null,null,null,"","","","","","","",null,0,0,0,0,0,0,0,0,0,0,0,0,null,0,"0",0,0,"0",0,0,0,"0",0,0,"0",0]
[null,null,null,null,null,null,null,null,null,null,null,null,null,null,null,null,null,null,null,null,null,null,null,null,null,null,null,null,null,null,null,null,null,null,null,null,null,null,null,null,null,null,null,null,"","","","","","","",null,0,0,0,0,0,0,0,0,0,0,0,0,null,0,"0",0,0,"0",0,0,0,"0",0,0,"0",0]
[null,null,null,null,null,null,null,null,null,null,null,null,null,null,null,null,null,null,null,null,null,null,null,null,null,null,null,null,null,null,null,null,null,null,null,null,null,null,null,null,null,null,null,null,"","","","","","","",null,0,0,0,0,0,0,0,0,0,0,0,0,null,0,"0",0,0,"0",0,0,0,"0",0,0,"0",0]
[null,null,null,null,null,null,null,null,null,null,null,null,null,null,null,null,null,null,null,null,null,null,null,null,null,null,null,null,null,null,null,null,null,null,null,null,null,null,null,null,null,null,null,null,"","","","","","","",null,0,0,0,0,0,0,0,0,0,0,0,0,null,0,"0",0,0,"0",0,0,0,"0",0,0,"0",0]
[null,null,null,null,null,null,null,null,null,null,null,null,null,null,null,null,null,null,null,null,null,null,null,null,null,null,null,null,null,null,null,null,null,null,null,null,null,null,null,null,null,null,null,null,"","","","","","","",null,0,0,0,0,0,0,0,0,0,0,0,0,null,0,"0",0,0,"0",0,0,0,"0",0,0,"0",0]
[null,null,null,null,null,null,null,null,null,null,null,null,null,null,null,null,null,null,null,null,null,null,null,null,null,null,null,null,null,null,null,null,null,null,null,null,null,null,null,null,null,null,null,null,"","","","","","","",null,0,0,0,0,0,0,0,0,0,0,0,0,null,0,"0",0,0,"0",0,0,0,"0",0,0,"0",0]
[null,null,null,null,null,null,null,null,null,null,null,null,null,null,null,null,null,null,null,null,null,null,null,null,null,null,null,null,null,null,null,null,null,null,null,null,null,null,null,null,null,null,null,null,"","","","","","","",null,0,0,0,0,0,0,0,0,0,0,0,0,null,0,"0",0,0,"0",0,0,0,"0",0,0,"0",0]
[null,null,null,null,null,null,null,null,null,null,null,null,null,null,null,null,null,null,null,null,null,null,null,null,null,null,null,null,null,null,null,null,null,null,null,null,null,null,null,null,null,null,null,null,"","","","","","","",null,0,0,0,0,0,0,0,0,0,0,0,0,null,0,"0",0,0,"0",0,0,0,"0",0,0,"0",0]
[null,null,null,null,null,null,null,null,null,null,null,null,null,null,null,null,null,null,null,null,null,null,null,null,null,null,null,null,null,null,null,null,null,null,null,null,null,null,null,null,null,null,null,null,"","","","","","","",null,0,0,0,0,0,0,0,0,0,0,0,0,null,0,"0",0,0,"0",0,0,0,"0",0,0,"0",0]
[null,null,null,null,null,null,null,null,null,null,null,null,null,null,null,null,null,null,null,null,null,null,null,null,null,null,null,null,null,null,null,null,null,null,null,null,null,null,null,null,null,null,null,null,"","","","","","","",null,0,0,0,0,0,0,0,0,0,0,0,0,null,0,"0",0,0,"0",0,0,0,"0",0,0,"0",0]
[null,null,null,null,null,null,null,null,null,null,null,null,null,null,null,null,null,null,null,null,null,null,null,null,null,null,null,null,null,null,null,null,null,null,null,null,null,null,null,null,null,null,null,null,"","","","","","","",null,0,0,0,0,0,0,0,0,0,0,0,0,null,0,"0",0,0,"0",0,0,0,"0",0,0,"0",0]
[null,null,null,null,null,null,null,null,null,null,null,null,null,null,null,null,null,null,null,null,null,null,null,null,null,null,null,null,null,null,null,null,null,null,null,null,null,null,null,null,null,null,null,null,"","","","","","","",null,0,0,0,0,0,0,0,0,0,0,0,0,null,0,"0",0,0,"0",0,0,0,"0",0,0,"0",0]
[null,null,null,null,null,null,null,null,null,null,null,null,null,null,null,null,null,null,null,null,null,null,null,null,null,null,null,null,null,null,null,null,null,null,null,null,null,null,null,null,null,null,null,null,"","","","","","","",null,0,0,0,0,0,0,0,0,0,0,0,0,null,0,"0",0,0,"0",0,0,0,"0",0,0,"0",0]
[null,null,null,null,null,null,null,null,null,null,null,null,null,null,null,null,null,null,null,null,null,null,null,null,null,null,null,null,null,null,null,null,null,null,null,null,null,null,null,null,null,null,null,null,"","","","","","","",null,0,0,0,0,0,0,0,0,0,0,0,0,null,0,"0",0,0,"0",0,0,0,"0",0,0,"0",0]
[null,null,null,null,null,null,null,null,null,null,null,null,null,null,null,null,null,null,null,null,null,null,null,null,null,null,null,null,null,null,null,null,null,null,null,null,null,null,null,null,null,null,null,null,"","","","","","","",null,0,0,0,0,0,0,0,0,0,0,0,0,null,0,"0",0,0,"0",0,0,0,"0",0,0,"0",0]
[null,null,null,null,null,null,null,null,null,null,null,null,null,null,null,null,null,null,null,null,null,null,null,null,null,null,null,null,null,null,null,null,null,null,null,null,null,null,null,null,null,null,null,null,"","","","","","","",null,0,0,0,0,0,0,0,0,0,0,0,0,null,0,"0",0,0,"0",0,0,0,"0",0,0,"0",0]
[null,null,null,null,null,null,null,null,null,null,null,null,null,null,null,null,null,null,null,null,null,null,null,null,null,null,null,null,null,null,null,null,null,null,null,null,null,null,null,null,null,null,null,null,"","","","","","","",null,0,0,0,0,0,0,0,0,0,0,0,0,null,0,"0",0,0,"0",0,0,0,"0",0,0,"0",0]
[null,null,null,null,null,null,null,null,null,null,null,null,null,null,null,null,null,null,null,null,null,null,null,null,null,null,null,null,null,null,null,null,null,null,null,null,null,null,null,null,null,null,null,null,"","","","","","","",null,0,0,0,0,0,0,0,0,0,0,0,0,null,0,"0",0,0,"0",0,0,0,"0",0,0,"0",0]
[null,null,null,null,null,null,null,null,null,null,null,null,null,null,null,null,null,null,null,null,null,null,null,null,null,null,null,null,null,null,null,null,null,null,null,null,null,null,null,null,null,null,null,null,"","","","","","","",null,0,0,0,0,0,0,0,0,0,0,0,0,null,0,"0",0,0,"0",0,0,0,"0",0,0,"0",0]
[null,null,null,null,null,null,null,null,null,null,null,null,null,null,null,null,null,null,null,null,null,null,null,null,null,null,null,null,null,null,null,null,null,null,null,null,null,null,null,null,null,null,null,null,"","","","","","","",null,0,0,0,0,0,0,0,0,0,0,0,0,null,0,"0",0,0,"0",0,0,0,"0",0,0,"0",0]
[null,null,null,null,null,null,null,null,null,null,null,null,null,null,null,null,null,null,null,null,null,null,null,null,null,null,null,null,null,null,null,null,null,null,null,null,null,null,null,null,null,null,null,null,"","","","","","","",null,0,0,0,0,0,0,0,0,0,0,0,0,null,0,"0",0,0,"0",0,0,0,"0",0,0,"0",0]
[null,null,null,null,null,null,null,null,null,null,null,null,null,null,null,null,null,null,null,null,null,null,null,null,null,null,null,null,null,null,null,null,null,null,null,null,null,null,null,null,null,null,null,null,"","","","","","","",null,0,0,0,0,0,0,0,0,0,0,0,0,null,0,"0",0,0,"0",0,0,0,"0",0,0,"0",0]
[null,null,null,null,null,null,null,null,null,null,null,null,null,null,null,null,null,null,null,null,null,null,null,null,null,null,null,null,null,null,null,null,null,null,null,null,null,null,null,null,null,null,null,null,"","","","","","","",null,0,0,0,0,0,0,0,0,0,0,0,0,null,0,"0",0,0,"0",0,0,0,"0",0,0,"0",0]
[null,null,null,null,null,null,null,null,null,null,null,null,null,null,null,null,null,null,null,null,null,null,null,null,null,null,null,null,null,null,null,null,null,null,null,null,null,null,null,null,null,null,null,null,"","","","","","","",null,0,0,0,0,0,0,0,0,0,0,0,0,null,0,"0",0,0,"0",0,0,0,"0",0,0,"0",0]
[null,null,null,null,null,null,null,null,null,null,null,null,null,null,null,null,null,null,null,null,null,null,null,null,null,null,null,null,null,null,null,null,null,null,null,null,null,null,null,null,null,null,null,null,"","","","","","","",null,0,0,0,0,0,0,0,0,0,0,0,0,null,0,"0",0,0,"0",0,0,0,"0",0,0,"0",0]
[null,null,null,null,null,null,null,null,null,null,null,null,null,null,null,null,null,null,null,null,null,null,null,null,null,null,null,null,null,null,null,null,null,null,null,null,null,null,null,null,null,null,null,null,"","","","","","","",null,0,0,0,0,0,0,0,0,0,0,0,0,null,0,"0",0,0,"0",0,0,0,"0",0,0,"0",0]
[null,null,null,null,null,null,null,null,null,null,null,null,null,null,null,null,null,null,null,null,null,null,null,null,null,null,null,null,null,null,null,null,null,null,null,null,null,null,null,null,null,null,null,null,"","","","","","","",null,0,0,0,0,0,0,0,0,0,0,0,0,null,0,"0",0,0,"0",0,0,0,"0",0,0,"0",0]
[null,null,null,null,null,null,null,null,null,null,null,null,null,null,null,null,null,null,null,null,null,null,null,null,null,null,null,null,null,null,null,null,null,null,null,null,null,null,null,null,null,null,null,null,"","","","","","","",null,0,0,0,0,0,0,0,0,0,0,0,0,null,0,"0",0,0,"0",0,0,0,"0",0,0,"0",0]
[null,null,null,null,null,null,null,null,null,null,null,null,null,null,null,null,null,null,null,null,null,null,null,null,null,null,null,null,null,null,null,null,null,null,null,null,null,null,null,null,null,null,null,null,"","","","","","","",null,0,0,0,0,0,0,0,0,0,0,0,0,null,0,"0",0,0,"0",0,0,0,"0",0,0,"0",0]
[null,null,null,null,null,null,null,null,null,null,null,null,null,null,null,null,null,null,null,null,null,null,null,null,null,null,null,null,null,null,null,null,null,null,null,null,null,null,null,null,null,null,null,null,"","","","","","","",null,0,0,0,0,0,0,0,0,0,0,0,0,null,0,"0",0,0,"0",0,0,0,"0",0,0,"0",0]
[null,null,null,null,null,null,null,null,null,null,null,null,null,null,null,null,null,null,null,null,null,null,null,null,null,null,null,null,null,null,null,null,null,null,null,null,null,null,null,null,null,null,null,null,"","","","","","","",null,0,0,0,0,0,0,0,0,0,0,0,0,null,0,"0",0,0,"0",0,0,0,"0",0,0,"0",0]
[null,null,null,null,null,null,null,null,null,null,null,null,null,null,null,null,null,null,null,null,null,null,null,null,null,null,null,null,null,null,null,null,null,null,null,null,null,null,null,null,null,null,null,null,"","","","","","","",null,0,0,0,0,0,0,0,0,0,0,0,0,null,0,"0",0,0,"0",0,0,0,"0",0,0,"0",0]
[null,null,null,null,null,null,null,null,null,null,null,null,null,null,null,null,null,null,null,null,null,null,null,null,null,null,null,null,null,null,null,null,null,null,null,null,null,null,null,null,null,null,null,null,"","","","","","","",null,0,0,0,0,0,0,0,0,0,0,0,0,null,0,"0",0,0,"0",0,0,0,"0",0,0,"0",0]
[null,null,null,null,null,null,null,null,null,null,null,null,null,null,null,null,null,null,null,null,null,null,null,null,null,null,null,null,null,null,null,null,null,null,null,null,null,null,null,null,null,null,null,null,"","","","","","","",null,0,0,0,0,0,0,0,0,0,0,0,0,null,0,"0",0,0,"0",0,0,0,"0",0,0,"0",0]
[null,null,null,null,null,null,null,null,null,null,null,null,null,null,null,null,null,null,null,null,null,null,null,null,null,null,null,null,null,null,null,null,null,null,null,null,null,null,null,null,null,null,null,null,"","","","","","","",null,0,0,0,0,0,0,0,0,0,0,0,0,null,0,"0",0,0,"0",0,0,0,"0",0,0,"0",0]
[null,null,null,null,null,null,null,null,null,null,null,null,null,null,null,null,null,null,null,null,null,null,null,null,null,null,null,null,null,null,null,null,null,null,null,null,null,null,null,null,null,null,null,null,"","","","","","","",null,0,0,0,0,0,0,0,0,0,0,0,0,null,0,"0",0,0,"0",0,0,0,"0",0,0,"0",0]
[null,null,null,null,null,null,null,null,null,null,null,null,null,null,null,null,null,null,null,null,null,null,null,null,null,null,null,null,null,null,null,null,null,null,null,null,null,null,null,null,null,null,null,null,"","","","","","","",null,0,0,0,0,0,0,0,0,0,0,0,0,null,0,"0",0,0,"0",0,0,0,"0",0,0,"0",0]
[null,null,null,null,null,null,null,null,null,null,null,null,null,null,null,null,null,null,null,null,null,null,null,null,null,null,null,null,null,null,null,null,null,null,null,null,null,null,null,null,null,null,null,null,"","","","","","","",null,0,0,0,0,0,0,0,0,0,0,0,0,null,0,"0",0,0,"0",0,0,0,"0",0,0,"0",0]
[null,null,null,null,null,null,null,null,null,null,null,null,null,null,null,null,null,null,null,null,null,null,null,null,null,null,null,null,null,null,null,null,null,null,null,null,null,null,null,null,null,null,null,null,"","","","","","","",null,0,0,0,0,0,0,0,0,0,0,0,0,null,0,"0",0,0,"0",0,0,0,"0",0,0,"0",0]
[null,null,null,null,null,null,null,null,null,null,null,null,null,null,null,null,null,null,null,null,null,null,null,null,null,null,null,null,null,null,null,null,null,null,null,null,null,null,null,null,null,null,null,null,"","","","","","","",null,0,0,0,0,0,0,0,0,0,0,0,0,null,0,"0",0,0,"0",0,0,0,"0",0,0,"0",0]
[null,null,null,null,null,null,null,null,null,null,null,null,null,null,null,null,null,null,null,null,null,null,null,null,null,null,null,null,null,null,null,null,null,null,null,null,null,null,null,null,null,null,null,null,"","","","","","","",null,0,0,0,0,0,0,0,0,0,0,0,0,null,0,"0",0,0,"0",0,0,0,"0",0,0,"0",0]
[null,null,null,null,null,null,null,null,null,null,null,null,null,null,null,null,null,null,null,null,null,null,null,null,null,null,null,null,null,null,null,null,null,null,null,null,null,null,null,null,null,null,null,null,"","","","","","","",null,0,0,0,0,0,0,0,0,0,0,0,0,null,0,"0",0,0,"0",0,0,0,"0",0,0,"0",0]
[null,null,null,null,null,null,null,null,null,null,null,null,null,null,null,null,null,null,null,null,null,null,null,null,null,null,null,null,null,null,null,null,null,null,null,null,null,null,null,null,null,null,null,null,"","","","","","","",null,0,0,0,0,0,0,0,0,0,0,0,0,null,0,"0",0,0,"0",0,0,0,"0",0,0,"0",0]
[null,null,null,null,null,null,null,null,null,null,null,null,null,null,null,null,null,null,null,null,null,null,null,null,null,null,null,null,null,null,null,null,null,null,null,null,null,null,null,null,null,null,null,null,"","","","","","","",null,0,0,0,0,0,0,0,0,0,0,0,0,null,0,"0",0,0,"0",0,0,0,"0",0,0,"0",0]
[null,null,null,null,null,null,null,null,null,null,null,null,null,null,null,null,null,null,null,null,null,null,null,null,null,null,null,null,null,null,null,null,null,null,null,null,null,null,null,null,null,null,null,null,"","","","","","","",null,0,0,0,0,0,0,0,0,0,0,0,0,null,0,"0",0,0,"0",0,0,0,"0",0,0,"0",0]
[null,null,null,null,null,null,null,null,null,null,null,null,null,null,null,null,null,null,null,null,null,null,null,null,null,null,null,null,null,null,null,null,null,null,null,null,null,null,null,null,null,null,null,null,"","","","","","","",null,0,0,0,0,0,0,0,0,0,0,0,0,null,0,"0",0,0,"0",0,0,0,"0",0,0,"0",0]
[null,null,null,null,null,null,null,null,null,null,null,null,null,null,null,null,null,null,null,null,null,null,null,null,null,null,null,null,null,null,null,null,null,null,null,null,null,null,null,null,null,null,null,null,"","","","","","","",null,0,0,0,0,0,0,0,0,0,0,0,0,null,0,"0",0,0,"0",0,0,0,"0",0,0,"0",0]
[null,null,null,null,null,null,null,null,null,null,null,null,null,null,null,null,null,null,null,null,null,null,null,null,null,null,null,null,null,null,null,null,null,null,null,null,null,null,null,null,null,null,null,null,"","","","","","","",null,0,0,0,0,0,0,0,0,0,0,0,0,null,0,"0",0,0,"0",0,0,0,"0",0,0,"0",0]
[null,null,null,null,null,null,null,null,null,null,null,null,null,null,null,null,null,null,null,null,null,null,null,null,null,null,null,null,null,null,null,null,null,null,null,null,null,null,null,null,null,null,null,null,"","","","","","","",null,0,0,0,0,0,0,0,0,0,0,0,0,null,0,"0",0,0,"0",0,0,0,"0",0,0,"0",0]
[null,null,null,null,null,null,null,null,null,null,null,null,null,null,null,null,null,null,null,null,null,null,null,null,null,null,null,null,null,null,null,null,null,null,null,null,null,null,null,null,null,null,null,null,"","","","","","","",null,0,0,0,0,0,0,0,0,0,0,0,0,null,0,"0",0,0,"0",0,0,0,{"$f":"IF(SUM(BT449+BU449>=1),\"1\",\"0\")","v":"0"},0,0,"0",0]
[null,null,null,null,null,null,null,null,null,null,null,null,null,null,null,null,null,null,null,null,null,null,null,null,null,null,null,null,null,null,null,null,null,null,null,null,null,null,null,null,null,null,null,null,{"$f":"IF(K450=\"\",\"\",L450-K450)","v":""},{"$f":"IF(M450=\"\",\"\",R450-M450)","v":""},{"$f":"IF(U450=\"\",\"\",U450-R450)","v":""},{"$f":"IF(AM450=\"\",\"\",(AL450+AM450)-(B450+M450))","v":""},{"$f":"IF(N450=\"\",\"\",O450-N450)","v":""},{"$f":"IF(AM450=\"\",\"\",((AL450+AM450)-(B450+O450)))","v":""},{"$f":"IF(B450=\"\",\"\",ROUNDUP(MONTH(B450)/3,0))","v":""},null,{"$f":"COUNTIFS(C450, \">= 35\",F450, \"<>Suspected Stroke Symptoms\",G450,\"No\",O450,\"<>\"\"\")","v":0},{"$f":"COUNTIFS(C450, \">= 35\",F450, \"<>Suspected Stroke Symptoms\",G450,\"No\",O450,\"<>\"\"\",Q450,\"Yes\")","v":0},{"$f":"COUNTIFS(C450,\">=18\",S450,\"=TRUE\",AE450,\"=TRUE\", AM450,\"<>\"\"\")","v":0},{"$f":"COUNTIFS(C450,\">=18\",S450,\"=TRUE\",AE450,\"=TRUE\", AM450,\"<>\"\"\",AV450,\"<=0:90\",BE450,\"0\")","v":0},{"$f":"COUNTIFS(C450,\">=18\",S450,\"=TRUE\",AE450,\"=TRUE\", AM450,\"<>\"\"\",AV450,\"<=1:20\",AW450,\">=0:45\",AX450,\"<=0:30\",BD450, \"0\")","v":0},0,0,0,0,{"$f":"COUNTIFS(C450,\">=18\",S450,\"=TRUE\",AD450,\"=TRUE\", AM450,\"<>\"\"\",AV450,\"<>\"\"\")","v":0},0,0,null,{"$f":"SUM(BD450:BE450)","v":0},"0",{"$f":"COUNTIFS(C450,\">=18\",S450,\"=TRUE\",AE450,\"=TRUE\", AM450,\"<>\"\"\",AN450,\"<>\",BN450,\"0\")","v":0},{"$f":"COUNTIFS(C450,\">=18\",S450,\"=TRUE\",AE450,\"=TRUE\", AM450,\"<>\"\"\",H450,\"Yes\",BN450,\"0\")","v":0},{"$f":"IF(SUM(BP450+BQ450>=1),\"1\",\"0\")","v":"0"},{"$f":"COUNTIFS(C450, \">= 35\",F450, \"<>Suspected Stroke Symptoms\",G450,\"No\",O450,\"<>\"\"\",H450,\"Yes\",BB450,\"0\")","v":0},0,0,"0",0,0,"0",0]
[null,null,null,null,null,null,null,null,null,null,null,null,null,null,null,null,null,null,null,null,null,null,null,null,null,null,null,null,null,null,null,null,null,null,null,null,null,null,null,null,null,null,null,null,"","","","","","","",null,0,0,0,0,0,{"$f":"COUNTIFS(C451,\">=35\",F451, \"<>Suspected Stroke Symptoms\",G451,\"NO\",Q451,\"YES\",O451,\"<>\"\"\")","v":0},{"$f":"COUNTIFS(C451,\">=35\",F451, \"<>Suspected Stroke Symptoms\",G451,\"NO\",Q451,\"YES\",O451,\"<>\"\"\",AT451,\"<=0:10\")","v":0},{"$f":"COUNTIFS(C451,\">=35\",S451,\"TRUE\",O451,\"<>\"\"\")","v":0},{"$f":"COUNTIFS(C451,\">=35\",S451,\"TRUE\",O451,\"<>\"\"\",AU451,\"<=0:10\")","v":0},0,{"$f":"COUNTIFS(C451,\">=18\",S451,\"=TRUE\",AD451,\"=TRUE\", AM451,\"<>\"\"\",AX451,\"<=0:30\")","v":0},{"$f":"COUNTIFS(C451,\">=18\",S451,\"=TRUE\",AD451,\"=TRUE\", AM451,\"<>\"\"\", AK451, \"TRUE\",AV451,\"<=1:20\")","v":0},null,0,{"$f":"IF(SUM(BK451+BL451>=1),\"1\",\"0\")","v":"0"},0,0,"0",0,{"$f":"COUNTIFS(C451,\">=35\",S451,\"TRUE\",O451,\"<>\"\"\",H451,\"Yes\",BI451,\"0\")","v":0},{"$f":"COUNTIFS(C451,\">=35\",S451,\"TRUE\",O451,\"<>\"\"\",T451,\"<>\",BI451,\"0\")","v":0},"0",{"$f":"COUNTIFS(C451,\">=18\",S451,\"=TRUE\",AD451,\"=TRUE\", AM451,\"<>\"\"\",AV451,\"<>\",BO451,\"0\")","v":0},{"$f":"COUNTIFS(C451,\">=18\",S451,\"=TRUE\",AD451,\"=TRUE\", AM451,\"<>\"\"\",H451,\"Yes\",BO451,\"0\")","v":0},{"$f":"IF(SUM(BW451+BX451>=1),\"1\",\"0\")","v":"0"},{"$f":"COUNTIFS(C451,\">=35\",F451, \"<>Suspected Stroke Symptoms\",G451,\"NO\",Q451,\"YES\",O451,\"<>\"\"\",H451,\"Yes\")","v":0}]
[null,null,null,null,null,null,null,null,null,null,null,null,null,null,null,null,null,null,null,null,null,null,null,null,null,null,null,null,null,null,null,null,null,null,null,null,null,null,null,null,null,null,null,null,"","","","","","","",null,0,0,0,0,0,0,0,0,0,0,0,0,null,0,"0",0,0,"0",0,0,0,"0",0,0,"0",0]
[null,null,null,null,null,null,null,null,null,null,null,null,null,null,null,null,null,null,null,null,null,null,null,null,null,null,null,null,null,null,null,null,null,null,null,null,null,null,null,null,null,null,null,null,"","","","","","","",null,0,0,0,0,0,0,0,0,0,0,0,0,null,0,"0",0,0,"0",0,0,0,"0",0,0,"0",0]
[null,null,null,null,null,null,null,null,null,null,null,null,null,null,null,null,null,null,null,null,null,null,null,null,null,null,null,null,null,null,null,null,null,null,null,null,null,null,null,null,null,null,null,null,"","","","","","","",null,0,0,0,0,0,0,0,0,0,0,0,0,null,0,"0",0,0,"0",0,0,0,"0",0,0,"0",0]
[null,null,null,null,null,null,null,null,null,null,null,null,null,null,null,null,null,null,null,null,null,null,null,null,null,null,null,null,null,null,null,null,null,null,null,null,null,null,null,null,null,null,null,null,"","","","","","","",null,0,0,0,0,0,0,0,0,0,0,0,0,null,0,"0",0,0,"0",0,0,0,"0",0,0,"0",0]
[null,null,null,null,null,null,null,null,null,null,null,null,null,null,null,null,null,null,null,null,null,null,null,null,null,null,null,null,null,null,null,null,null,null,null,null,null,null,null,null,null,null,null,null,"","","","","","","",null,0,0,0,0,0,0,0,0,0,0,0,0,null,0,"0",0,0,"0",0,0,0,"0",0,0,"0",0]
[null,null,null,null,null,null,null,null,null,null,null,null,null,null,null,null,null,null,null,null,null,null,null,null,null,null,null,null,null,null,null,null,null,null,null,null,null,null,null,null,null,null,null,null,"","","","","","","",null,0,0,0,0,0,0,0,0,0,0,0,0,null,0,"0",0,0,"0",0,0,0,"0",0,0,"0",0]
[null,null,null,null,null,null,null,null,null,null,null,null,null,null,null,null,null,null,null,null,null,null,null,null,null,null,null,null,null,null,null,null,null,null,null,null,null,null,null,null,null,null,null,null,"","","","","","","",null,0,0,0,0,0,0,0,0,0,0,0,0,null,0,"0",0,0,"0",0,0,0,"0",0,0,"0",0]
[null,null,null,null,null,null,null,null,null,null,null,null,null,null,null,null,null,null,null,null,null,null,null,null,null,null,null,null,null,null,null,null,null,null,null,null,null,null,null,null,null,null,null,null,"","","","","","","",null,0,0,0,0,0,0,0,0,0,0,0,0,null,0,"0",0,0,"0",0,0,0,"0",0,0,"0",0]
[null,null,null,null,null,null,null,null,null,null,null,null,null,null,null,null,null,null,null,null,null,null,null,null,null,null,null,null,null,null,null,null,null,null,null,null,null,null,null,null,null,null,null,null,"","","","","","","",null,0,0,0,0,0,0,0,0,0,0,0,0,null,0,"0",0,0,"0",0,0,0,"0",0,0,"0",0]
[null,null,null,null,null,null,null,null,null,null,null,null,null,null,null,null,null,null,null,null,null,null,null,null,null,null,null,null,null,null,null,null,null,null,null,null,null,null,null,null,null,null,null,null,"","","","","","","",null,0,0,0,0,0,0,0,0,0,0,0,0,null,0,"0",0,0,"0",0,0,0,"0",0,0,"0",0]
[null,null,null,null,null,null,null,null,null,null,null,null,null,null,null,null,null,null,null,null,null,null,null,null,null,null,null,null,null,null,null,null,null,null,null,null,null,null,null,null,null,null,null,null,"","","","","","","",null,0,0,0,0,0,0,0,0,0,0,0,0,null,0,"0",0,0,"0",0,0,0,"0",0,0,"0",0]
[null,null,null,null,null,null,null,null,null,null,null,null,null,null,null,null,null,null,null,null,null,null,null,null,null,null,null,null,null,null,null,null,null,null,null,null,null,null,null,null,null,null,null,null,"","","","","","","",null,0,0,0,0,0,0,0,0,0,0,0,0,null,0,"0",0,0,"0",0,0,0,"0",0,0,"0",0]
[null,null,null,null,null,null,null,null,null,null,null,null,null,null,null,null,null,null,null,null,null,null,null,null,null,null,null,null,null,null,null,null,null,null,null,null,null,null,null,null,null,null,null,null,"","","","","","","",null,0,0,0,0,0,0,0,0,0,0,0,0,null,0,"0",0,0,"0",0,0,0,"0",0,0,"0",0]
[null,null,null,null,null,null,null,null,null,null,null,null,null,null,null,null,null,null,null,null,null,null,null,null,null,null,null,null,null,null,null,null,null,null,null,null,null,null,null,null,null,null,null,null,"","","","","","","",null,0,0,0,0,0,0,0,0,0,0,0,0,null,0,"0",0,0,"0",0,0,0,"0",0,0,"0",0]
[null,null,null,null,null,null,null,null,null,null,null,null,null,null,null,null,null,null,null,null,null,null,null,null,null,null,null,null,null,null,null,null,null,null,null,null,null,null,null,null,null,null,null,null,"","","","","","","",null,0,0,0,0,0,0,0,0,0,0,0,0,null,0,"0",0,0,"0",0,0,0,"0",0,0,"0",0]
[null,null,null,null,null,null,null,null,null,null,null,null,null,null,null,null,null,null,null,null,null,null,null,null,null,null,null,null,null,null,null,null,null,null,null,null,null,null,null,null,null,null,null,null,"","","","","","","",null,0,0,0,0,0,0,0,0,0,0,0,0,null,0,"0",0,0,"0",0,0,0,"0",0,0,"0",0]
[null,null,null,null,null,null,null,null,null,null,null,null,null,null,null,null,null,null,null,null,null,null,null,null,null,null,null,null,null,null,null,null,null,null,null,null,null,null,null,null,null,null,null,null,"","","","","","","",null,0,0,0,0,0,0,0,0,0,0,0,0,null,0,"0",0,0,"0",0,0,0,"0",0,0,"0",0]
[null,null,null,null,null,null,null,null,null,null,null,null,null,null,null,null,null,null,null,null,null,null,null,null,null,null,null,null,null,null,null,null,null,null,null,null,null,null,null,null,null,null,null,null,"","","","","","","",null,0,0,0,0,0,0,0,0,0,0,0,0,null,0,"0",0,0,"0",0,0,0,"0",0,0,"0",0]
[null,null,null,null,null,null,null,null,null,null,null,null,null,null,null,null,null,null,null,null,null,null,null,null,null,null,null,null,null,null,null,null,null,null,null,null,null,null,null,null,null,null,null,null,"","","","","","","",null,0,0,0,0,0,0,0,0,0,0,0,0,null,0,"0",0,0,"0",0,0,0,"0",0,0,"0",0]
[null,null,null,null,null,null,null,null,null,null,null,null,null,null,null,null,null,null,null,null,null,null,null,null,null,null,null,null,null,null,null,null,null,null,null,null,null,null,null,null,null,null,null,null,"","","","","","","",null,0,0,0,0,0,0,0,0,0,0,0,0,null,0,"0",0,0,"0",0,0,0,"0",0,0,"0",0]
[null,null,null,null,null,null,null,null,null,null,null,null,null,null,null,null,null,null,null,null,null,null,null,null,null,null,null,null,null,null,null,null,null,null,null,null,null,null,null,null,null,null,null,null,"","","","","","","",null,0,0,0,0,0,0,0,0,0,0,0,0,null,0,"0",0,0,"0",0,0,0,"0",0,0,"0",0]
[null,null,null,null,null,null,null,null,null,null,null,null,null,null,null,null,null,null,null,null,null,null,null,null,null,null,null,null,null,null,null,null,null,null,null,null,null,null,null,null,null,null,null,null,"","","","","","","",null,0,0,0,0,0,0,0,0,0,0,0,0,null,0,"0",0,0,"0",0,0,0,"0",0,0,"0",0]
[null,null,null,null,null,null,null,null,null,null,null,null,null,null,null,null,null,null,null,null,null,null,null,null,null,null,null,null,null,null,null,null,null,null,null,null,null,null,null,null,null,null,null,null,"","","","","","","",null,0,0,0,0,0,0,0,0,0,0,0,0,null,0,"0",0,0,"0",0,0,0,"0",0,0,"0",0]
[null,null,null,null,null,null,null,null,null,null,null,null,null,null,null,null,null,null,null,null,null,null,null,null,null,null,null,null,null,null,null,null,null,null,null,null,null,null,null,null,null,null,null,null,"","","","","","","",null,0,0,0,0,0,0,0,0,0,0,0,0,null,0,"0",0,0,"0",0,0,0,"0",0,0,"0",0]
[null,null,null,null,null,null,null,null,null,null,null,null,null,null,null,null,null,null,null,null,null,null,null,null,null,null,null,null,null,null,null,null,null,null,null,null,null,null,null,null,null,null,null,null,"","","","","","","",null,0,0,0,0,0,0,0,0,0,0,0,0,null,0,"0",0,0,"0",0,0,0,"0",0,0,"0",0]
[null,null,null,null,null,null,null,null,null,null,null,null,null,null,null,null,null,null,null,null,null,null,null,null,null,null,null,null,null,null,null,null,null,null,null,null,null,null,null,null,null,null,null,null,"","","","","","","",null,0,0,0,0,0,0,0,0,0,0,0,0,null,0,"0",0,0,"0",0,0,0,"0",0,0,"0",0]
[null,null,null,null,null,null,null,null,null,null,null,null,null,null,null,null,null,null,null,null,null,null,null,null,null,null,null,null,null,null,null,null,null,null,null,null,null,null,null,null,null,null,null,null,"","","","","","","",null,0,0,0,0,0,0,0,0,0,0,0,0,null,0,"0",0,0,"0",0,0,0,"0",0,0,"0",0]
[null,null,null,null,null,null,null,null,null,null,null,null,null,null,null,null,null,null,null,null,null,null,null,null,null,null,null,null,null,null,null,null,null,null,null,null,null,null,null,null,null,null,null,null,"","","","","","","",null,0,0,0,0,0,0,0,0,0,0,0,0,null,0,"0",0,0,"0",0,0,0,"0",0,0,"0",0]
[null,null,null,null,null,null,null,null,null,null,null,null,null,null,null,null,null,null,null,null,null,null,null,null,null,null,null,null,null,null,null,null,null,null,null,null,null,null,null,null,null,null,null,null,"","","","","","","",null,0,0,0,0,0,0,0,0,0,0,0,0,null,0,"0",0,0,"0",0,0,0,"0",0,0,"0",0]
[null,null,null,null,null,null,null,null,null,null,null,null,null,null,null,null,null,null,null,null,null,null,null,null,null,null,null,null,null,null,null,null,null,null,null,null,null,null,null,null,null,null,null,null,"","","","","","","",null,0,0,0,0,0,0,0,0,0,0,0,0,null,0,"0",0,0,"0",0,0,0,"0",0,0,"0",0]
[null,null,null,null,null,null,null,null,null,null,null,null,null,null,null,null,null,null,null,null,null,null,null,null,null,null,null,null,null,null,null,null,null,null,null,null,null,null,null,null,null,null,null,null,"","","","","","","",null,0,0,0,0,0,0,0,0,0,0,0,0,null,0,"0",0,0,"0",0,0,0,"0",0,0,"0",0]
[null,null,null,null,null,null,null,null,null,null,null,null,null,null,null,null,null,null,null,null,null,null,null,null,null,null,null,null,null,null,null,null,null,null,null,null,null,null,null,null,null,null,null,null,"","","","","","","",null,0,0,0,0,0,0,0,0,0,0,0,0,null,0,"0",0,0,"0",0,0,0,"0",0,0,"0",0]
[null,null,null,null,null,null,null,null,null,null,null,null,null,null,null,null,null,null,null,null,null,null,null,null,null,null,null,null,null,null,null,null,null,null,null,null,null,null,null,null,null,null,null,null,"","","","","","","",null,0,0,0,0,0,0,0,0,0,0,0,0,null,0,"0",0,0,"0",0,0,0,"0",0,0,"0",0]
[null,null,null,null,null,null,null,null,null,null,null,null,null,null,null,null,null,null,null,null,null,null,null,null,null,null,null,null,null,null,null,null,null,null,null,null,null,null,null,null,null,null,null,null,"","","","","","","",null,0,0,0,0,0,0,0,0,0,0,0,0,null,0,"0",0,0,"0",0,0,0,"0",0,0,"0",0]
[null,null,null,null,null,null,null,null,null,null,null,null,null,null,null,null,null,null,null,null,null,null,null,null,null,null,null,null,null,null,null,null,null,null,null,null,null,null,null,null,null,null,null,null,"","","","","","","",null,0,0,0,0,0,0,0,0,0,0,0,0,null,0,"0",0,0,"0",0,0,0,"0",0,0,"0",0]
[null,null,null,null,null,null,null,null,null,null,null,null,null,null,null,null,null,null,null,null,null,null,null,null,null,null,null,null,null,null,null,null,null,null,null,null,null,null,null,null,null,null,null,null,"","","","","","","",null,0,0,0,0,0,0,0,0,0,0,0,0,null,0,"0",0,0,"0",0,0,0,"0",0,0,"0",0]
[null,null,null,null,null,null,null,null,null,null,null,null,null,null,null,null,null,null,null,null,null,null,null,null,null,null,null,null,null,null,null,null,null,null,null,null,null,null,null,null,null,null,null,null,"","","","","","","",null,0,0,0,0,0,0,0,0,0,0,0,0,null,0,"0",0,0,"0",0,0,0,"0",0,0,"0",0]
[null,null,null,null,null,null,null,null,null,null,null,null,null,null,null,null,null,null,null,null,null,null,null,null,null,null,null,null,null,null,null,null,null,null,null,null,null,null,null,null,null,null,null,null,"","","","","","","",null,0,0,0,0,0,0,0,0,0,0,0,0,null,0,"0",0,0,"0",0,0,0,"0",0,0,"0",0]
[null,null,null,null,null,null,null,null,null,null,null,null,null,null,null,null,null,null,null,null,null,null,null,null,null,null,null,null,null,null,null,null,null,null,null,null,null,null,null,null,null,null,null,null,"","","","","","","",null,0,0,0,0,0,0,0,0,0,0,0,0,null,0,"0",0,0,"0",0,0,0,"0",0,0,"0",0]
[null,null,null,null,null,null,null,null,null,null,null,null,null,null,null,null,null,null,null,null,null,null,null,null,null,null,null,null,null,null,null,null,null,null,null,null,null,null,null,null,null,null,null,null,"","","","","","","",null,0,0,0,0,0,0,0,0,0,0,0,0,null,0,"0",0,0,"0",0,0,0,"0",0,0,"0",0]
[null,null,null,null,null,null,null,null,null,null,null,null,null,null,null,null,null,null,null,null,null,null,null,null,null,null,null,null,null,null,null,null,null,null,null,null,null,null,null,null,null,null,null,null,"","","","","","","",null,0,0,0,0,0,0,0,0,0,0,0,0,null,0,"0",0,0,"0",0,0,0,"0",0,0,"0",0]
[null,null,null,null,null,null,null,null,null,null,null,null,null,null,null,null,null,null,null,null,null,null,null,null,null,null,null,null,null,null,null,null,null,null,null,null,null,null,null,null,null,null,null,null,"","","","","","","",null,0,0,0,0,0,0,0,0,0,0,0,0,null,0,"0",0,0,"0",0,0,0,"0",0,0,"0",0]
[null,null,null,null,null,null,null,null,null,null,null,null,null,null,null,null,null,null,null,null,null,null,null,null,null,null,null,null,null,null,null,null,null,null,null,null,null,null,null,null,null,null,null,null,"","","","","","","",null,0,0,0,0,0,0,0,0,0,0,0,0,null,0,"0",0,0,"0",0,0,0,"0",0,0,"0",0]
[null,null,null,null,null,null,null,null,null,null,null,null,null,null,null,null,null,null,null,null,null,null,null,null,null,null,null,null,null,null,null,null,null,null,null,null,null,null,null,null,null,null,null,null,"","","","","","","",null,0,0,0,0,0,0,0,0,0,0,0,0,null,0,"0",0,0,"0",0,0,0,"0",0,0,"0",0]
[null,null,null,null,null,null,null,null,null,null,null,null,null,null,null,null,null,null,null,null,null,null,null,null,null,null,null,null,null,null,null,null,null,null,null,null,null,null,null,null,null,null,null,null,"","","","","","","",null,0,0,0,0,0,0,0,0,0,0,0,0,null,0,"0",0,0,"0",0,0,0,"0",0,0,"0",0]
[null,null,null,null,null,null,null,null,null,null,null,null,null,null,null,null,null,null,null,null,null,null,null,null,null,null,null,null,null,null,null,null,null,null,null,null,null,null,null,null,null,null,null,null,"","","","","","","",null,0,0,0,0,0,0,0,0,0,0,0,0,null,0,"0",0,0,"0",0,0,0,"0",0,0,"0",0]
[null,null,null,null,null,null,null,null,null,null,null,null,null,null,null,null,null,null,null,null,null,null,null,null,null,null,null,null,null,null,null,null,null,null,null,null,null,null,null,null,null,null,null,null,"","","","","","","",null,0,0,0,0,0,0,0,0,0,0,0,0,null,0,"0",0,0,"0",0,0,0,"0",0,0,"0",0]
[null,null,null,null,null,null,null,null,null,null,null,null,null,null,null,null,null,null,null,null,null,null,null,null,null,null,null,null,null,null,null,null,null,null,null,null,null,null,null,null,null,null,null,null,"","","","","","","",null,0,0,0,0,0,0,0,0,0,0,0,0,null,{"$f":"SUM(BD499:BE499)","v":0},"0",0,0,"0",0,0,0,"0",0,0,"0",0]
[null,null,null,null,null,null,null,null,null,null,null,null,null,null,null,null,null,null,null,null,null,null,null,null,null,null,null,null,null,null,null,null,null,null,null,null,null,null,null,null,null,null,null,null,"","","","","","","",null,0,0,0,0,0,0,0,0,0,0,0,0,null,{"$f":"SUM(BD500:BE500)","v":0},"0",0,0,"0",0,0,0,"0",0,0,"0",0]
[null,null,null,null,null,null,null,null,null,null,null,null,null,null,null,null,null,null,null,null,null,null,null,null,null,null,null,null,null,null,null,null,null,null,null,null,null,null,null,null,null,null,null,null,"","","","","","","",null,0,0,0,0,0,0,0,0,0,0,0,0,null,0,"0",0,0,"0",0,0,0,"0",0,0,"0",0]
[null,null,null,null,null,null,null,null,null,null,null,null,null,null,null,null,null,null,null,null,null,null,null,null,null,null,null,null,null,null,null,null,null,null,null,null,null,null,null,null,null,null,null,null,"","","","","","","",null,0,0,0,0,0,0,0,0,0,0,0,0,null,0,"0",0,0,"0",0,0,0,"0",0,0,"0",0]
[null,null,null,null,null,null,null,null,null,null,null,null,null,null,null,null,null,null,null,null,null,null,null,null,null,null,null,null,null,null,null,null,null,null,null,null,null,null,null,null,null,null,null,null,"","","","","","","",null,0,0,0,0,0,0,0,0,0,0,0,0,null,0,"0",0,0,"0",0,0,0,"0",0,0,"0",0]
[null,null,null,null,null,null,null,null,null,null,null,null,null,null,null,null,null,null,null,null,null,null,null,null,null,null,null,null,null,null,null,null,null,null,null,null,null,null,null,null,null,null,null,null,"","","","","","","",null,0,0,0,0,0,0,0,0,0,0,0,0,null,0,"0",0,0,"0",0,0,0,"0",0,0,"0",0]
[null,null,null,null,null,null,null,null,null,null,null,null,null,null,null,null,null,null,null,null,null,null,null,null,null,null,null,null,null,null,null,null,null,null,null,null,null,null,null,null,null,null,null,null,"","","","","","","",null,0,0,0,0,0,0,0,0,0,0,0,0,null,0,"0",0,0,"0",0,0,0,"0",0,0,"0",0]
[null,null,null,null,null,null,null,null,null,null,null,null,null,null,null,null,null,null,null,null,null,null,null,null,null,null,null,null,null,null,null,null,null,null,null,null,null,null,null,null,null,null,null,null,"","","","","","","",null,0,0,0,0,0,0,0,0,0,0,0,0,null,0,"0",0,0,"0",0,0,0,"0",0,0,"0",0]
[null,null,null,null,null,null,null,null,null,null,null,null,null,null,null,null,null,null,null,null,null,null,null,null,null,null,null,null,null,null,null,null,null,null,null,null,null,null,null,null,null,null,null,null,"","","","","","","",null,0,0,0,0,0,0,0,0,0,0,0,0,null,0,"0",0,0,"0",0,0,0,"0",0,0,"0",0]
[null,null,null,null,null,null,null,null,null,null,null,null,null,null,null,null,null,null,null,null,null,null,null,null,null,null,null,null,null,null,null,null,null,null,null,null,null,null,null,null,null,null,null,null,"","","","","","","",null,0,0,0,0,0,0,0,0,0,0,0,0,null,0,"0",0,0,"0",0,0,0,"0",0,0,"0",0]
[null,null,null,null,null,null,null,null,null,null,null,null,null,null,null,null,null,null,null,null,null,null,null,null,null,null,null,null,null,null,null,null,null,null,null,null,null,null,null,null,null,null,null,null,"","","","","","","",null,0,0,0,0,0,0,0,0,0,0,0,0,null,0,"0",0,0,"0",0,0,0,"0",0,0,"0",0]
[null,null,null,null,null,null,null,null,null,null,null,null,null,null,null,null,null,null,null,null,null,null,null,null,null,null,null,null,null,null,null,null,null,null,null,null,null,null,null,null,null,null,null,null,"","","","","","","",null,0,0,0,0,0,0,0,0,0,0,0,0,null,0,"0",0,0,"0",0,0,0,"0",0,0,"0",0]
[null,null,null,null,null,null,null,null,null,null,null,null,null,null,null,null,null,null,null,null,null,null,null,null,null,null,null,null,null,null,null,null,null,null,null,null,null,null,null,null,null,null,null,null,"","","","","","","",null,0,0,0,0,0,0,0,0,0,0,0,0,null,0,"0",0,0,"0",0,0,0,"0",0,0,"0",0]
[null,null,null,null,null,null,null,null,null,null,null,null,null,null,null,null,null,null,null,null,null,null,null,null,null,null,null,null,null,null,null,null,null,null,null,null,null,null,null,null,null,null,null,null,"","","","","","","",null,0,0,0,0,0,0,0,0,0,0,0,0,null,0,"0",0,0,"0",0,0,0,"0",0,0,"0",0]
[null,null,null,null,null,null,null,null,null,null,null,null,null,null,null,null,null,null,null,null,null,null,null,null,null,null,null,null,null,null,null,null,null,null,null,null,null,null,null,null,null,null,null,null,"","","","","","","",null,0,0,0,0,0,0,0,0,0,0,0,0,null,0,"0",0,0,"0",0,0,0,"0",0,0,"0",0]
[null,null,null,null,null,null,null,null,null,null,null,null,null,null,null,null,null,null,null,null,null,null,null,null,null,null,null,null,null,null,null,null,null,null,null,null,null,null,null,null,null,null,null,null,"","","","","","","",null,0,0,0,0,0,0,0,0,0,0,0,0,null,0,"0",0,0,"0",0,0,0,"0",0,0,"0",0]
[null,null,null,null,null,null,null,null,null,null,null,null,null,null,null,null,null,null,null,null,null,null,null,null,null,null,null,null,null,null,null,null,null,null,null,null,null,null,null,null,null,null,null,null,"","","","","","","",null,0,0,0,0,0,0,0,0,0,0,0,0,null,0,"0",0,0,"0",0,0,0,"0",0,0,"0",0]
[null,null,null,null,null,null,null,null,null,null,null,null,null,null,null,null,null,null,null,null,null,null,null,null,null,null,null,null,null,null,null,null,null,null,null,null,null,null,null,null,null,null,null,null,"","","","","","","",null,0,0,0,0,0,0,0,0,0,0,0,0,null,0,"0",0,0,"0",0,0,0,"0",0,0,"0",0]
[null,null,null,null,null,null,null,null,null,null,null,null,null,null,null,null,null,null,null,null,null,null,null,null,null,null,null,null,null,null,null,null,null,null,null,null,null,null,null,null,null,null,null,null,"","","","","","","",null,0,0,0,0,0,0,0,0,0,0,0,0,null,0,"0",0,0,"0",0,0,0,"0",0,0,"0",0]
[null,null,null,null,null,null,null,null,null,null,null,null,null,null,null,null,null,null,null,null,null,null,null,null,null,null,null,null,null,null,null,null,null,null,null,null,null,null,null,null,null,null,null,null,"","","","","","","",null,0,0,0,0,0,0,0,0,0,0,0,0,null,0,"0",0,0,"0",0,0,0,"0",0,0,"0",0]
[null,null,null,null,null,null,null,null,null,null,null,null,null,null,null,null,null,null,null,null,null,null,null,null,null,null,null,null,null,null,null,null,null,null,null,null,null,null,null,null,null,null,null,null,"","","","","","","",null,0,0,0,0,0,0,0,0,0,0,0,0,null,0,"0",0,0,"0",0,0,0,"0",0,0,"0",0]
[null,null,null,null,null,null,null,null,null,null,null,null,null,null,null,null,null,null,null,null,null,null,null,null,null,null,null,null,null,null,null,null,null,null,null,null,null,null,null,null,null,null,null,null,"","","","","","","",null,0,0,0,0,0,0,0,0,0,0,0,0,null,0,"0",0,0,"0",0,0,0,"0",0,0,"0",0]
[null,null,null,null,null,null,null,null,null,null,null,null,null,null,null,null,null,null,null,null,null,null,null,null,null,null,null,null,null,null,null,null,null,null,null,null,null,null,null,null,null,null,null,null,"","","","","","","",null,0,0,0,0,0,0,0,0,0,0,0,0,null,0,"0",0,0,"0",0,0,0,"0",0,0,"0",0]
[null,null,null,null,null,null,null,null,null,null,null,null,null,null,null,null,null,null,null,null,null,null,null,null,null,null,null,null,null,null,null,null,null,null,null,null,null,null,null,null,null,null,null,null,"","","","","","","",null,0,0,0,0,0,0,0,0,0,0,0,0,null,0,"0",0,0,"0",0,0,0,{"$f":"IF(SUM(BT577+BU577>=1),\"1\",\"0\")","v":"0"},0,0,"0",0]
[null,null,null,null,null,null,null,null,null,null,null,null,null,null,null,null,null,null,null,null,null,null,null,null,null,null,null,null,null,null,null,null,null,null,null,null,null,null,null,null,null,null,null,null,"","","","","","","",null,0,0,0,0,0,{"$f":"COUNTIFS(C579,\">=35\",F579, \"<>Suspected Stroke Symptoms\",G579,\"NO\",Q579,\"YES\",O579,\"<>\"\"\")","v":0},{"$f":"COUNTIFS(C579,\">=35\",F579, \"<>Suspected Stroke Symptoms\",G579,\"NO\",Q579,\"YES\",O579,\"<>\"\"\",AT579,\"<=0:10\")","v":0},{"$f":"COUNTIFS(C579,\">=35\",S579,\"TRUE\",O579,\"<>\"\"\")","v":0},{"$f":"COUNTIFS(C579,\">=35\",S579,\"TRUE\",O579,\"<>\"\"\",AU579,\"<=0:10\")","v":0},0,{"$f":"COUNTIFS(C579,\">=18\",S579,\"=TRUE\",AD579,\"=TRUE\", AM579,\"<>\"\"\",AX579,\"<=0:30\")","v":0},{"$f":"COUNTIFS(C579,\">=18\",S579,\"=TRUE\",AD579,\"=TRUE\", AM579,\"<>\"\"\", AK579, \"TRUE\",AV579,\"<=1:20\")","v":0},null,0,{"$f":"IF(SUM(BK579+BL579>=1),\"1\",\"0\")","v":"0"},0,0,"0",0,{"$f":"COUNTIFS(C579,\">=35\",S579,\"TRUE\",O579,\"<>\"\"\",H579,\"Yes\",BI579,\"0\")","v":0},{"$f":"COUNTIFS(C579,\">=35\",S579,\"TRUE\",O579,\"<>\"\"\",T579,\"<>\",BI579,\"0\")","v":0},"0",{"$f":"COUNTIFS(C579,\">=18\",S579,\"=TRUE\",AD579,\"=TRUE\", AM579,\"<>\"\"\",AV579,\"<>\",BO579,\"0\")","v":0},{"$f":"COUNTIFS(C579,\">=18\",S579,\"=TRUE\",AD579,\"=TRUE\", AM579,\"<>\"\"\",H579,\"Yes\",BO579,\"0\")","v":0},{"$f":"IF(SUM(BW579+BX579>=1),\"1\",\"0\")","v":"0"},{"$f":"COUNTIFS(C579,\">=35\",F579, \"<>Suspected Stroke Symptoms\",G579,\"NO\",Q579,\"YES\",O579,\"<>\"\"\",H579,\"Yes\")","v":0}]
[null,null,null,null,null,null,null,null,null,null,null,null,null,null,null,null,null,null,null,null,null,null,null,null,null,null,null,null,null,null,null,null,null,null,null,null,null,null,null,null,null,null,null,null,"","","","","","","",null,0,0,0,0,0,0,0,0,0,0,0,0,null,0,"0",0,0,"0",0,0,0,"0",0,0,"0",0]
[null,null,null,null,null,null,null,null,null,null,null,null,null,null,null,null,null,null,null,null,null,null,null,null,null,null,null,null,null,null,null,null,null,null,null,null,null,null,null,null,null,null,null,null,"","","","","","","",null,0,0,0,0,0,0,0,0,0,0,0,0,null,0,"0",0,0,"0",0,0,0,"0",0,0,"0",0]
[null,null,null,null,null,null,null,null,null,null,null,null,null,null,null,null,null,null,null,null,null,null,null,null,null,null,null,null,null,null,null,null,null,null,null,null,null,null,null,null,null,null,null,null,"","","","","","","",null,0,0,0,0,0,0,0,0,0,0,0,0,null,0,"0",0,0,"0",0,0,0,"0",0,0,"0",0]
[null,null,null,null,null,null,null,null,null,null,null,null,null,null,null,null,null,null,null,null,null,null,null,null,null,null,null,null,null,null,null,null,null,null,null,null,null,null,null,null,null,null,null,null,"","","","","","","",null,0,0,0,0,0,0,0,0,0,0,0,0,null,0,"0",0,0,"0",0,0,0,"0",0,0,"0",0]
[null,null,null,null,null,null,null,null,null,null,null,null,null,null,null,null,null,null,null,null,null,null,null,null,null,null,null,null,null,null,null,null,null,null,null,null,null,null,null,null,null,null,null,null,"","","","","","","",null,0,0,0,0,0,0,0,0,0,0,0,0,null,0,"0",0,0,"0",0,0,0,"0",0,0,"0",0]
[null,null,null,null,null,null,null,null,null,null,null,null,null,null,null,null,null,null,null,null,null,null,null,null,null,null,null,null,null,null,null,null,null,null,null,null,null,null,null,null,null,null,null,null,"","","","","","","",null,0,0,0,0,0,0,0,0,0,0,0,0,null,0,"0",0,0,"0",0,0,0,"0",0,0,"0",0]
[null,null,null,null,null,null,null,null,null,null,null,null,null,null,null,null,null,null,null,null,null,null,null,null,null,null,null,null,null,null,null,null,null,null,null,null,null,null,null,null,null,null,null,null,"","","","","","","",null,0,0,0,0,0,0,0,0,0,0,0,0,null,0,"0",0,0,"0",0,0,0,"0",0,0,"0",0]
[null,null,null,null,null,null,null,null,null,null,null,null,null,null,null,null,null,null,null,null,null,null,null,null,null,null,null,null,null,null,null,null,null,null,null,null,null,null,null,null,null,null,null,null,"","","","","","","",null,0,0,0,0,0,0,0,0,0,0,0,0,null,0,"0",0,0,"0",0,0,0,"0",0,0,"0",0]
[null,null,null,null,null,null,null,null,null,null,null,null,null,null,null,null,null,null,null,null,null,null,null,null,null,null,null,null,null,null,null,null,null,null,null,null,null,null,null,null,null,null,null,null,"","","","","","","",null,0,0,0,0,0,0,0,0,0,0,0,0,null,0,"0",0,0,"0",0,0,0,"0",0,0,"0",0]
[null,null,null,null,null,null,null,null,null,null,null,null,null,null,null,null,null,null,null,null,null,null,null,null,null,null,null,null,null,null,null,null,null,null,null,null,null,null,null,null,null,null,null,null,"","","","","","","",null,0,0,0,0,0,0,0,0,0,0,0,0,null,0,"0",0,0,"0",0,0,0,"0",0,0,"0",0]
[null,null,null,null,null,null,null,null,null,null,null,null,null,null,null,null,null,null,null,null,null,null,null,null,null,null,null,null,null,null,null,null,null,null,null,null,null,null,null,null,null,null,null,null,"","","","","","","",null,0,0,0,0,0,0,0,0,0,0,0,0,null,0,"0",0,0,"0",0,0,0,"0",0,0,"0",0]
[null,null,null,null,null,null,null,null,null,null,null,null,null,null,null,null,null,null,null,null,null,null,null,null,null,null,null,null,null,null,null,null,null,null,null,null,null,null,null,null,null,null,null,null,"","","","","","","",null,0,0,0,0,0,0,0,0,0,0,0,0,null,0,"0",0,0,"0",0,0,0,"0",0,0,"0",0]
[null,null,null,null,null,null,null,null,null,null,null,null,null,null,null,null,null,null,null,null,null,null,null,null,null,null,null,null,null,null,null,null,null,null,null,null,null,null,null,null,null,null,null,null,"","","","","","","",null,0,0,0,0,0,0,0,0,0,0,0,0,null,0,"0",0,0,"0",0,0,0,"0",0,0,"0",0]
[null,null,null,null,null,null,null,null,null,null,null,null,null,null,null,null,null,null,null,null,null,null,null,null,null,null,null,null,null,null,null,null,null,null,null,null,null,null,null,null,null,null,null,null,"","","","","","","",null,0,0,0,0,0,0,0,0,0,0,0,0,null,0,"0",0,0,"0",0,0,0,"0",0,0,"0",0]
[null,null,null,null,null,null,null,null,null,null,null,null,null,null,null,null,null,null,null,null,null,null,null,null,null,null,null,null,null,null,null,null,null,null,null,null,null,null,null,null,null,null,null,null,"","","","","","","",null,0,0,0,0,0,0,0,0,0,0,0,0,null,0,"0",0,0,"0",0,0,0,"0",0,0,"0",0]
[null,null,null,null,null,null,null,null,null,null,null,null,null,null,null,null,null,null,null,null,null,null,null,null,null,null,null,null,null,null,null,null,null,null,null,null,null,null,null,null,null,null,null,null,"","","","","","","",null,0,0,0,0,0,0,0,0,0,0,0,0,null,0,"0",0,0,"0",0,0,0,"0",0,0,"0",0]
[null,null,null,null,null,null,null,null,null,null,null,null,null,null,null,null,null,null,null,null,null,null,null,null,null,null,null,null,null,null,null,null,null,null,null,null,null,null,null,null,null,null,null,null,"","","","","","","",null,0,0,0,0,0,0,0,0,0,0,0,0,null,0,"0",0,0,"0",0,0,0,"0",0,0,"0",0]
[null,null,null,null,null,null,null,null,null,null,null,null,null,null,null,null,null,null,null,null,null,null,null,null,null,null,null,null,null,null,null,null,null,null,null,null,null,null,null,null,null,null,null,null,"","","","","","","",null,0,0,0,0,0,{"$f":"COUNTIFS(C643,\">=35\",F643, \"<>Suspected Stroke Symptoms\",G643,\"NO\",Q643,\"YES\",O643,\"<>\"\"\")","v":0},{"$f":"COUNTIFS(C643,\">=35\",F643, \"<>Suspected Stroke Symptoms\",G643,\"NO\",Q643,\"YES\",O643,\"<>\"\"\",AT643,\"<=0:10\")","v":0},{"$f":"COUNTIFS(C643,\">=35\",S643,\"TRUE\",O643,\"<>\"\"\")","v":0},{"$f":"COUNTIFS(C643,\">=35\",S643,\"TRUE\",O643,\"<>\"\"\",AU643,\"<=0:10\")","v":0},0,{"$f":"COUNTIFS(C643,\">=18\",S643,\"=TRUE\",AD643,\"=TRUE\", AM643,\"<>\"\"\",AX643,\"<=0:30\")","v":0},{"$f":"COUNTIFS(C643,\">=18\",S643,\"=TRUE\",AD643,\"=TRUE\", AM643,\"<>\"\"\", AK643, \"TRUE\",AV643,\"<=1:20\")","v":0},null,0,{"$f":"IF(SUM(BK643+BL643>=1),\"1\",\"0\")","v":"0"},0,0,"0",0,{"$f":"COUNTIFS(C643,\">=35\",S643,\"TRUE\",O643,\"<>\"\"\",H643,\"Yes\",BI643,\"0\")","v":0},{"$f":"COUNTIFS(C643,\">=35\",S643,\"TRUE\",O643,\"<>\"\"\",T643,\"<>\",BI643,\"0\")","v":0},"0",{"$f":"COUNTIFS(C643,\">=18\",S643,\"=TRUE\",AD643,\"=TRUE\", AM643,\"<>\"\"\",AV643,\"<>\",BO643,\"0\")","v":0},{"$f":"COUNTIFS(C643,\">=18\",S643,\"=TRUE\",AD643,\"=TRUE\", AM643,\"<>\"\"\",H643,\"Yes\",BO643,\"0\")","v":0},{"$f":"IF(SUM(BW643+BX643>=1),\"1\",\"0\")","v":"0"},{"$f":"COUNTIFS(C643,\">=35\",F643, \"<>Suspected Stroke Symptoms\",G643,\"NO\",Q643,\"YES\",O643,\"<>\"\"\",H643,\"Yes\")","v":0}]
[null,null,null,null,null,null,null,null,null,null,null,null,null,null,null,null,null,null,null,null,null,null,null,null,null,null,null,null,null,null,null,null,null,null,null,null,null,null,null,null,null,null,null,null,"","","","","","","",null,0,0,0,0,0,0,0,0,0,0,0,0,null,0,"0",0,0,"0",0,0,0,"0",0,0,"0",0]
[null,null,null,null,null,null,null,null,null,null,null,null,null,null,null,null,null,null,null,null,null,null,null,null,null,null,null,null,null,null,null,null,null,null,null,null,null,null,null,null,null,null,null,null,"","","","","","","",null,0,0,0,0,0,0,0,0,0,0,0,0,null,0,"0",0,0,"0",0,0,0,"0",0,0,"0",0]
[null,null,null,null,null,null,null,null,null,null,null,null,null,null,null,null,null,null,null,null,null,null,null,null,null,null,null,null,null,null,null,null,null,null,null,null,null,null,null,null,null,null,null,null,"","","","","","","",null,0,0,0,0,0,0,0,0,0,0,0,0,null,0,"0",0,0,"0",0,0,0,"0",0,0,"0",0]
[null,null,null,null,null,null,null,null,null,null,null,null,null,null,null,null,null,null,null,null,null,null,null,null,null,null,null,null,null,null,null,null,null,null,null,null,null,null,null,null,null,null,null,null,"","","","","","","",null,0,0,0,0,0,0,0,0,0,0,0,0,null,0,"0",0,0,"0",0,0,0,"0",0,0,"0",0]
[null,null,null,null,null,null,null,null,null,null,null,null,null,null,null,null,null,null,null,null,null,null,null,null,null,null,null,null,null,null,null,null,null,null,null,null,null,null,null,null,null,null,null,null,"","","","","","","",null,0,0,0,0,0,0,0,0,0,0,0,0,null,0,"0",0,0,"0",0,0,0,"0",0,0,"0",0]
[null,null,null,null,null,null,null,null,null,null,null,null,null,null,null,null,null,null,null,null,null,null,null,null,null,null,null,null,null,null,null,null,null,null,null,null,null,null,null,null,null,null,null,null,"","","","","","","",null,0,0,0,0,0,0,0,0,0,0,0,0,null,0,"0",0,0,"0",0,0,0,"0",0,0,"0",0]
[null,null,null,null,null,null,null,null,null,null,null,null,null,null,null,null,null,null,null,null,null,null,null,null,null,null,null,null,null,null,null,null,null,null,null,null,null,null,null,null,null,null,null,null,"","","","","","","",null,0,0,0,0,0,0,0,0,0,0,0,0,null,0,"0",0,0,"0",0,0,0,"0",0,0,"0",0]
[null,null,null,null,null,null,null,null,null,null,null,null,null,null,null,null,null,null,null,null,null,null,null,null,null,null,null,null,null,null,null,null,null,null,null,null,null,null,null,null,null,null,null,null,"","","","","","","",null,0,0,0,0,0,0,0,0,0,0,0,0,null,0,"0",0,0,"0",0,0,0,"0",0,0,"0",0]
[null,null,null,null,null,null,null,null,null,null,null,null,null,null,null,null,null,null,null,null,null,null,null,null,null,null,null,null,null,null,null,null,null,null,null,null,null,null,null,null,null,null,null,null,"","","","","","","",null,0,0,0,0,0,0,0,0,0,0,0,0,null,0,"0",0,0,"0",0,0,0,"0",0,0,"0",0]
[null,null,null,null,null,null,null,null,null,null,null,null,null,null,null,null,null,null,null,null,null,null,null,null,null,null,null,null,null,null,null,null,null,null,null,null,null,null,null,null,null,null,null,null,"","","","","","","",null,0,0,0,0,0,0,0,0,0,0,0,0,null,0,"0",0,0,"0",0,0,0,"0",0,0,"0",0]
[null,null,null,null,null,null,null,null,null,null,null,null,null,null,null,null,null,null,null,null,null,null,null,null,null,null,null,null,null,null,null,null,null,null,null,null,null,null,null,null,null,null,null,null,"","","","","","","",null,0,0,0,0,0,0,0,0,0,0,0,0,null,0,"0",0,0,"0",0,0,0,"0",0,0,"0",0]
[null,null,null,null,null,null,null,null,null,null,null,null,null,null,null,null,null,null,null,null,null,null,null,null,null,null,null,null,null,null,null,null,null,null,null,null,null,null,null,null,null,null,null,null,"","","","","","","",null,0,0,0,0,0,0,0,0,0,0,0,0,null,0,"0",0,0,"0",0,0,0,"0",0,0,"0",0]
[null,null,null,null,null,null,null,null,null,null,null,null,null,null,null,null,null,null,null,null,null,null,null,null,null,null,null,null,null,null,null,null,null,null,null,null,null,null,null,null,null,null,null,null,"","","","","","","",null,0,0,0,0,0,0,0,0,0,0,0,0,null,0,"0",0,0,"0",0,0,0,"0",0,0,"0",0]
[null,null,null,null,null,null,null,null,null,null,null,null,null,null,null,null,null,null,null,null,null,null,null,null,null,null,null,null,null,null,null,null,null,null,null,null,null,null,null,null,null,null,null,null,"","","","","","","",null,0,0,0,0,0,0,0,0,0,0,0,0,null,0,"0",0,0,"0",0,0,0,"0",0,0,"0",0]
[null,null,null,null,null,null,null,null,null,null,null,null,null,null,null,null,null,null,null,null,null,null,null,null,null,null,null,null,null,null,null,null,null,null,null,null,null,null,null,null,null,null,null,null,"","","","","","","",null,0,0,0,0,0,0,0,0,0,0,0,0,null,0,"0",0,0,"0",0,0,0,"0",0,0,"0",0]
[null,null,null,null,null,null,null,null,null,null,null,null,null,null,null,null,null,null,null,null,null,null,null,null,null,null,null,null,null,null,null,null,null,null,null,null,null,null,null,null,null,null,null,null,"","","","","","","",null,0,0,0,0,0,0,0,0,0,0,0,0,null,0,"0",0,0,"0",0,0,0,"0",0,0,"0",0]
[null,null,null,null,null,null,null,null,null,null,null,null,null,null,null,null,null,null,null,null,null,null,null,null,null,null,null,null,null,null,null,null,null,null,null,null,null,null,null,null,null,null,null,null,"","","","","","","",null,0,0,0,0,0,0,0,0,0,0,0,0,null,0,"0",0,0,"0",0,0,0,"0",0,0,"0",0]
[null,null,null,null,null,null,null,null,null,null,null,null,null,null,null,null,null,null,null,null,null,null,null,null,null,null,null,null,null,null,null,null,null,null,null,null,null,null,null,null,null,null,null,null,"","","","","","","",null,0,0,0,0,0,0,0,0,0,0,0,0,null,0,"0",0,0,"0",0,0,0,"0",0,0,"0",0]
[null,null,null,null,null,null,null,null,null,null,null,null,null,null,null,null,null,null,null,null,null,null,null,null,null,null,null,null,null,null,null,null,null,null,null,null,null,null,null,null,null,null,null,null,"","","","","","","",null,0,0,0,0,0,0,0,0,0,0,0,0,null,0,"0",0,0,"0",0,0,0,"0",0,0,"0",0]
[null,null,null,null,null,null,null,null,null,null,null,null,null,null,null,null,null,null,null,null,null,null,null,null,null,null,null,null,null,null,null,null,null,null,null,null,null,null,null,null,null,null,null,null,"","","","","","","",null,0,0,0,0,0,0,0,0,0,0,0,0,null,0,"0",0,0,"0",0,0,0,"0",0,0,"0",0]
[null,null,null,null,null,null,null,null,null,null,null,null,null,null,null,null,null,null,null,null,null,null,null,null,null,null,null,null,null,null,null,null,null,null,null,null,null,null,null,null,null,null,null,null,"","","","","","","",null,0,0,0,0,0,0,0,0,0,0,0,0,null,0,"0",0,0,"0",0,0,0,"0",0,0,"0",0]
[null,null,null,null,null,null,null,null,null,null,null,null,null,null,null,null,null,null,null,null,null,null,null,null,null,null,null,null,null,null,null,null,null,null,null,null,null,null,null,null,null,null,null,null,"","","","","","","",null,0,0,0,0,0,0,0,0,0,0,0,0,null,0,"0",0,0,"0",0,0,0,"0",0,0,"0",0]
[null,null,null,null,null,null,null,null,null,null,null,null,null,null,null,null,null,null,null,null,null,null,null,null,null,null,null,null,null,null,null,null,null,null,null,null,null,null,null,null,null,null,null,null,"","","","","","","",null,0,0,0,0,0,0,0,0,0,0,0,0,null,0,"0",0,0,"0",0,0,0,"0",0,0,"0",0]
[null,null,null,null,null,null,null,null,null,null,null,null,null,null,null,null,null,null,null,null,null,null,null,null,null,null,null,null,null,null,null,null,null,null,null,null,null,null,null,null,null,null,null,null,"","","","","","","",null,0,0,0,0,0,0,0,0,0,0,0,0,null,0,"0",0,0,"0",0,0,0,"0",0,0,"0",0]
[null,null,null,null,null,null,null,null,null,null,null,null,null,null,null,null,null,null,null,null,null,null,null,null,null,null,null,null,null,null,null,null,null,null,null,null,null,null,null,null,null,null,null,null,"","","","","","","",null,0,0,0,0,0,0,0,0,0,0,0,0,null,0,"0",0,0,"0",0,0,0,"0",0,0,"0",0]
[null,null,null,null,null,null,null,null,null,null,null,null,null,null,null,null,null,null,null,null,null,null,null,null,null,null,null,null,null,null,null,null,null,null,null,null,null,null,null,null,null,null,null,null,"","","","","","","",null,0,0,0,0,0,0,0,0,0,0,0,0,null,0,"0",0,0,"0",0,0,0,"0",0,0,"0",0]
[null,null,null,null,null,null,null,null,null,null,null,null,null,null,null,null,null,null,null,null,null,null,null,null,null,null,null,null,null,null,null,null,null,null,null,null,null,null,null,null,null,null,null,null,"","","","","","","",null,0,0,0,0,0,0,0,0,0,0,0,0,null,0,"0",0,0,"0",0,0,0,"0",0,0,"0",0]
[null,null,null,null,null,null,null,null,null,null,null,null,null,null,null,null,null,null,null,null,null,null,null,null,null,null,null,null,null,null,null,null,null,null,null,null,null,null,null,null,null,null,null,null,"","","","","","","",null,0,0,0,0,0,0,0,0,0,0,0,0,null,0,"0",0,0,"0",0,0,0,"0",0,0,"0",0]
[null,null,null,null,null,null,null,null,null,null,null,null,null,null,null,null,null,null,null,null,null,null,null,null,null,null,null,null,null,null,null,null,null,null,null,null,null,null,null,null,null,null,null,null,"","","","","","","",null,0,0,0,0,0,0,0,0,0,0,0,0,null,0,"0",0,0,"0",0,0,0,"0",0,0,"0",0]
[null,null,null,null,null,null,null,null,null,null,null,null,null,null,null,null,null,null,null,null,null,null,null,null,null,null,null,null,null,null,null,null,null,null,null,null,null,null,null,null,null,null,null,null,"","","","","","","",null,0,0,0,0,0,0,0,0,0,0,0,0,null,0,"0",0,0,"0",0,0,0,"0",0,0,"0",0]
[null,null,null,null,null,null,null,null,null,null,null,null,null,null,null,null,null,null,null,null,null,null,null,null,null,null,null,null,null,null,null,null,null,null,null,null,null,null,null,null,null,null,null,null,"","","","","","","",null,0,0,0,0,0,0,0,0,0,0,0,0,null,0,"0",0,0,"0",0,0,0,"0",0,0,"0",0]
[null,null,null,null,null,null,null,null,null,null,null,null,null,null,null,null,null,null,null,null,null,null,null,null,null,null,null,null,null,null,null,null,null,null,null,null,null,null,null,null,null,null,null,null,"","","","","","","",null,0,0,0,0,0,0,0,0,0,0,0,0,null,0,"0",0,0,"0",0,0,0,"0",0,0,"0",0]
[null,null,null,null,null,null,null,null,null,null,null,null,null,null,null,null,null,null,null,null,null,null,null,null,null,null,null,null,null,null,null,null,null,null,null,null,null,null,null,null,null,null,null,null,"","","","","","","",null,0,0,0,0,0,0,0,0,0,0,0,0,null,0,"0",0,0,"0",0,0,0,"0",0,0,"0",0]
[null,null,null,null,null,null,null,null,null,null,null,null,null,null,null,null,null,null,null,null,null,null,null,null,null,null,null,null,null,null,null,null,null,null,null,null,null,null,null,null,null,null,null,null,"","","","","","","",null,0,0,0,0,0,0,0,0,0,0,0,0,null,0,"0",0,0,"0",0,0,0,"0",0,0,"0",0]
[null,null,null,null,null,null,null,null,null,null,null,null,null,null,null,null,null,null,null,null,null,null,null,null,null,null,null,null,null,null,null,null,null,null,null,null,null,null,null,null,null,null,null,null,"","","","","","","",null,0,0,0,0,0,0,0,0,0,0,0,0,null,0,"0",0,0,"0",0,0,0,{"$f":"IF(SUM(BT769+BU769>=1),\"1\",\"0\")","v":"0"},0,0,"0",0]
[null,null,null,null,null,null,null,null,null,null,null,null,null,null,null,null,null,null,null,null,null,null,null,null,null,null,null,null,null,null,null,null,null,null,null,null,null,null,null,null,null,null,null,null,"","","","","","","",null,0,0,0,0,0,{"$f":"COUNTIFS(C771,\">=35\",F771, \"<>Suspected Stroke Symptoms\",G771,\"NO\",Q771,\"YES\",O771,\"<>\"\"\")","v":0},{"$f":"COUNTIFS(C771,\">=35\",F771, \"<>Suspected Stroke Symptoms\",G771,\"NO\",Q771,\"YES\",O771,\"<>\"\"\",AT771,\"<=0:10\")","v":0},{"$f":"COUNTIFS(C771,\">=35\",S771,\"TRUE\",O771,\"<>\"\"\")","v":0},{"$f":"COUNTIFS(C771,\">=35\",S771,\"TRUE\",O771,\"<>\"\"\",AU771,\"<=0:10\")","v":0},0,{"$f":"COUNTIFS(C771,\">=18\",S771,\"=TRUE\",AD771,\"=TRUE\", AM771,\"<>\"\"\",AX771,\"<=0:30\")","v":0},{"$f":"COUNTIFS(C771,\">=18\",S771,\"=TRUE\",AD771,\"=TRUE\", AM771,\"<>\"\"\", AK771, \"TRUE\",AV771,\"<=1:20\")","v":0},null,0,{"$f":"IF(SUM(BK771+BL771>=1),\"1\",\"0\")","v":"0"},0,0,"0",0,{"$f":"COUNTIFS(C771,\">=35\",S771,\"TRUE\",O771,\"<>\"\"\",H771,\"Yes\",BI771,\"0\")","v":0},{"$f":"COUNTIFS(C771,\">=35\",S771,\"TRUE\",O771,\"<>\"\"\",T771,\"<>\",BI771,\"0\")","v":0},"0",{"$f":"COUNTIFS(C771,\">=18\",S771,\"=TRUE\",AD771,\"=TRUE\", AM771,\"<>\"\"\",AV771,\"<>\",BO771,\"0\")","v":0},{"$f":"COUNTIFS(C771,\">=18\",S771,\"=TRUE\",AD771,\"=TRUE\", AM771,\"<>\"\"\",H771,\"Yes\",BO771,\"0\")","v":0},{"$f":"IF(SUM(BW771+BX771>=1),\"1\",\"0\")","v":"0"},{"$f":"COUNTIFS(C771,\">=35\",F771, \"<>Suspected Stroke Symptoms\",G771,\"NO\",Q771,\"YES\",O771,\"<>\"\"\",H771,\"Yes\")","v":0}]
[null,null,null,null,null,null,null,null,null,null,null,null,null,null,null,null,null,null,null,null,null,null,null,null,null,null,null,null,null,null,null,null,null,null,null,null,null,null,null,null,null,null,null,null,"","","","","","","",null,0,0,0,0,0,0,0,0,0,0,0,0,null,0,"0",0,0,"0",0,0,0,"0",0,0,"0",0]
[null,null,null,null,null,null,null,null,null,null,null,null,null,null,null,null,null,null,null,null,null,null,null,null,null,null,null,null,null,null,null,null,null,null,null,null,null,null,null,null,null,null,null,null,"","","","","","","",null,0,0,0,0,0,0,0,0,0,0,0,0,null,0,"0",0,0,"0",0,0,0,"0",0,0,"0",0]
[null,null,null,null,null,null,null,null,null,null,null,null,null,null,null,null,null,null,null,null,null,null,null,null,null,null,null,null,null,null,null,null,null,null,null,null,null,null,null,null,null,null,null,null,"","","","","","","",null,0,0,0,0,0,0,0,0,0,0,0,0,null,0,"0",0,0,"0",0,0,0,"0",0,0,"0",0]
[null,null,null,null,null,null,null,null,null,null,null,null,null,null,null,null,null,null,null,null,null,null,null,null,null,null,null,null,null,null,null,null,null,null,null,null,null,null,null,null,null,null,null,null,"","","","","","","",null,0,0,0,0,0,0,0,0,0,0,0,0,null,0,"0",0,0,"0",0,0,0,"0",0,0,"0",0]
[null,null,null,null,null,null,null,null,null,null,null,null,null,null,null,null,null,null,null,null,null,null,null,null,null,null,null,null,null,null,null,null,null,null,null,null,null,null,null,null,null,null,null,null,"","","","","","","",null,0,0,0,0,0,0,0,0,0,0,0,0,null,0,"0",0,0,"0",0,0,0,"0",0,0,"0",0]
[null,null,null,null,null,null,null,null,null,null,null,null,null,null,null,null,null,null,null,null,null,null,null,null,null,null,null,null,null,null,null,null,null,null,null,null,null,null,null,null,null,null,null,null,"","","","","","","",null,0,0,0,0,0,0,0,0,0,0,0,0,null,0,"0",0,0,"0",0,0,0,"0",0,0,"0",0]
[null,null,null,null,null,null,null,null,null,null,null,null,null,null,null,null,null,null,null,null,null,null,null,null,null,null,null,null,null,null,null,null,null,null,null,null,null,null,null,null,null,null,null,null,"","","","","","","",null,0,0,0,0,0,0,0,0,0,0,0,0,null,0,"0",0,0,"0",0,0,0,"0",0,0,"0",0]
[null,null,null,null,null,null,null,null,null,null,null,null,null,null,null,null,null,null,null,null,null,null,null,null,null,null,null,null,null,null,null,null,null,null,null,null,null,null,null,null,null,null,null,null,"","","","","","","",null,0,0,0,0,0,0,0,0,0,0,0,0,null,0,"0",0,0,"0",0,0,0,"0",0,0,"0",0]
[null,null,null,null,null,null,null,null,null,null,null,null,null,null,null,null,null,null,null,null,null,null,null,null,null,null,null,null,null,null,null,null,null,null,null,null,null,null,null,null,null,null,null,null,"","","","","","","",null,0,0,0,0,0,0,0,0,0,0,0,0,null,0,"0",0,0,"0",0,0,0,"0",0,0,"0",0]
[null,null,null,null,null,null,null,null,null,null,null,null,null,null,null,null,null,null,null,null,null,null,null,null,null,null,null,null,null,null,null,null,null,null,null,null,null,null,null,null,null,null,null,null,"","","","","","","",null,0,0,0,0,0,0,0,0,0,0,0,0,null,0,"0",0,0,"0",0,0,0,"0",0,0,"0",0]
[null,null,null,null,null,null,null,null,null,null,null,null,null,null,null,null,null,null,null,null,null,null,null,null,null,null,null,null,null,null,null,null,null,null,null,null,null,null,null,null,null,null,null,null,"","","","","","","",null,0,0,0,0,0,0,0,0,0,0,0,0,null,0,"0",0,0,"0",0,0,0,"0",0,0,"0",0]
[null,null,null,null,null,null,null,null,null,null,null,null,null,null,null,null,null,null,null,null,null,null,null,null,null,null,null,null,null,null,null,null,null,null,null,null,null,null,null,null,null,null,null,null,"","","","","","","",null,0,0,0,0,0,0,0,0,0,0,0,0,null,0,"0",0,0,"0",0,0,0,"0",0,0,"0",0]
[null,null,null,null,null,null,null,null,null,null,null,null,null,null,null,null,null,null,null,null,null,null,null,null,null,null,null,null,null,null,null,null,null,null,null,null,null,null,null,null,null,null,null,null,"","","","","","","",null,0,0,0,0,0,0,0,0,0,0,0,0,null,0,"0",0,0,"0",0,0,0,"0",0,0,"0",0]
[null,null,null,null,null,null,null,null,null,null,null,null,null,null,null,null,null,null,null,null,null,null,null,null,null,null,null,null,null,null,null,null,null,null,null,null,null,null,null,null,null,null,null,null,"","","","","","","",null,0,0,0,0,0,0,0,0,0,0,0,0,null,0,"0",0,0,"0",0,0,0,"0",0,0,"0",0]
[null,null,null,null,null,null,null,null,null,null,null,null,null,null,null,null,null,null,null,null,null,null,null,null,null,null,null,null,null,null,null,null,null,null,null,null,null,null,null,null,null,null,null,null,"","","","","","","",null,0,0,0,0,0,0,0,0,0,0,0,0,null,0,"0",0,0,"0",0,0,0,"0",0,0,"0",0]
[null,null,null,null,null,null,null,null,null,null,null,null,null,null,null,null,null,null,null,null,null,null,null,null,null,null,null,null,null,null,null,null,null,null,null,null,null,null,null,null,null,null,null,null,"","","","","","","",null,0,0,0,0,0,0,0,0,0,0,0,0,null,0,"0",0,0,"0",0,0,0,"0",0,0,"0",0]
[null,null,null,null,null,null,null,null,null,null,null,null,null,null,null,null,null,null,null,null,null,null,null,null,null,null,null,null,null,null,null,null,null,null,null,null,null,null,null,null,null,null,null,null,"","","","","","","",null,0,0,0,0,0,0,0,0,0,0,0,0,null,0,"0",0,0,"0",0,0,0,"0",0,0,"0",0]
[null,null,null,null,null,null,null,null,null,null,null,null,null,null,null,null,null,null,null,null,null,null,null,null,null,null,null,null,null,null,null,null,null,null,null,null,null,null,null,null,null,null,null,null,"","","","","","","",null,0,0,0,0,0,0,0,0,0,0,0,0,null,0,"0",0,0,"0",0,0,0,"0",0,0,"0",0]
[null,null,null,null,null,null,null,null,null,null,null,null,null,null,null,null,null,null,null,null,null,null,null,null,null,null,null,null,null,null,null,null,null,null,null,null,null,null,null,null,null,null,null,null,"","","","","","","",null,0,0,0,0,0,0,0,0,0,0,0,0,null,0,"0",0,0,"0",0,0,0,"0",0,0,"0",0]
[null,null,null,null,null,null,null,null,null,null,null,null,null,null,null,null,null,null,null,null,null,null,null,null,null,null,null,null,null,null,null,null,null,null,null,null,null,null,null,null,null,null,null,null,"","","","","","","",null,0,0,0,0,0,0,0,0,0,0,0,0,null,0,"0",0,0,"0",0,0,0,"0",0,0,"0",0]
[null,null,null,null,null,null,null,null,null,null,null,null,null,null,null,null,null,null,null,null,null,null,null,null,null,null,null,null,null,null,null,null,null,null,null,null,null,null,null,null,null,null,null,null,"","","","","","","",null,0,0,0,0,0,0,0,0,0,0,0,0,null,0,"0",0,0,"0",0,0,0,"0",0,0,"0",0]
[null,null,null,null,null,null,null,null,null,null,null,null,null,null,null,null,null,null,null,null,null,null,null,null,null,null,null,null,null,null,null,null,null,null,null,null,null,null,null,null,null,null,null,null,"","","","","","","",null,0,0,0,0,0,0,0,0,0,0,0,0,null,0,"0",0,0,"0",0,0,0,"0",0,0,"0",0]
[null,null,null,null,null,null,null,null,null,null,null,null,null,null,null,null,null,null,null,null,null,null,null,null,null,null,null,null,null,null,null,null,null,null,null,null,null,null,null,null,null,null,null,null,"","","","","","","",null,0,0,0,0,0,0,0,0,0,0,0,0,null,0,"0",0,0,"0",0,0,0,"0",0,0,"0",0]
[null,null,null,null,null,null,null,null,null,null,null,null,null,null,null,null,null,null,null,null,null,null,null,null,null,null,null,null,null,null,null,null,null,null,null,null,null,null,null,null,null,null,null,null,"","","","","","","",null,0,0,0,0,0,0,0,0,0,0,0,0,null,0,"0",0,0,"0",0,0,0,"0",0,0,"0",0]
[null,null,null,null,null,null,null,null,null,null,null,null,null,null,null,null,null,null,null,null,null,null,null,null,null,null,null,null,null,null,null,null,null,null,null,null,null,null,null,null,null,null,null,null,"","","","","","","",null,0,0,0,0,0,0,0,0,0,0,0,0,null,0,"0",0,0,"0",0,0,0,"0",0,0,"0",0]
[null,null,null,null,null,null,null,null,null,null,null,null,null,null,null,null,null,null,null,null,null,null,null,null,null,null,null,null,null,null,null,null,null,null,null,null,null,null,null,null,null,null,null,null,"","","","","","","",null,0,0,0,0,0,0,0,0,0,0,0,0,null,0,"0",0,0,"0",0,0,0,"0",0,0,"0",0]
[null,null,null,null,null,null,null,null,null,null,null,null,null,null,null,null,null,null,null,null,null,null,null,null,null,null,null,null,null,null,null,null,null,null,null,null,null,null,null,null,null,null,null,null,"","","","","","","",null,0,0,0,0,0,0,0,0,0,0,0,0,null,0,"0",0,0,"0",0,0,0,"0",0,0,"0",0]
[null,null,null,null,null,null,null,null,null,null,null,null,null,null,null,null,null,null,null,null,null,null,null,null,null,null,null,null,null,null,null,null,null,null,null,null,null,null,null,null,null,null,null,null,"","","","","","","",null,0,0,0,0,0,0,0,0,0,0,0,0,null,0,"0",0,0,"0",0,0,0,"0",0,0,"0",0]
[null,null,null,null,null,null,null,null,null,null,null,null,null,null,null,null,null,null,null,null,null,null,null,null,null,null,null,null,null,null,null,null,null,null,null,null,null,null,null,null,null,null,null,null,"","","","","","","",null,0,0,0,0,0,0,0,0,0,0,0,0,null,0,"0",0,0,"0",0,0,0,"0",0,0,"0",0]
[null,null,null,null,null,null,null,null,null,null,null,null,null,null,null,null,null,null,null,null,null,null,null,null,null,null,null,null,null,null,null,null,null,null,null,null,null,null,null,null,null,null,null,null,"","","","","","","",null,0,0,0,0,0,0,0,0,0,0,0,0,null,0,"0",0,0,"0",0,0,0,"0",0,0,"0",0]
[null,null,null,null,null,null,null,null,null,null,null,null,null,null,null,null,null,null,null,null,null,null,null,null,null,null,null,null,null,null,null,null,null,null,null,null,null,null,null,null,null,null,null,null,"","","","","","","",null,0,0,0,0,0,0,0,0,0,0,0,0,null,0,"0",0,0,"0",0,0,0,"0",0,0,"0",0]
[null,null,null,null,null,null,null,null,null,null,null,null,null,null,null,null,null,null,null,null,null,null,null,null,null,null,null,null,null,null,null,null,null,null,null,null,null,null,null,null,null,null,null,null,"","","","","","","",null,0,0,0,0,0,0,0,0,0,0,0,0,null,{"$f":"SUM(BD884:BE884)","v":0},"0",0,0,"0",0,0,0,"0",0,0,"0",0]
[null,null,null,null,null,null,null,null,null,null,null,null,null,null,null,null,null,null,null,null,null,null,null,null,null,null,null,null,null,null,null,null,null,null,null,null,null,null,null,null,null,null,null,null,"","","","","","","",null,0,0,0,0,0,0,0,0,0,0,0,0,null,0,"0",0,0,"0",0,0,0,"0",0,0,"0",0]
[null,null,null,null,null,null,null,null,null,null,null,null,null,null,null,null,null,null,null,null,null,null,null,null,null,null,null,null,null,null,null,null,null,null,null,null,null,null,null,null,null,null,null,null,"","","","","","","",null,0,0,0,0,0,0,0,0,0,0,0,0,null,0,"0",0,0,"0",0,0,0,"0",0,0,"0",0]
[null,null,null,null,null,null,null,null,null,null,null,null,null,null,null,null,null,null,null,null,null,null,null,null,null,null,null,null,null,null,null,null,null,null,null,null,null,null,null,null,null,null,null,null,"","","","","","","",null,0,0,0,0,0,0,0,0,0,0,0,0,null,0,"0",0,0,"0",0,0,0,"0",0,0,"0",0]
[null,null,null,null,null,null,null,null,null,null,null,null,null,null,null,null,null,null,null,null,null,null,null,null,null,null,null,null,null,null,null,null,null,null,null,null,null,null,null,null,null,null,null,null,"","","","","","","",null,0,0,0,0,0,{"$f":"COUNTIFS(C899,\">=35\",F899, \"<>Suspected Stroke Symptoms\",G899,\"NO\",Q899,\"YES\",O899,\"<>\"\"\")","v":0},{"$f":"COUNTIFS(C899,\">=35\",F899, \"<>Suspected Stroke Symptoms\",G899,\"NO\",Q899,\"YES\",O899,\"<>\"\"\",AT899,\"<=0:10\")","v":0},{"$f":"COUNTIFS(C899,\">=35\",S899,\"TRUE\",O899,\"<>\"\"\")","v":0},{"$f":"COUNTIFS(C899,\">=35\",S899,\"TRUE\",O899,\"<>\"\"\",AU899,\"<=0:10\")","v":0},0,{"$f":"COUNTIFS(C899,\">=18\",S899,\"=TRUE\",AD899,\"=TRUE\", AM899,\"<>\"\"\",AX899,\"<=0:30\")","v":0},{"$f":"COUNTIFS(C899,\">=18\",S899,\"=TRUE\",AD899,\"=TRUE\", AM899,\"<>\"\"\", AK899, \"TRUE\",AV899,\"<=1:20\")","v":0},null,0,{"$f":"IF(SUM(BK899+BL899>=1),\"1\",\"0\")","v":"0"},0,0,"0",0,{"$f":"COUNTIFS(C899,\">=35\",S899,\"TRUE\",O899,\"<>\"\"\",H899,\"Yes\",BI899,\"0\")","v":0},{"$f":"COUNTIFS(C899,\">=35\",S899,\"TRUE\",O899,\"<>\"\"\",T899,\"<>\",BI899,\"0\")","v":0},"0",{"$f":"COUNTIFS(C899,\">=18\",S899,\"=TRUE\",AD899,\"=TRUE\", AM899,\"<>\"\"\",AV899,\"<>\",BO899,\"0\")","v":0},{"$f":"COUNTIFS(C899,\">=18\",S899,\"=TRUE\",AD899,\"=TRUE\", AM899,\"<>\"\"\",H899,\"Yes\",BO899,\"0\")","v":0},{"$f":"IF(SUM(BW899+BX899>=1),\"1\",\"0\")","v":"0"},{"$f":"COUNTIFS(C899,\">=35\",F899, \"<>Suspected Stroke Symptoms\",G899,\"NO\",Q899,\"YES\",O899,\"<>\"\"\",H899,\"Yes\")","v":0}]
[null,null,null,null,null,null,null,null,null,null,null,null,null,null,null,null,null,null,null,null,null,null,null,null,null,null,null,null,null,null,null,null,null,null,null,null,null,null,null,null,null,null,null,null,"","","","","","","",null,0,0,0,0,0,0,0,0,0,0,0,0,null,0,"0",0,0,"0",0,0,0,"0",0,0,"0",0]
[null,null,null,null,null,null,null,null,null,null,null,null,null,null,null,null,null,null,null,null,null,null,null,null,null,null,null,null,null,null,null,null,null,null,null,null,null,null,null,null,null,null,null,null,"","","","","","","",null,0,0,0,0,0,0,0,0,0,0,0,0,null,0,"0",0,0,"0",0,0,0,"0",0,0,"0",0]
[null,null,null,null,null,null,null,null,null,null,null,null,null,null,null,null,null,null,null,null,null,null,null,null,null,null,null,null,null,null,null,null,null,null,null,null,null,null,null,null,null,null,null,null,"","","","","","","",null,0,0,0,0,0,0,0,0,0,0,0,0,null,0,"0",0,0,"0",0,0,0,"0",0,0,"0",0]
[null,null,null,null,null,null,null,null,null,null,null,null,null,null,null,null,null,null,null,null,null,null,null,null,null,null,null,null,null,null,null,null,null,null,null,null,null,null,null,null,null,null,null,null,"","","","","","","",null,0,0,0,0,0,0,0,0,0,0,0,0,null,0,"0",0,0,"0",0,0,0,"0",0,0,"0",0]
[null,null,null,null,null,null,null,null,null,null,null,null,null,null,null,null,null,null,null,null,null,null,null,null,null,null,null,null,null,null,null,null,null,null,null,null,null,null,null,null,null,null,null,null,"","","","","","","",null,0,0,0,0,0,0,0,0,0,0,0,0,null,0,"0",0,0,"0",0,0,0,"0",0,0,"0",0]
[null,null,null,null,null,null,null,null,null,null,null,null,null,null,null,null,null,null,null,null,null,null,null,null,null,null,null,null,null,null,null,null,null,null,null,null,null,null,null,null,null,null,null,null,"","","","","","","",null,0,0,0,0,0,0,0,0,0,0,0,0,null,0,"0",0,0,"0",0,0,0,"0",0,0,"0",0]
[null,null,null,null,null,null,null,null,null,null,null,null,null,null,null,null,null,null,null,null,null,null,null,null,null,null,null,null,null,null,null,null,null,null,null,null,null,null,null,null,null,null,null,null,"","","","","","","",null,0,0,0,0,0,0,0,0,0,0,0,0,null,0,"0",0,0,"0",0,0,0,"0",0,0,"0",0]
[null,null,null,null,null,null,null,null,null,null,null,null,null,null,null,null,null,null,null,null,null,null,null,null,null,null,null,null,null,null,null,null,null,null,null,null,null,null,null,null,null,null,null,null,"","","","","","","",null,0,0,0,0,0,0,0,0,0,0,0,0,null,0,"0",0,0,"0",0,0,0,"0",0,0,"0",0]
[null,null,null,null,null,null,null,null,null,null,null,null,null,null,null,null,null,null,null,null,null,null,null,null,null,null,null,null,null,null,null,null,null,null,null,null,null,null,null,null,null,null,null,null,"","","","","","","",null,0,0,0,0,0,0,0,0,0,0,0,0,null,0,"0",0,0,"0",0,0,0,"0",0,0,"0",0]
[null,null,null,null,null,null,null,null,null,null,null,null,null,null,null,null,null,null,null,null,null,null,null,null,null,null,null,null,null,null,null,null,null,null,null,null,null,null,null,null,null,null,null,null,"","","","","","","",null,0,0,0,0,0,0,0,0,0,0,0,0,null,0,"0",0,0,"0",0,0,0,"0",0,0,"0",0]
[null,null,null,null,null,null,null,null,null,null,null,null,null,null,null,null,null,null,null,null,null,null,null,null,null,null,null,null,null,null,null,null,null,null,null,null,null,null,null,null,null,null,null,null,"","","","","","","",null,0,0,0,0,0,0,0,0,0,0,0,0,null,0,"0",0,0,"0",0,0,0,"0",0,0,"0",0]
[null,null,null,null,null,null,null,null,null,null,null,null,null,null,null,null,null,null,null,null,null,null,null,null,null,null,null,null,null,null,null,null,null,null,null,null,null,null,null,null,null,null,null,null,"","","","","","","",null,0,0,0,0,0,0,0,0,0,0,0,0,null,0,"0",0,0,"0",0,0,0,"0",0,0,"0",0]
[null,null,null,null,null,null,null,null,null,null,null,null,null,null,null,null,null,null,null,null,null,null,null,null,null,null,null,null,null,null,null,null,null,null,null,null,null,null,null,null,null,null,null,null,"","","","","","","",null,0,0,0,0,0,0,0,0,0,0,0,0,null,0,"0",0,0,"0",0,0,0,"0",0,0,"0",0]
[null,null,null,null,null,null,null,null,null,null,null,null,null,null,null,null,null,null,null,null,null,null,null,null,null,null,null,null,null,null,null,null,null,null,null,null,null,null,null,null,null,null,null,null,"","","","","","","",null,0,0,0,0,0,0,0,0,0,0,0,0,null,0,"0",0,0,"0",0,0,0,"0",0,0,"0",0]
[null,null,null,null,null,null,null,null,null,null,null,null,null,null,null,null,null,null,null,null,null,null,null,null,null,null,null,null,null,null,null,null,null,null,null,null,null,null,null,null,null,null,null,null,"","","","","","","",null,0,0,0,0,0,0,0,0,0,0,0,0,null,0,"0",0,0,"0",0,0,0,"0",0,0,"0",0]
[null,null,null,null,null,null,null,null,null,null,null,null,null,null,null,null,null,null,null,null,null,null,null,null,null,null,null,null,null,null,null,null,null,null,null,null,null,null,null,null,null,null,null,null,"","","","","","","",null,0,0,0,0,0,0,0,0,0,0,0,0,null,0,"0",0,0,"0",0,0,0,"0",0,0,"0",0]
[null,null,null,null,null,null,null,null,null,null,null,null,null,null,null,null,null,null,null,null,null,null,null,null,null,null,null,null,null,null,null,null,null,null,null,null,null,null,null,null,null,null,null,null,"","","","","","","",null,0,0,0,0,0,0,0,0,0,0,0,0,null,0,"0",0,0,"0",0,0,0,"0",0,0,"0",0]
[null,null,null,null,null,null,null,null,null,null,null,null,null,null,null,null,null,null,null,null,null,null,null,null,null,null,null,null,null,null,null,null,null,null,null,null,null,null,null,null,null,null,null,null,"","","","","","","",null,0,0,0,0,0,0,0,0,0,0,0,0,null,0,"0",0,0,"0",0,0,0,"0",0,0,"0",0]
[null,null,null,null,null,null,null,null,null,null,null,null,null,null,null,null,null,null,null,null,null,null,null,null,null,null,null,null,null,null,null,null,null,null,null,null,null,null,null,null,null,null,null,null,"","","","","","","",null,0,0,0,0,0,0,0,0,0,0,0,0,null,0,"0",0,0,"0",0,0,0,"0",0,0,"0",0]
[null,null,null,null,null,null,null,null,null,null,null,null,null,null,null,null,null,null,null,null,null,null,null,null,null,null,null,null,null,null,null,null,null,null,null,null,null,null,null,null,null,null,null,null,"","","","","","","",null,0,0,0,0,0,0,0,0,0,0,0,0,null,0,"0",0,0,"0",0,0,0,"0",0,0,"0",0]
[null,null,null,null,null,null,null,null,null,null,null,null,null,null,null,null,null,null,null,null,null,null,null,null,null,null,null,null,null,null,null,null,null,null,null,null,null,null,null,null,null,null,null,null,"","","","","","","",null,0,0,0,0,0,0,0,0,0,0,0,0,null,0,"0",0,0,"0",0,0,0,"0",0,0,"0",0]
[null,null,null,null,null,null,null,null,null,null,null,null,null,null,null,null,null,null,null,null,null,null,null,null,null,null,null,null,null,null,null,null,null,null,null,null,null,null,null,null,null,null,null,null,"","","","","","","",null,0,0,0,0,0,0,0,0,0,0,0,0,null,0,"0",0,0,"0",0,0,0,"0",0,0,"0",0]
[null,null,null,null,null,null,null,null,null,null,null,null,null,null,null,null,null,null,null,null,null,null,null,null,null,null,null,null,null,null,null,null,null,null,null,null,null,null,null,null,null,null,null,null,"","","","","","","",null,0,0,0,0,0,0,0,0,0,0,0,0,null,0,"0",0,0,"0",0,0,0,"0",0,0,"0",0]
[null,null,null,null,null,null,null,null,null,null,null,null,null,null,null,null,null,null,null,null,null,null,null,null,null,null,null,null,null,null,null,null,null,null,null,null,null,null,null,null,null,null,null,null,"","","","","","","",null,0,0,0,0,0,0,0,0,0,0,0,0,null,0,"0",0,0,"0",0,0,0,"0",0,0,"0",0]
[null,null,null,null,null,null,null,null,null,null,null,null,null,null,null,null,null,null,null,null,null,null,null,null,null,null,null,null,null,null,null,null,null,null,null,null,null,null,null,null,null,null,null,null,"","","","","","","",null,0,0,0,0,0,0,0,0,0,0,0,0,null,0,"0",0,0,"0",0,0,0,"0",0,0,"0",0]
[null,null,null,null,null,null,null,null,null,null,null,null,null,null,null,null,null,null,null,null,null,null,null,null,null,null,null,null,null,null,null,null,null,null,null,null,null,null,null,null,null,null,null,null,"","","","","","","",null,0,0,0,0,0,0,0,0,0,0,0,0,null,0,"0",0,0,"0",0,0,0,"0",0,0,"0",0]
[null,null,null,null,null,null,null,null,null,null,null,null,null,null,null,null,null,null,null,null,null,null,null,null,null,null,null,null,null,null,null,null,null,null,null,null,null,null,null,null,null,null,null,null,"","","","","","","",null,0,0,0,0,0,0,0,0,0,0,0,0,null,0,"0",0,0,"0",0,0,0,"0",0,0,"0",0]
[null,null,null,null,null,null,null,null,null,null,null,null,null,null,null,null,null,null,null,null,null,null,null,null,null,null,null,null,null,null,null,null,null,null,null,null,null,null,null,null,null,null,null,null,"","","","","","","",null,0,0,0,0,0,0,0,0,0,0,0,0,null,0,"0",0,0,"0",0,0,0,"0",0,0,"0",0]
[null,null,null,null,null,null,null,null,null,null,null,null,null,null,null,null,null,null,null,null,null,null,null,null,null,null,null,null,null,null,null,null,null,null,null,null,null,null,null,null,null,null,null,null,"","","","","","","",null,0,0,0,0,0,0,0,0,0,0,0,0,null,0,"0",0,0,"0",0,0,0,"0",0,0,"0",0]
[null,null,null,null,null,null,null,null,null,null,null,null,null,null,null,null,null,null,null,null,null,null,null,null,null,null,null,null,null,null,null,null,null,null,null,null,null,null,null,null,null,null,null,null,"","","","","","","",null,0,0,0,0,0,0,0,0,0,0,0,0,null,0,"0",0,0,"0",0,0,0,"0",0,0,"0",0]
[null,null,null,null,null,null,null,null,null,null,null,null,null,null,null,null,null,null,null,null,null,null,null,null,null,null,null,null,null,null,null,null,null,null,null,null,null,null,null,null,null,null,null,null,"","","","","","","",null,0,0,0,0,0,0,0,0,0,0,0,0,null,0,"0",0,0,"0",0,0,0,"0",0,0,"0",0]
[null,null,null,null,null,null,null,null,null,null,null,null,null,null,null,null,null,null,null,null,null,null,null,null,null,null,null,null,null,null,null,null,null,null,null,null,null,null,null,null,null,null,null,null,"","","","","","","",null,0,0,0,0,0,0,0,0,0,0,0,0,null,{"$f":"SUM(BD1012:BE1012)","v":0},"0",0,0,"0",0,0,0,"0",0,0,"0",0]
[null,null,null,null,null,null,null,null,null,null,null,null,null,null,null,null,null,null,null,null,null,null,null,null,null,null,null,null,null,null,null,null,null,null,null,null,null,null,null,null,null,null,null,null,"","","","","","","",null,0,0,0,0,0,0,0,0,0,0,0,0,null,0,"0",0,0,"0",0,0,0,"0",0,0,"0",0]
[null,null,null,null,null,null,null,null,null,null,null,null,null,null,null,null,null,null,null,null,null,null,null,null,null,null,null,null,null,null,null,null,null,null,null,null,null,null,null,null,null,null,null,null,"","","","","","","",null,0,0,0,0,0,0,0,0,0,0,0,0,null,0,"0",0,0,"0",0,0,0,"0",0,0,"0",0]
[null,null,null,null,null,null,null,null,null,null,null,null,null,null,null,null,null,null,null,null,null,null,null,null,null,null,null,null,null,null,null,null,null,null,null,null,null,null,null,null,null,null,null,null,"","","","","","","",null,0,0,0,0,0,0,0,0,0,0,0,0,null,0,"0",0,0,"0",0,0,0,"0",0,0,"0",0]
[null,null,null,null,null,null,null,null,null,null,null,null,null,null,null,null,null,null,null,null,null,null,null,null,null,null,null,null,null,null,null,null,null,null,null,null,null,null,null,null,null,null,null,null,{"$f":"IF(K1026=\"\",\"\",L1026-K1026)","v":""},{"$f":"IF(M1026=\"\",\"\",R1026-M1026)","v":""},{"$f":"IF(U1026=\"\",\"\",U1026-R1026)","v":""},{"$f":"IF(AM1026=\"\",\"\",(AL1026+AM1026)-(B1026+M1026))","v":""},{"$f":"IF(N1026=\"\",\"\",O1026-N1026)","v":""},{"$f":"IF(AM1026=\"\",\"\",((AL1026+AM1026)-(B1026+O1026)))","v":""},{"$f":"IF(B1026=\"\",\"\",ROUNDUP(MONTH(B1026)/3,0))","v":""},null,{"$f":"COUNTIFS(C1026, \">= 35\",F1026, \"<>Suspected Stroke Symptoms\",G1026,\"No\",O1026,\"<>\"\"\")","v":0},{"$f":"COUNTIFS(C1026, \">= 35\",F1026, \"<>Suspected Stroke Symptoms\",G1026,\"No\",O1026,\"<>\"\"\",Q1026,\"Yes\")","v":0},{"$f":"COUNTIFS(C1026,\">=18\",S1026,\"=TRUE\",AE1026,\"=TRUE\", AM1026,\"<>\"\"\")","v":0},{"$f":"COUNTIFS(C1026,\">=18\",S1026,\"=TRUE\",AE1026,\"=TRUE\", AM1026,\"<>\"\"\",AV1026,\"<=0:90\",BE1026,\"0\")","v":0},{"$f":"COUNTIFS(C1026,\">=18\",S1026,\"=TRUE\",AE1026,\"=TRUE\", AM1026,\"<>\"\"\",AV1026,\"<=1:20\",AW1026,\">=0:45\",AX1026,\"<=0:30\",BD1026, \"0\")","v":0},0,0,0,0,{"$f":"COUNTIFS(C1026,\">=18\",S1026,\"=TRUE\",AD1026,\"=TRUE\", AM1026,\"<>\"\"\",AV1026,\"<>\"\"\")","v":0},0,0,null,0,"0",{"$f":"COUNTIFS(C1026,\">=18\",S1026,\"=TRUE\",AE1026,\"=TRUE\", AM1026,\"<>\"\"\",AN1026,\"<>\",BN1026,\"0\")","v":0},{"$f":"COUNTIFS(C1026,\">=18\",S1026,\"=TRUE\",AE1026,\"=TRUE\", AM1026,\"<>\"\"\",H1026,\"Yes\",BN1026,\"0\")","v":0},{"$f":"IF(SUM(BP1026+BQ1026>=1),\"1\",\"0\")","v":"0"},{"$f":"COUNTIFS(C1026, \">= 35\",F1026, \"<>Suspected Stroke Symptoms\",G1026,\"No\",O1026,\"<>\"\"\",H1026,\"Yes\",BB1026,\"0\")","v":0},0,0,"0",0,0,"0",0]
[null,null,null,null,null,null,null,null,null,null,null,null,null,null,null,null,null,null,null,null,null,null,null,null,null,null,null,null,null,null,null,null,null,null,null,null,null,null,null,null,null,null,null,null,"","","","","","","",null,0,0,0,0,0,0,0,0,0,0,0,0,null,0,"0",0,0,"0",0,0,0,"0",0,0,"0",0]
[null,null,null,null,null,null,null,null,null,null,null,null,null,null,null,null,null,null,null,null,null,null,null,null,null,null,null,null,null,null,null,null,null,null,null,null,null,null,null,null,null,null,null,null,"","","","","","","",null,0,0,0,0,0,0,0,0,0,0,0,0,null,0,"0",0,0,"0",0,0,0,"0",0,0,"0",0]
[null,null,null,null,null,null,null,null,null,null,null,null,null,null,null,null,null,null,null,null,null,null,null,null,null,null,null,null,null,null,null,null,null,null,null,null,null,null,null,null,null,null,null,null,"","","","","","","",null,0,0,0,0,0,0,0,0,0,0,0,0,null,0,"0",0,0,"0",0,0,0,"0",0,0,"0",0]
[null,null,null,null,null,null,null,null,null,null,null,null,null,null,null,null,null,null,null,null,null,null,null,null,null,null,null,null,null,null,null,null,null,null,null,null,null,null,null,null,null,null,null,null,"","","","","","","",null,0,0,0,0,0,0,0,0,0,0,0,0,null,0,"0",0,0,"0",0,0,0,"0",0,0,"0",0]
[null,null,null,null,null,null,null,null,null,null,null,null,null,null,null,null,null,null,null,null,null,null,null,null,null,null,null,null,null,null,null,null,null,null,null,null,null,null,null,null,null,null,null,null,"","","","","","","",null,0,0,0,0,0,0,0,0,0,0,0,0,null,0,"0",0,0,"0",0,0,0,"0",0,0,"0",0]
[null,null,null,null,null,null,null,null,null,null,null,null,null,null,null,null,null,null,null,null,null,null,null,null,null,null,null,null,null,null,null,null,null,null,null,null,null,null,null,null,null,null,null,null,"","","","","","","",null,0,0,0,0,0,0,0,0,0,0,0,0,null,0,"0",0,0,"0",0,0,0,"0",0,0,"0",0]
[null,null,null,null,null,null,null,null,null,null,null,null,null,null,null,null,null,null,null,null,null,null,null,null,null,null,null,null,null,null,null,null,null,null,null,null,null,null,null,null,null,null,null,null,"","","","","","","",null,0,0,0,0,0,0,0,0,0,0,0,0,null,0,"0",0,0,"0",0,0,0,"0",0,0,"0",0]
[null,null,null,null,null,null,null,null,null,null,null,null,null,null,null,null,null,null,null,null,null,null,null,null,null,null,null,null,null,null,null,null,null,null,null,null,null,null,null,null,null,null,null,null,"","","","","","","",null,0,0,0,0,0,0,0,0,0,0,0,0,null,0,"0",0,0,"0",0,0,0,"0",0,0,"0",0]
[null,null,null,null,null,null,null,null,null,null,null,null,null,null,null,null,null,null,null,null,null,null,null,null,null,null,null,null,null,null,null,null,null,null,null,null,null,null,null,null,null,null,null,null,"","","","","","","",null,0,0,0,0,0,0,0,0,0,0,0,0,null,0,"0",0,0,"0",0,0,0,"0",0,0,"0",0]
[null,null,null,null,null,null,null,null,null,null,null,null,null,null,null,null,null,null,null,null,null,null,null,null,null,null,null,null,null,null,null,null,null,null,null,null,null,null,null,null,null,null,null,null,"","","","","","","",null,0,0,0,0,0,0,0,0,0,0,0,0,null,0,"0",0,0,"0",0,0,0,"0",0,0,"0",0]
[null,null,null,null,null,null,null,null,null,null,null,null,null,null,null,null,null,null,null,null,null,null,null,null,null,null,null,null,null,null,null,null,null,null,null,null,null,null,null,null,null,null,null,null,"","","","","","","",null,0,0,0,0,0,0,0,0,0,0,0,0,null,0,"0",0,0,"0",0,0,0,"0",0,0,"0",0]
[null,null,null,null,null,null,null,null,null,null,null,null,null,null,null,null,null,null,null,null,null,null,null,null,null,null,null,null,null,null,null,null,null,null,null,null,null,null,null,null,null,null,null,null,"","","","","","","",null,0,0,0,0,0,0,0,0,0,0,0,0,null,0,"0",0,0,"0",0,0,0,"0",0,0,"0",0]
[null,null,null,null,null,null,null,null,null,null,null,null,null,null,null,null,null,null,null,null,null,null,null,null,null,null,null,null,null,null,null,null,null,null,null,null,null,null,null,null,null,null,null,null,"","","","","","","",null,0,0,0,0,0,0,0,0,0,0,0,0,null,0,"0",0,0,"0",0,0,0,"0",0,0,"0",0]
[null,null,null,null,null,null,null,null,null,null,null,null,null,null,null,null,null,null,null,null,null,null,null,null,null,null,null,null,null,null,null,null,null,null,null,null,null,null,null,null,null,null,null,null,"","","","","","","",null,0,0,0,0,0,0,0,0,0,0,0,0,null,0,"0",0,0,"0",0,0,0,"0",0,0,"0",0]
[null,null,null,null,null,null,null,null,null,null,null,null,null,null,null,null,null,null,null,null,null,null,null,null,null,null,null,null,null,null,null,null,null,null,null,null,null,null,null,null,null,null,null,null,"","","","","","","",null,0,0,0,0,0,0,0,0,0,0,0,0,null,0,"0",0,0,"0",0,0,0,"0",0,0,"0",0]
[null,null,null,null,null,null,null,null,null,null,null,null,null,null,null,null,null,null,null,null,null,null,null,null,null,null,null,null,null,null,null,null,null,null,null,null,null,null,null,null,null,null,null,null,"","","","","","","",null,0,0,0,0,0,0,0,0,0,0,0,0,null,0,"0",0,0,"0",0,0,0,"0",0,0,"0",0]
[null,null,null,null,null,null,null,null,null,null,null,null,null,null,null,null,null,null,null,null,null,null,null,null,null,null,null,null,null,null,null,null,null,null,null,null,null,null,null,null,null,null,null,null,"","","","","","","",null,0,0,0,0,0,0,0,0,0,0,0,0,null,0,"0",0,0,"0",0,0,0,"0",0,0,"0",0]
[null,null,null,null,null,null,null,null,null,null,null,null,null,null,null,null,null,null,null,null,null,null,null,null,null,null,null,null,null,null,null,null,null,null,null,null,null,null,null,null,null,null,null,null,"","","","","","","",null,0,0,0,0,0,0,0,0,0,0,0,0,null,0,"0",0,0,"0",0,0,0,"0",0,0,"0",0]
[null,null,null,null,null,null,null,null,null,null,null,null,null,null,null,null,null,null,null,null,null,null,null,null,null,null,null,null,null,null,null,null,null,null,null,null,null,null,null,null,null,null,null,null,"","","","","","","",null,0,0,0,0,0,0,0,0,0,0,0,0,null,0,"0",0,0,"0",0,0,0,"0",0,0,"0",0]
[null,null,null,null,null,null,null,null,null,null,null,null,null,null,null,null,null,null,null,null,null,null,null,null,null,null,null,null,null,null,null,null,null,null,null,null,null,null,null,null,null,null,null,null,"","","","","","","",null,0,0,0,0,0,0,0,0,0,0,0,0,null,0,"0",0,0,"0",0,0,0,"0",0,0,"0",0]
[null,null,null,null,null,null,null,null,null,null,null,null,null,null,null,null,null,null,null,null,null,null,null,null,null,null,null,null,null,null,null,null,null,null,null,null,null,null,null,null,null,null,null,null,"","","","","","","",null,0,0,0,0,0,0,0,0,0,0,0,0,null,0,"0",0,0,"0",0,0,0,"0",0,0,"0",0]
[null,null,null,null,null,null,null,null,null,null,null,null,null,null,null,null,null,null,null,null,null,null,null,null,null,null,null,null,null,null,null,null,null,null,null,null,null,null,null,null,null,null,null,null,"","","","","","","",null,0,0,0,0,0,0,0,0,0,0,0,0,null,0,"0",0,0,"0",0,0,0,"0",0,0,"0",0]
[null,null,null,null,null,null,null,null,null,null,null,null,null,null,null,null,null,null,null,null,null,null,null,null,null,null,null,null,null,null,null,null,null,null,null,null,null,null,null,null,null,null,null,null,"","","","","","","",null,0,0,0,0,0,0,0,0,0,0,0,0,null,0,"0",0,0,"0",0,0,0,"0",0,0,"0",0]
[null,null,null,null,null,null,null,null,null,null,null,null,null,null,null,null,null,null,null,null,null,null,null,null,null,null,null,null,null,null,null,null,null,null,null,null,null,null,null,null,null,null,null,null,"","","","","","","",null,0,0,0,0,0,0,0,0,0,0,0,0,null,0,"0",0,0,"0",0,0,0,"0",0,0,"0",0]
[null,null,null,null,null,null,null,null,null,null,null,null,null,null,null,null,null,null,null,null,null,null,null,null,null,null,null,null,null,null,null,null,null,null,null,null,null,null,null,null,null,null,null,null,"","","","","","","",null,0,0,0,0,0,0,0,0,0,0,0,0,null,0,"0",0,0,"0",0,0,0,"0",0,0,"0",0]
[null,null,null,null,null,null,null,null,null,null,null,null,null,null,null,null,null,null,null,null,null,null,null,null,null,null,null,null,null,null,null,null,null,null,null,null,null,null,null,null,null,null,null,null,"","","","","","","",null,0,0,0,0,0,0,0,0,0,0,0,0,null,0,"0",0,0,"0",0,0,0,"0",0,0,"0",0]
[null,null,null,null,null,null,null,null,null,null,null,null,null,null,null,null,null,null,null,null,null,null,null,null,null,null,null,null,null,null,null,null,null,null,null,null,null,null,null,null,null,null,null,null,"","","","","","","",null,0,0,0,0,0,0,0,0,0,0,0,0,null,0,"0",0,0,"0",0,0,0,"0",0,0,"0",0]
[null,null,null,null,null,null,null,null,null,null,null,null,null,null,null,null,null,null,null,null,null,null,null,null,null,null,null,null,null,null,null,null,null,null,null,null,null,null,null,null,null,null,null,null,"","","","","","","",null,0,0,0,0,0,0,0,0,0,0,0,0,null,0,"0",0,0,"0",0,0,0,"0",0,0,"0",0]
[null,null,null,null,null,null,null,null,null,null,null,null,null,null,null,null,null,null,null,null,null,null,null,null,null,null,null,null,null,null,null,null,null,null,null,null,null,null,null,null,null,null,null,null,"","","","","","","",null,0,0,0,0,0,0,0,0,0,0,0,0,null,0,"0",0,0,"0",0,0,0,"0",0,0,"0",0]
[null,null,null,null,null,null,null,null,null,null,null,null,null,null,null,null,null,null,null,null,null,null,null,null,null,null,null,null,null,null,null,null,null,null,null,null,null,null,null,null,null,null,null,null,"","","","","","","",null,0,0,0,0,0,0,0,0,0,0,0,0,null,0,"0",0,0,"0",0,0,0,"0",0,0,"0",0]
[null,null,null,null,null,null,null,null,null,null,null,null,null,null,null,null,null,null,null,null,null,null,null,null,null,null,null,null,null,null,null,null,null,null,null,null,null,null,null,null,null,null,null,null,"","","","","","","",null,0,0,0,0,0,0,0,0,0,0,0,0,null,0,"0",0,0,"0",0,0,0,"0",0,0,"0",0]
[null,null,null,null,null,null,null,null,null,null,null,null,null,null,null,null,null,null,null,null,null,null,null,null,null,null,null,null,null,null,null,null,null,null,null,null,null,null,null,null,null,null,null,null,"","","","","","","",null,0,0,0,0,0,0,0,0,0,0,0,0,null,{"$f":"SUM(BD1140:BE1140)","v":0},"0",0,0,"0",0,0,0,"0",0,0,"0",0]
[null,null,null,null,null,null,null,null,null,null,null,null,null,null,null,null,null,null,null,null,null,null,null,null,null,null,null,null,null,null,null,null,null,null,null,null,null,null,null,null,null,null,null,null,"","","","","","","",null,0,0,0,0,0,0,0,0,0,0,0,0,null,0,"0",0,0,"0",0,0,0,"0",0,0,"0",0]
[null,null,null,null,null,null,null,null,null,null,null,null,null,null,null,null,null,null,null,null,null,null,null,null,null,null,null,null,null,null,null,null,null,null,null,null,null,null,null,null,null,null,null,null,"","","","","","","",null,0,0,0,0,0,0,0,0,0,0,0,0,null,0,"0",0,0,"0",0,0,0,"0",0,0,"0",0]
[null,null,null,null,null,null,null,null,null,null,null,null,null,null,null,null,null,null,null,null,null,null,null,null,null,null,null,null,null,null,null,null,null,null,null,null,null,null,null,null,null,null,null,null,"","","","","","","",null,0,0,0,0,0,0,0,0,0,0,0,0,null,0,"0",0,0,"0",0,0,0,"0",0,0,"0",0]
[null,null,null,null,null,null,null,null,null,null,null,null,null,null,null,null,null,null,null,null,null,null,null,null,null,null,null,null,null,null,null,null,null,null,null,null,null,null,null,null,null,null,null,null,{"$f":"IF(K1154=\"\",\"\",L1154-K1154)","v":""},{"$f":"IF(M1154=\"\",\"\",R1154-M1154)","v":""},{"$f":"IF(U1154=\"\",\"\",U1154-R1154)","v":""},{"$f":"IF(AM1154=\"\",\"\",(AL1154+AM1154)-(B1154+M1154))","v":""},{"$f":"IF(N1154=\"\",\"\",O1154-N1154)","v":""},{"$f":"IF(AM1154=\"\",\"\",((AL1154+AM1154)-(B1154+O1154)))","v":""},{"$f":"IF(B1154=\"\",\"\",ROUNDUP(MONTH(B1154)/3,0))","v":""},null,{"$f":"COUNTIFS(C1154, \">= 35\",F1154, \"<>Suspected Stroke Symptoms\",G1154,\"No\",O1154,\"<>\"\"\")","v":0},{"$f":"COUNTIFS(C1154, \">= 35\",F1154, \"<>Suspected Stroke Symptoms\",G1154,\"No\",O1154,\"<>\"\"\",Q1154,\"Yes\")","v":0},{"$f":"COUNTIFS(C1154,\">=18\",S1154,\"=TRUE\",AE1154,\"=TRUE\", AM1154,\"<>\"\"\")","v":0},{"$f":"COUNTIFS(C1154,\">=18\",S1154,\"=TRUE\",AE1154,\"=TRUE\", AM1154,\"<>\"\"\",AV1154,\"<=0:90\",BE1154,\"0\")","v":0},{"$f":"COUNTIFS(C1154,\">=18\",S1154,\"=TRUE\",AE1154,\"=TRUE\", AM1154,\"<>\"\"\",AV1154,\"<=1:20\",AW1154,\">=0:45\",AX1154,\"<=0:30\",BD1154, \"0\")","v":0},0,0,0,0,{"$f":"COUNTIFS(C1154,\">=18\",S1154,\"=TRUE\",AD1154,\"=TRUE\", AM1154,\"<>\"\"\",AV1154,\"<>\"\"\")","v":0},0,0,null,0,"0",{"$f":"COUNTIFS(C1154,\">=18\",S1154,\"=TRUE\",AE1154,\"=TRUE\", AM1154,\"<>\"\"\",AN1154,\"<>\",BN1154,\"0\")","v":0},{"$f":"COUNTIFS(C1154,\">=18\",S1154,\"=TRUE\",AE1154,\"=TRUE\", AM1154,\"<>\"\"\",H1154,\"Yes\",BN1154,\"0\")","v":0},{"$f":"IF(SUM(BP1154+BQ1154>=1),\"1\",\"0\")","v":"0"},{"$f":"COUNTIFS(C1154, \">= 35\",F1154, \"<>Suspected Stroke Symptoms\",G1154,\"No\",O1154,\"<>\"\"\",H1154,\"Yes\",BB1154,\"0\")","v":0},0,0,"0",0,0,"0",0]
[null,null,null,null,null,null,null,null,null,null,null,null,null,null,null,null,null,null,null,null,null,null,null,null,null,null,null,null,null,null,null,null,null,null,null,null,null,null,null,null,null,null,null,null,"","","","","","","",null,0,0,0,0,0,0,0,0,0,0,0,0,null,0,"0",0,0,"0",0,0,0,"0",0,0,"0",0]
[null,null,null,null,null,null,null,null,null,null,null,null,null,null,null,null,null,null,null,null,null,null,null,null,null,null,null,null,null,null,null,null,null,null,null,null,null,null,null,null,null,null,null,null,"","","","","","","",null,0,0,0,0,0,0,0,0,0,0,0,0,null,0,"0",0,0,"0",0,0,0,"0",0,0,"0",0]
[null,null,null,null,null,null,null,null,null,null,null,null,null,null,null,null,null,null,null,null,null,null,null,null,null,null,null,null,null,null,null,null,null,null,null,null,null,null,null,null,null,null,null,null,"","","","","","","",null,0,0,0,0,0,0,0,0,0,0,0,0,null,0,"0",0,0,"0",0,0,0,"0",0,0,"0",0]
[null,null,null,null,null,null,null,null,null,null,null,null,null,null,null,null,null,null,null,null,null,null,null,null,null,null,null,null,null,null,null,null,null,null,null,null,null,null,null,null,null,null,null,null,"","","","","","","",null,0,0,0,0,0,0,0,0,0,0,0,0,null,0,"0",0,0,"0",0,0,0,"0",0,0,"0",0]
[null,null,null,null,null,null,null,null,null,null,null,null,null,null,null,null,null,null,null,null,null,null,null,null,null,null,null,null,null,null,null,null,null,null,null,null,null,null,null,null,null,null,null,null,"","","","","","","",null,0,0,0,0,0,0,0,0,0,0,0,0,null,0,"0",0,0,"0",0,0,0,"0",0,0,"0",0]
[null,null,null,null,null,null,null,null,null,null,null,null,null,null,null,null,null,null,null,null,null,null,null,null,null,null,null,null,null,null,null,null,null,null,null,null,null,null,null,null,null,null,null,null,"","","","","","","",null,0,0,0,0,0,0,0,0,0,0,0,0,null,0,"0",0,0,"0",0,0,0,"0",0,0,"0",0]
[null,null,null,null,null,null,null,null,null,null,null,null,null,null,null,null,null,null,null,null,null,null,null,null,null,null,null,null,null,null,null,null,null,null,null,null,null,null,null,null,null,null,null,null,"","","","","","","",null,0,0,0,0,0,0,0,0,0,0,0,0,null,0,"0",0,0,"0",0,0,0,"0",0,0,"0",0]
[null,null,null,null,null,null,null,null,null,null,null,null,null,null,null,null,null,null,null,null,null,null,null,null,null,null,null,null,null,null,null,null,null,null,null,null,null,null,null,null,null,null,null,null,"","","","","","","",null,0,0,0,0,0,0,0,0,0,0,0,0,null,0,"0",0,0,"0",0,0,0,"0",0,0,"0",0]
[null,null,null,null,null,null,null,null,null,null,null,null,null,null,null,null,null,null,null,null,null,null,null,null,null,null,null,null,null,null,null,null,null,null,null,null,null,null,null,null,null,null,null,null,"","","","","","","",null,0,0,0,0,0,0,0,0,0,0,0,0,null,0,"0",0,0,"0",0,0,0,"0",0,0,"0",0]
[null,null,null,null,null,null,null,null,null,null,null,null,null,null,null,null,null,null,null,null,null,null,null,null,null,null,null,null,null,null,null,null,null,null,null,null,null,null,null,null,null,null,null,null,"","","","","","","",null,0,0,0,0,0,0,0,0,0,0,0,0,null,0,"0",0,0,"0",0,0,0,"0",0,0,"0",0]
[null,null,null,null,null,null,null,null,null,null,null,null,null,null,null,null,null,null,null,null,null,null,null,null,null,null,null,null,null,null,null,null,null,null,null,null,null,null,null,null,null,null,null,null,"","","","","","","",null,0,0,0,0,0,0,0,0,0,0,0,0,null,0,"0",0,0,"0",0,0,0,"0",0,0,"0",0]
[null,null,null,null,null,null,null,null,null,null,null,null,null,null,null,null,null,null,null,null,null,null,null,null,null,null,null,null,null,null,null,null,null,null,null,null,null,null,null,null,null,null,null,null,"","","","","","","",null,0,0,0,0,0,0,0,0,0,0,0,0,null,0,"0",0,0,"0",0,0,0,"0",0,0,"0",0]
[null,null,null,null,null,null,null,null,null,null,null,null,null,null,null,null,null,null,null,null,null,null,null,null,null,null,null,null,null,null,null,null,null,null,null,null,null,null,null,null,null,null,null,null,"","","","","","","",null,0,0,0,0,0,0,0,0,0,0,0,0,null,0,"0",0,0,"0",0,0,0,"0",0,0,"0",0]
[null,null,null,null,null,null,null,null,null,null,null,null,null,null,null,null,null,null,null,null,null,null,null,null,null,null,null,null,null,null,null,null,null,null,null,null,null,null,null,null,null,null,null,null,"","","","","","","",null,0,0,0,0,0,0,0,0,0,0,0,0,null,0,"0",0,0,"0",0,0,0,"0",0,0,"0",0]
[null,null,null,null,null,null,null,null,null,null,null,null,null,null,null,null,null,null,null,null,null,null,null,null,null,null,null,null,null,null,null,null,null,null,null,null,null,null,null,null,null,null,null,null,"","","","","","","",null,0,0,0,0,0,0,0,0,0,0,0,0,null,0,"0",0,0,"0",0,0,0,"0",0,0,"0",0]
[null,null,null,null,null,null,null,null,null,null,null,null,null,null,null,null,null,null,null,null,null,null,null,null,null,null,null,null,null,null,null,null,null,null,null,null,null,null,null,null,null,null,null,null,"","","","","","","",null,0,0,0,0,0,0,0,0,0,0,0,0,null,0,"0",0,0,"0",0,0,0,"0",0,0,"0",0]
[null,null,null,null,null,null,null,null,null,null,null,null,null,null,null,null,null,null,null,null,null,null,null,null,null,null,null,null,null,null,null,null,null,null,null,null,null,null,null,null,null,null,null,null,"","","","","","","",null,0,0,0,0,0,0,0,0,0,0,0,0,null,0,"0",0,0,"0",0,0,0,"0",0,0,"0",0]
[null,null,null,null,null,null,null,null,null,null,null,null,null,null,null,null,null,null,null,null,null,null,null,null,null,null,null,null,null,null,null,null,null,null,null,null,null,null,null,null,null,null,null,null,"","","","","","","",null,0,0,0,0,0,0,0,0,0,0,0,0,null,0,"0",0,0,"0",0,0,0,"0",0,0,"0",0]
[null,null,null,null,null,null,null,null,null,null,null,null,null,null,null,null,null,null,null,null,null,null,null,null,null,null,null,null,null,null,null,null,null,null,null,null,null,null,null,null,null,null,null,null,"","","","","","","",null,0,0,0,0,0,0,0,0,0,0,0,0,null,0,"0",0,0,"0",0,0,0,"0",0,0,"0",0]
[null,null,null,null,null,null,null,null,null,null,null,null,null,null,null,null,null,null,null,null,null,null,null,null,null,null,null,null,null,null,null,null,null,null,null,null,null,null,null,null,null,null,null,null,"","","","","","","",null,0,0,0,0,0,0,0,0,0,0,0,0,null,0,"0",0,0,"0",0,0,0,"0",0,0,"0",0]
[null,null,null,null,null,null,null,null,null,null,null,null,null,null,null,null,null,null,null,null,null,null,null,null,null,null,null,null,null,null,null,null,null,null,null,null,null,null,null,null,null,null,null,null,"","","","","","","",null,0,0,0,0,0,0,0,0,0,0,0,0,null,0,"0",0,0,"0",0,0,0,"0",0,0,"0",0]
[null,null,null,null,null,null,null,null,null,null,null,null,null,null,null,null,null,null,null,null,null,null,null,null,null,null,null,null,null,null,null,null,null,null,null,null,null,null,null,null,null,null,null,null,"","","","","","","",null,0,0,0,0,0,0,0,0,0,0,0,0,null,0,"0",0,0,"0",0,0,0,"0",0,0,"0",0]
[null,null,null,null,null,null,null,null,null,null,null,null,null,null,null,null,null,null,null,null,null,null,null,null,null,null,null,null,null,null,null,null,null,null,null,null,null,null,null,null,null,null,null,null,"","","","","","","",null,0,0,0,0,0,0,0,0,0,0,0,0,null,0,"0",0,0,"0",0,0,0,"0",0,0,"0",0]
[null,null,null,null,null,null,null,null,null,null,null,null,null,null,null,null,null,null,null,null,null,null,null,null,null,null,null,null,null,null,null,null,null,null,null,null,null,null,null,null,null,null,null,null,"","","","","","","",null,0,0,0,0,0,0,0,0,0,0,0,0,null,0,"0",0,0,"0",0,0,0,"0",0,0,"0",0]
[null,null,null,null,null,null,null,null,null,null,null,null,null,null,null,null,null,null,null,null,null,null,null,null,null,null,null,null,null,null,null,null,null,null,null,null,null,null,null,null,null,null,null,null,"","","","","","","",null,0,0,0,0,0,0,0,0,0,0,0,0,null,0,"0",0,0,"0",0,0,0,"0",0,0,"0",0]
[null,null,null,null,null,null,null,null,null,null,null,null,null,null,null,null,null,null,null,null,null,null,null,null,null,null,null,null,null,null,null,null,null,null,null,null,null,null,null,null,null,null,null,null,"","","","","","","",null,0,0,0,0,0,0,0,0,0,0,0,0,null,0,"0",0,0,"0",0,0,0,"0",0,0,"0",0]
[null,null,null,null,null,null,null,null,null,null,null,null,null,null,null,null,null,null,null,null,null,null,null,null,null,null,null,null,null,null,null,null,null,null,null,null,null,null,null,null,null,null,null,null,"","","","","","","",null,0,0,0,0,0,0,0,0,0,0,0,0,null,0,"0",0,0,"0",0,0,0,"0",0,0,"0",0]
[null,null,null,null,null,null,null,null,null,null,null,null,null,null,null,null,null,null,null,null,null,null,null,null,null,null,null,null,null,null,null,null,null,null,null,null,null,null,null,null,null,null,null,null,"","","","","","","",null,0,0,0,0,0,0,0,0,0,0,0,0,null,0,"0",0,0,"0",0,0,0,"0",0,0,"0",0]
[null,null,null,null,null,null,null,null,null,null,null,null,null,null,null,null,null,null,null,null,null,null,null,null,null,null,null,null,null,null,null,null,null,null,null,null,null,null,null,null,null,null,null,null,"","","","","","","",null,0,0,0,0,0,0,0,0,0,0,0,0,null,0,"0",0,0,"0",0,0,0,"0",0,0,"0",0]
[null,null,null,null,null,null,null,null,null,null,null,null,null,null,null,null,null,null,null,null,null,null,null,null,null,null,null,null,null,null,null,null,null,null,null,null,null,null,null,null,null,null,null,null,"","","","","","","",null,0,0,0,0,0,0,0,0,0,0,0,0,null,0,"0",0,0,"0",0,0,0,"0",0,0,"0",0]
[null,null,null,null,null,null,null,null,null,null,null,null,null,null,null,null,null,null,null,null,null,null,null,null,null,null,null,null,null,null,null,null,null,null,null,null,null,null,null,null,null,null,null,null,"","","","","","","",null,0,0,0,0,0,0,0,0,0,0,0,0,null,0,"0",0,0,"0",0,0,0,"0",0,0,"0",0]
[null,null,null,null,null,null,null,null,null,null,null,null,null,null,null,null,null,null,null,null,null,null,null,null,null,null,null,null,null,null,null,null,null,null,null,null,null,null,null,null,null,null,null,null,"","","","","","","",null,0,0,0,0,0,0,0,0,0,0,0,0,null,0,"0",0,0,"0",0,0,0,"0",0,0,"0",0]
[null,null,null,null,null,null,null,null,null,null,null,null,null,null,null,null,null,null,null,null,null,null,null,null,null,null,null,null,null,null,null,null,null,null,null,null,null,null,null,null,null,null,null,null,"","","","","","","",null,0,0,0,0,0,0,0,0,0,0,0,0,null,0,"0",0,0,"0",0,0,0,"0",0,0,"0",0]
[null,null,null,null,null,null,null,null,null,null,null,null,null,null,null,null,null,null,null,null,null,null,null,null,null,null,null,null,null,null,null,null,null,null,null,null,null,null,null,null,null,null,null,null,"","","","","","","",null,0,0,0,0,0,0,0,0,0,0,0,0,null,0,"0",0,0,"0",0,0,0,"0",0,0,"0",0]
[null,null,null,null,null,null,null,null,null,null,null,null,null,null,null,null,null,null,null,null,null,null,null,null,null,null,null,null,null,null,null,null,null,null,null,null,null,null,null,null,null,null,null,null,"","","","","","","",null,0,0,0,0,0,0,0,0,0,0,0,0,null,0,"0",0,0,"0",0,0,0,"0",0,0,"0",0]
[null,null,null,null,null,null,null,null,null,null,null,null,null,null,null,null,null,null,null,null,null,null,null,null,null,null,null,null,null,null,null,null,null,null,null,null,null,null,null,null,null,null,null,null,{"$f":"IF(K1282=\"\",\"\",L1282-K1282)","v":""},{"$f":"IF(M1282=\"\",\"\",R1282-M1282)","v":""},{"$f":"IF(U1282=\"\",\"\",U1282-R1282)","v":""},{"$f":"IF(AM1282=\"\",\"\",(AL1282+AM1282)-(B1282+M1282))","v":""},{"$f":"IF(N1282=\"\",\"\",O1282-N1282)","v":""},{"$f":"IF(AM1282=\"\",\"\",((AL1282+AM1282)-(B1282+O1282)))","v":""},{"$f":"IF(B1282=\"\",\"\",ROUNDUP(MONTH(B1282)/3,0))","v":""},null,{"$f":"COUNTIFS(C1282, \">= 35\",F1282, \"<>Suspected Stroke Symptoms\",G1282,\"No\",O1282,\"<>\"\"\")","v":0},{"$f":"COUNTIFS(C1282, \">= 35\",F1282, \"<>Suspected Stroke Symptoms\",G1282,\"No\",O1282,\"<>\"\"\",Q1282,\"Yes\")","v":0},{"$f":"COUNTIFS(C1282,\">=18\",S1282,\"=TRUE\",AE1282,\"=TRUE\", AM1282,\"<>\"\"\")","v":0},{"$f":"COUNTIFS(C1282,\">=18\",S1282,\"=TRUE\",AE1282,\"=TRUE\", AM1282,\"<>\"\"\",AV1282,\"<=0:90\",BE1282,\"0\")","v":0},{"$f":"COUNTIFS(C1282,\">=18\",S1282,\"=TRUE\",AE1282,\"=TRUE\", AM1282,\"<>\"\"\",AV1282,\"<=1:20\",AW1282,\">=0:45\",AX1282,\"<=0:30\",BD1282, \"0\")","v":0},0,0,0,0,{"$f":"COUNTIFS(C1282,\">=18\",S1282,\"=TRUE\",AD1282,\"=TRUE\", AM1282,\"<>\"\"\",AV1282,\"<>\"\"\")","v":0},0,0,null,0,"0",{"$f":"COUNTIFS(C1282,\">=18\",S1282,\"=TRUE\",AE1282,\"=TRUE\", AM1282,\"<>\"\"\",AN1282,\"<>\",BN1282,\"0\")","v":0},{"$f":"COUNTIFS(C1282,\">=18\",S1282,\"=TRUE\",AE1282,\"=TRUE\", AM1282,\"<>\"\"\",H1282,\"Yes\",BN1282,\"0\")","v":0},{"$f":"IF(SUM(BP1282+BQ1282>=1),\"1\",\"0\")","v":"0"},{"$f":"COUNTIFS(C1282, \">= 35\",F1282, \"<>Suspected Stroke Symptoms\",G1282,\"No\",O1282,\"<>\"\"\",H1282,\"Yes\",BB1282,\"0\")","v":0},0,0,"0",0,0,"0",0]
[null,null,null,null,null,null,null,null,null,null,null,null,null,null,null,null,null,null,null,null,null,null,null,null,null,null,null,null,null,null,null,null,null,null,null,null,null,null,null,null,null,null,null,null,"","","","","","","",null,0,0,0,0,0,0,0,0,0,0,0,0,null,0,"0",0,0,"0",0,0,0,"0",0,0,"0",0]
[null,null,null,null,null,null,null,null,null,null,null,null,null,null,null,null,null,null,null,null,null,null,null,null,null,null,null,null,null,null,null,null,null,null,null,null,null,null,null,null,null,null,null,null,"","","","","","","",null,0,0,0,0,0,0,0,0,0,0,0,0,null,0,"0",0,0,"0",0,0,0,"0",0,0,"0",0]
[null,null,null,null,null,null,null,null,null,null,null,null,null,null,null,null,null,null,null,null,null,null,null,null,null,null,null,null,null,null,null,null,null,null,null,null,null,null,null,null,null,null,null,null,"","","","","","","",null,0,0,0,0,0,0,0,0,0,0,0,0,null,0,"0",0,0,"0",0,0,0,"0",0,0,"0",0]
[null,null,null,null,null,null,null,null,null,null,null,null,null,null,null,null,null,null,null,null,null,null,null,null,null,null,null,null,null,null,null,null,null,null,null,null,null,null,null,null,null,null,null,null,"","","","","","","",null,0,0,0,0,0,0,0,0,0,0,0,0,null,0,"0",0,0,"0",0,0,0,"0",0,0,"0",0]
[null,null,null,null,null,null,null,null,null,null,null,null,null,null,null,null,null,null,null,null,null,null,null,null,null,null,null,null,null,null,null,null,null,null,null,null,null,null,null,null,null,null,null,null,"","","","","","","",null,0,0,0,0,0,0,0,0,0,0,0,0,null,0,"0",0,0,"0",0,0,0,"0",0,0,"0",0]
[null,null,null,null,null,null,null,null,null,null,null,null,null,null,null,null,null,null,null,null,null,null,null,null,null,null,null,null,null,null,null,null,null,null,null,null,null,null,null,null,null,null,null,null,"","","","","","","",null,0,0,0,0,0,0,0,0,0,0,0,0,null,0,"0",0,0,"0",0,0,0,"0",0,0,"0",0]
[null,null,null,null,null,null,null,null,null,null,null,null,null,null,null,null,null,null,null,null,null,null,null,null,null,null,null,null,null,null,null,null,null,null,null,null,null,null,null,null,null,null,null,null,"","","","","","","",null,0,0,0,0,0,0,0,0,0,0,0,0,null,0,"0",0,0,"0",0,0,0,"0",0,0,"0",0]
[null,null,null,null,null,null,null,null,null,null,null,null,null,null,null,null,null,null,null,null,null,null,null,null,null,null,null,null,null,null,null,null,null,null,null,null,null,null,null,null,null,null,null,null,"","","","","","","",null,0,0,0,0,0,0,0,0,0,0,0,0,null,0,"0",0,0,"0",0,0,0,"0",0,0,"0",0]
[null,null,null,null,null,null,null,null,null,null,null,null,null,null,null,null,null,null,null,null,null,null,null,null,null,null,null,null,null,null,null,null,null,null,null,null,null,null,null,null,null,null,null,null,"","","","","","","",null,0,0,0,0,0,0,0,0,0,0,0,0,null,0,"0",0,0,"0",0,0,0,"0",0,0,"0",0]
[null,null,null,null,null,null,null,null,null,null,null,null,null,null,null,null,null,null,null,null,null,null,null,null,null,null,null,null,null,null,null,null,null,null,null,null,null,null,null,null,null,null,null,null,"","","","","","","",null,0,0,0,0,0,0,0,0,0,0,0,0,null,0,"0",0,0,"0",0,0,0,"0",0,0,"0",0]
[null,null,null,null,null,null,null,null,null,null,null,null,null,null,null,null,null,null,null,null,null,null,null,null,null,null,null,null,null,null,null,null,null,null,null,null,null,null,null,null,null,null,null,null,"","","","","","","",null,0,0,0,0,0,0,0,0,0,0,0,0,null,0,"0",0,0,"0",0,0,0,"0",0,0,"0",0]
[null,null,null,null,null,null,null,null,null,null,null,null,null,null,null,null,null,null,null,null,null,null,null,null,null,null,null,null,null,null,null,null,null,null,null,null,null,null,null,null,null,null,null,null,"","","","","","","",null,0,0,0,0,0,0,0,0,0,0,0,0,null,0,"0",0,0,"0",0,0,0,"0",0,0,"0",0]
[null,null,null,null,null,null,null,null,null,null,null,null,null,null,null,null,null,null,null,null,null,null,null,null,null,null,null,null,null,null,null,null,null,null,null,null,null,null,null,null,null,null,null,null,"","","","","","","",null,0,0,0,0,0,0,0,0,0,0,0,0,null,0,"0",0,0,"0",0,0,0,"0",0,0,"0",0]
[null,null,null,null,null,null,null,null,null,null,null,null,null,null,null,null,null,null,null,null,null,null,null,null,null,null,null,null,null,null,null,null,null,null,null,null,null,null,null,null,null,null,null,null,"","","","","","","",null,0,0,0,0,0,0,0,0,0,0,0,0,null,0,"0",0,0,"0",0,0,0,"0",0,0,"0",0]
[null,null,null,null,null,null,null,null,null,null,null,null,null,null,null,null,null,null,null,null,null,null,null,null,null,null,null,null,null,null,null,null,null,null,null,null,null,null,null,null,null,null,null,null,"","","","","","","",null,0,0,0,0,0,0,0,0,0,0,0,0,null,0,"0",0,0,"0",0,0,0,"0",0,0,"0",0]
[null,null,null,null,null,null,null,null,null,null,null,null,null,null,null,null,null,null,null,null,null,null,null,null,null,null,null,null,null,null,null,null,null,null,null,null,null,null,null,null,null,null,null,null,"","","","","","","",null,0,0,0,0,0,0,0,0,0,0,0,0,null,0,"0",0,0,"0",0,0,0,"0",0,0,"0",0]
[null,null,null,null,null,null,null,null,null,null,null,null,null,null,null,null,null,null,null,null,null,null,null,null,null,null,null,null,null,null,null,null,null,null,null,null,null,null,null,null,null,null,null,null,"","","","","","","",null,0,0,0,0,0,0,0,0,0,0,0,0,null,0,"0",0,0,"0",0,0,0,"0",0,0,"0",0]
[null,null,null,null,null,null,null,null,null,null,null,null,null,null,null,null,null,null,null,null,null,null,null,null,null,null,null,null,null,null,null,null,null,null,null,null,null,null,null,null,null,null,null,null,{"$f":"IF(K1346=\"\",\"\",L1346-K1346)","v":""},{"$f":"IF(M1346=\"\",\"\",R1346-M1346)","v":""},{"$f":"IF(U1346=\"\",\"\",U1346-R1346)","v":""},{"$f":"IF(AM1346=\"\",\"\",(AL1346+AM1346)-(B1346+M1346))","v":""},{"$f":"IF(N1346=\"\",\"\",O1346-N1346)","v":""},{"$f":"IF(AM1346=\"\",\"\",((AL1346+AM1346)-(B1346+O1346)))","v":""},{"$f":"IF(B1346=\"\",\"\",ROUNDUP(MONTH(B1346)/3,0))","v":""},null,{"$f":"COUNTIFS(C1346, \">= 35\",F1346, \"<>Suspected Stroke Symptoms\",G1346,\"No\",O1346,\"<>\"\"\")","v":0},{"$f":"COUNTIFS(C1346, \">= 35\",F1346, \"<>Suspected Stroke Symptoms\",G1346,\"No\",O1346,\"<>\"\"\",Q1346,\"Yes\")","v":0},{"$f":"COUNTIFS(C1346,\">=18\",S1346,\"=TRUE\",AE1346,\"=TRUE\", AM1346,\"<>\"\"\")","v":0},{"$f":"COUNTIFS(C1346,\">=18\",S1346,\"=TRUE\",AE1346,\"=TRUE\", AM1346,\"<>\"\"\",AV1346,\"<=0:90\",BE1346,\"0\")","v":0},{"$f":"COUNTIFS(C1346,\">=18\",S1346,\"=TRUE\",AE1346,\"=TRUE\", AM1346,\"<>\"\"\",AV1346,\"<=1:20\",AW1346,\">=0:45\",AX1346,\"<=0:30\",BD1346, \"0\")","v":0},0,0,0,0,{"$f":"COUNTIFS(C1346,\">=18\",S1346,\"=TRUE\",AD1346,\"=TRUE\", AM1346,\"<>\"\"\",AV1346,\"<>\"\"\")","v":0},0,0,null,0,"0",{"$f":"COUNTIFS(C1346,\">=18\",S1346,\"=TRUE\",AE1346,\"=TRUE\", AM1346,\"<>\"\"\",AN1346,\"<>\",BN1346,\"0\")","v":0},{"$f":"COUNTIFS(C1346,\">=18\",S1346,\"=TRUE\",AE1346,\"=TRUE\", AM1346,\"<>\"\"\",H1346,\"Yes\",BN1346,\"0\")","v":0},{"$f":"IF(SUM(BP1346+BQ1346>=1),\"1\",\"0\")","v":"0"},{"$f":"COUNTIFS(C1346, \">= 35\",F1346, \"<>Suspected Stroke Symptoms\",G1346,\"No\",O1346,\"<>\"\"\",H1346,\"Yes\",BB1346,\"0\")","v":0},0,0,"0",0,0,"0",0]
[null,null,null,null,null,null,null,null,null,null,null,null,null,null,null,null,null,null,null,null,null,null,null,null,null,null,null,null,null,null,null,null,null,null,null,null,null,null,null,null,null,null,null,null,"","","","","","","",null,0,0,0,0,0,0,0,0,0,0,0,0,null,0,"0",0,0,"0",0,0,0,"0",0,0,"0",0]
[null,null,null,null,null,null,null,null,null,null,null,null,null,null,null,null,null,null,null,null,null,null,null,null,null,null,null,null,null,null,null,null,null,null,null,null,null,null,null,null,null,null,null,null,"","","","","","","",null,0,0,0,0,0,0,0,0,0,0,0,0,null,0,"0",0,0,"0",0,0,0,"0",0,0,"0",0]
[null,null,null,null,null,null,null,null,null,null,null,null,null,null,null,null,null,null,null,null,null,null,null,null,null,null,null,null,null,null,null,null,null,null,null,null,null,null,null,null,null,null,null,null,"","","","","","","",null,0,0,0,0,0,0,0,0,0,0,0,0,null,0,"0",0,0,"0",0,0,0,"0",0,0,"0",0]
[null,null,null,null,null,null,null,null,null,null,null,null,null,null,null,null,null,null,null,null,null,null,null,null,null,null,null,null,null,null,null,null,null,null,null,null,null,null,null,null,null,null,null,null,"","","","","","","",null,0,0,0,0,0,0,0,0,0,0,0,0,null,0,"0",0,0,"0",0,0,0,"0",0,0,"0",0]
[null,null,null,null,null,null,null,null,null,null,null,null,null,null,null,null,null,null,null,null,null,null,null,null,null,null,null,null,null,null,null,null,null,null,null,null,null,null,null,null,null,null,null,null,"","","","","","","",null,0,0,0,0,0,0,0,0,0,0,0,0,null,0,"0",0,0,"0",0,0,0,"0",0,0,"0",0]
[null,null,null,null,null,null,null,null,null,null,null,null,null,null,null,null,null,null,null,null,null,null,null,null,null,null,null,null,null,null,null,null,null,null,null,null,null,null,null,null,null,null,null,null,"","","","","","","",null,0,0,0,0,0,0,0,0,0,0,0,0,null,0,"0",0,0,"0",0,0,0,"0",0,0,"0",0]
[null,null,null,null,null,null,null,null,null,null,null,null,null,null,null,null,null,null,null,null,null,null,null,null,null,null,null,null,null,null,null,null,null,null,null,null,null,null,null,null,null,null,null,null,"","","","","","","",null,0,0,0,0,0,0,0,0,0,0,0,0,null,0,"0",0,0,"0",0,0,0,"0",0,0,"0",0]
[null,null,null,null,null,null,null,null,null,null,null,null,null,null,null,null,null,null,null,null,null,null,null,null,null,null,null,null,null,null,null,null,null,null,null,null,null,null,null,null,null,null,null,null,"","","","","","","",null,0,0,0,0,0,0,0,0,0,0,0,0,null,0,"0",0,0,"0",0,0,0,"0",0,0,"0",0]
[null,null,null,null,null,null,null,null,null,null,null,null,null,null,null,null,null,null,null,null,null,null,null,null,null,null,null,null,null,null,null,null,null,null,null,null,null,null,null,null,null,null,null,null,"","","","","","","",null,0,0,0,0,0,0,0,0,0,0,0,0,null,0,"0",0,0,"0",0,0,0,"0",0,0,"0",0]
[null,null,null,null,null,null,null,null,null,null,null,null,null,null,null,null,null,null,null,null,null,null,null,null,null,null,null,null,null,null,null,null,null,null,null,null,null,null,null,null,null,null,null,null,"","","","","","","",null,0,0,0,0,0,0,0,0,0,0,0,0,null,0,"0",0,0,"0",0,0,0,"0",0,0,"0",0]
[null,null,null,null,null,null,null,null,null,null,null,null,null,null,null,null,null,null,null,null,null,null,null,null,null,null,null,null,null,null,null,null,null,null,null,null,null,null,null,null,null,null,null,null,"","","","","","","",null,0,0,0,0,0,0,0,0,0,0,0,0,null,0,"0",0,0,"0",0,0,0,"0",0,0,"0",0]
[null,null,null,null,null,null,null,null,null,null,null,null,null,null,null,null,null,null,null,null,null,null,null,null,null,null,null,null,null,null,null,null,null,null,null,null,null,null,null,null,null,null,null,null,"","","","","","","",null,0,0,0,0,0,0,0,0,0,0,0,0,null,0,"0",0,0,"0",0,0,0,"0",0,0,"0",0]
[null,null,null,null,null,null,null,null,null,null,null,null,null,null,null,null,null,null,null,null,null,null,null,null,null,null,null,null,null,null,null,null,null,null,null,null,null,null,null,null,null,null,null,null,"","","","","","","",null,0,0,0,0,0,0,0,0,0,0,0,0,null,0,"0",0,0,"0",0,0,0,"0",0,0,"0",0]
[null,null,null,null,null,null,null,null,null,null,null,null,null,null,null,null,null,null,null,null,null,null,null,null,null,null,null,null,null,null,null,null,null,null,null,null,null,null,null,null,null,null,null,null,"","","","","","","",null,0,0,0,0,0,0,0,0,0,0,0,0,null,{"$f":"SUM(BD1396:BE1396)","v":0},"0",0,0,"0",0,0,0,"0",0,0,"0",0]
[null,null,null,null,null,null,null,null,null,null,null,null,null,null,null,null,null,null,null,null,null,null,null,null,null,null,null,null,null,null,null,null,null,null,null,null,null,null,null,null,null,null,null,null,"","","","","","","",null,0,0,0,0,0,0,0,0,0,0,0,0,null,0,"0",0,0,"0",0,0,0,"0",0,0,"0",0]
[null,null,null,null,null,null,null,null,null,null,null,null,null,null,null,null,null,null,null,null,null,null,null,null,null,null,null,null,null,null,null,null,null,null,null,null,null,null,null,null,null,null,null,null,"","","","","","","",null,0,0,0,0,0,0,0,0,0,0,0,0,null,0,"0",0,0,"0",0,0,0,"0",0,0,"0",0]
[null,null,null,null,null,null,null,null,null,null,null,null,null,null,null,null,null,null,null,null,null,null,null,null,null,null,null,null,null,null,null,null,null,null,null,null,null,null,null,null,null,null,null,null,"","","","","","","",null,0,0,0,0,0,0,0,0,0,0,0,0,null,0,"0",0,0,"0",0,0,0,"0",0,0,"0",0]
[null,null,null,null,null,null,null,null,null,null,null,null,null,null,null,null,null,null,null,null,null,null,null,null,null,null,null,null,null,null,null,null,null,null,null,null,null,null,null,null,null,null,null,null,"","","","","","","",null,0,0,0,0,0,{"$f":"COUNTIFS(C1411,\">=35\",F1411, \"<>Suspected Stroke Symptoms\",G1411,\"NO\",Q1411,\"YES\",O1411,\"<>\"\"\")","v":0},{"$f":"COUNTIFS(C1411,\">=35\",F1411, \"<>Suspected Stroke Symptoms\",G1411,\"NO\",Q1411,\"YES\",O1411,\"<>\"\"\",AT1411,\"<=0:10\")","v":0},{"$f":"COUNTIFS(C1411,\">=35\",S1411,\"TRUE\",O1411,\"<>\"\"\")","v":0},{"$f":"COUNTIFS(C1411,\">=35\",S1411,\"TRUE\",O1411,\"<>\"\"\",AU1411,\"<=0:10\")","v":0},0,{"$f":"COUNTIFS(C1411,\">=18\",S1411,\"=TRUE\",AD1411,\"=TRUE\", AM1411,\"<>\"\"\",AX1411,\"<=0:30\")","v":0},{"$f":"COUNTIFS(C1411,\">=18\",S1411,\"=TRUE\",AD1411,\"=TRUE\", AM1411,\"<>\"\"\", AK1411, \"TRUE\",AV1411,\"<=1:20\")","v":0},null,0,{"$f":"IF(SUM(BK1411+BL1411>=1),\"1\",\"0\")","v":"0"},0,0,"0",0,{"$f":"COUNTIFS(C1411,\">=35\",S1411,\"TRUE\",O1411,\"<>\"\"\",H1411,\"Yes\",BI1411,\"0\")","v":0},{"$f":"COUNTIFS(C1411,\">=35\",S1411,\"TRUE\",O1411,\"<>\"\"\",T1411,\"<>\",BI1411,\"0\")","v":0},"0",{"$f":"COUNTIFS(C1411,\">=18\",S1411,\"=TRUE\",AD1411,\"=TRUE\", AM1411,\"<>\"\"\",AV1411,\"<>\",BO1411,\"0\")","v":0},{"$f":"COUNTIFS(C1411,\">=18\",S1411,\"=TRUE\",AD1411,\"=TRUE\", AM1411,\"<>\"\"\",H1411,\"Yes\",BO1411,\"0\")","v":0},{"$f":"IF(SUM(BW1411+BX1411>=1),\"1\",\"0\")","v":"0"},{"$f":"COUNTIFS(C1411,\">=35\",F1411, \"<>Suspected Stroke Symptoms\",G1411,\"NO\",Q1411,\"YES\",O1411,\"<>\"\"\",H1411,\"Yes\")","v":0}]
[null,null,null,null,null,null,null,null,null,null,null,null,null,null,null,null,null,null,null,null,null,null,null,null,null,null,null,null,null,null,null,null,null,null,null,null,null,null,null,null,null,null,null,null,"","","","","","","",null,0,0,0,0,0,0,0,0,0,0,0,0,null,0,"0",0,0,"0",0,0,0,"0",0,0,"0",0]
[null,null,null,null,null,null,null,null,null,null,null,null,null,null,null,null,null,null,null,null,null,null,null,null,null,null,null,null,null,null,null,null,null,null,null,null,null,null,null,null,null,null,null,null,"","","","","","","",null,0,0,0,0,0,0,0,0,0,0,0,0,null,0,"0",0,0,"0",0,0,0,"0",0,0,"0",0]
[null,null,null,null,null,null,null,null,null,null,null,null,null,null,null,null,null,null,null,null,null,null,null,null,null,null,null,null,null,null,null,null,null,null,null,null,null,null,null,null,null,null,null,null,"","","","","","","",null,0,0,0,0,0,0,0,0,0,0,0,0,null,0,"0",0,0,"0",0,0,0,"0",0,0,"0",0]
[null,null,null,null,null,null,null,null,null,null,null,null,null,null,null,null,null,null,null,null,null,null,null,null,null,null,null,null,null,null,null,null,null,null,null,null,null,null,null,null,null,null,null,null,"","","","","","","",null,0,0,0,0,0,0,0,0,0,0,0,0,null,0,"0",0,0,"0",0,0,0,"0",0,0,"0",0]
[null,null,null,null,null,null,null,null,null,null,null,null,null,null,null,null,null,null,null,null,null,null,null,null,null,null,null,null,null,null,null,null,null,null,null,null,null,null,null,null,null,null,null,null,"","","","","","","",null,0,0,0,0,0,0,0,0,0,0,0,0,null,0,"0",0,0,"0",0,0,0,"0",0,0,"0",0]
[null,null,null,null,null,null,null,null,null,null,null,null,null,null,null,null,null,null,null,null,null,null,null,null,null,null,null,null,null,null,null,null,null,null,null,null,null,null,null,null,null,null,null,null,"","","","","","","",null,0,0,0,0,0,0,0,0,0,0,0,0,null,0,"0",0,0,"0",0,0,0,"0",0,0,"0",0]
[null,null,null,null,null,null,null,null,null,null,null,null,null,null,null,null,null,null,null,null,null,null,null,null,null,null,null,null,null,null,null,null,null,null,null,null,null,null,null,null,null,null,null,null,"","","","","","","",null,0,0,0,0,0,0,0,0,0,0,0,0,null,0,"0",0,0,"0",0,0,0,"0",0,0,"0",0]
[null,null,null,null,null,null,null,null,null,null,null,null,null,null,null,null,null,null,null,null,null,null,null,null,null,null,null,null,null,null,null,null,null,null,null,null,null,null,null,null,null,null,null,null,"","","","","","","",null,0,0,0,0,0,0,0,0,0,0,0,0,null,0,"0",0,0,"0",0,0,0,"0",0,0,"0",0]
[null,null,null,null,null,null,null,null,null,null,null,null,null,null,null,null,null,null,null,null,null,null,null,null,null,null,null,null,null,null,null,null,null,null,null,null,null,null,null,null,null,null,null,null,"","","","","","","",null,0,0,0,0,0,0,0,0,0,0,0,0,null,0,"0",0,0,"0",0,0,0,"0",0,0,"0",0]
[null,null,null,null,null,null,null,null,null,null,null,null,null,null,null,null,null,null,null,null,null,null,null,null,null,null,null,null,null,null,null,null,null,null,null,null,null,null,null,null,null,null,null,null,"","","","","","","",null,0,0,0,0,0,0,0,0,0,0,0,0,null,0,"0",0,0,"0",0,0,0,"0",0,0,"0",0]
[null,null,null,null,null,null,null,null,null,null,null,null,null,null,null,null,null,null,null,null,null,null,null,null,null,null,null,null,null,null,null,null,null,null,null,null,null,null,null,null,null,null,null,null,"","","","","","","",null,0,0,0,0,0,0,0,0,0,0,0,0,null,0,"0",0,0,"0",0,0,0,"0",0,0,"0",0]
[null,null,null,null,null,null,null,null,null,null,null,null,null,null,null,null,null,null,null,null,null,null,null,null,null,null,null,null,null,null,null,null,null,null,null,null,null,null,null,null,null,null,null,null,"","","","","","","",null,0,0,0,0,0,0,0,0,0,0,0,0,null,0,"0",0,0,"0",0,0,0,"0",0,0,"0",0]
[null,null,null,null,null,null,null,null,null,null,null,null,null,null,null,null,null,null,null,null,null,null,null,null,null,null,null,null,null,null,null,null,null,null,null,null,null,null,null,null,null,null,null,null,"","","","","","","",null,0,0,0,0,0,0,0,0,0,0,0,0,null,0,"0",0,0,"0",0,0,0,"0",0,0,"0",0]
[null,null,null,null,null,null,null,null,null,null,null,null,null,null,null,null,null,null,null,null,null,null,null,null,null,null,null,null,null,null,null,null,null,null,null,null,null,null,null,null,null,null,null,null,"","","","","","","",null,0,0,0,0,0,0,0,0,0,0,0,0,null,0,"0",0,0,"0",0,0,0,"0",0,0,"0",0]
[null,null,null,null,null,null,null,null,null,null,null,null,null,null,null,null,null,null,null,null,null,null,null,null,null,null,null,null,null,null,null,null,null,null,null,null,null,null,null,null,null,null,null,null,"","","","","","","",null,0,0,0,0,0,0,0,0,0,0,0,0,null,0,"0",0,0,"0",0,0,0,"0",0,0,"0",0]
[null,null,null,null,null,null,null,null,null,null,null,null,null,null,null,null,null,null,null,null,null,null,null,null,null,null,null,null,null,null,null,null,null,null,null,null,null,null,null,null,null,null,null,null,"","","","","","","",null,0,0,0,0,0,0,0,0,0,0,0,0,null,0,"0",0,0,"0",0,0,0,"0",0,0,"0",0]
[null,null,null,null,null,null,null,null,null,null,null,null,null,null,null,null,null,null,null,null,null,null,null,null,null,null,null,null,null,null,null,null,null,null,null,null,null,null,null,null,null,null,null,null,"","","","","","","",null,0,0,0,0,0,0,0,0,0,0,0,0,null,0,"0",0,0,"0",0,0,0,"0",0,0,"0",0]
[null,null,null,null,null,null,null,null,null,null,null,null,null,null,null,null,null,null,null,null,null,null,null,null,null,null,null,null,null,null,null,null,null,null,null,null,null,null,null,null,null,null,null,null,"","","","","","","",null,0,0,0,0,0,0,0,0,0,0,0,0,null,0,"0",0,0,"0",0,0,0,{"$f":"IF(SUM(BT1473+BU1473>=1),\"1\",\"0\")","v":"0"},0,0,"0",0]
[null,null,null,null,null,null,null,null,null,null,null,null,null,null,null,null,null,null,null,null,null,null,null,null,null,null,null,null,null,null,null,null,null,null,null,null,null,null,null,null,null,null,null,null,"","","","","","","",null,0,0,0,0,0,0,0,0,0,0,0,0,null,0,"0",0,0,"0",0,0,0,"0",0,0,"0",0]
[null,null,null,null,null,null,null,null,null,null,null,null,null,null,null,null,null,null,null,null,null,null,null,null,null,null,null,null,null,null,null,null,null,null,null,null,null,null,null,null,null,null,null,null,"","","","","","","",null,0,0,0,0,0,0,0,0,0,0,0,0,null,0,"0",0,0,"0",0,0,0,"0",0,0,"0",0]
[null,null,null,null,null,null,null,null,null,null,null,null,null,null,null,null,null,null,null,null,null,null,null,null,null,null,null,null,null,null,null,null,null,null,null,null,null,null,null,null,null,null,null,null,"","","","","","","",null,0,0,0,0,0,0,0,0,0,0,0,0,null,0,"0",0,0,"0",0,0,0,"0",0,0,"0",0]
[null,null,null,null,null,null,null,null,null,null,null,null,null,null,null,null,null,null,null,null,null,null,null,null,null,null,null,null,null,null,null,null,null,null,null,null,null,null,null,null,null,null,null,null,"","","","","","","",null,0,0,0,0,0,0,0,0,0,0,0,0,null,0,"0",0,0,"0",0,0,0,"0",0,0,"0",0]
[null,null,null,null,null,null,null,null,null,null,null,null,null,null,null,null,null,null,null,null,null,null,null,null,null,null,null,null,null,null,null,null,null,null,null,null,null,null,null,null,null,null,null,null,"","","","","","","",null,0,0,0,0,0,0,0,0,0,0,0,0,null,0,"0",0,0,"0",0,0,0,"0",0,0,"0",0]
[null,null,null,null,null,null,null,null,null,null,null,null,null,null,null,null,null,null,null,null,null,null,null,null,null,null,null,null,null,null,null,null,null,null,null,null,null,null,null,null,null,null,null,null,"","","","","","","",null,0,0,0,0,0,0,0,0,0,0,0,0,null,0,"0",0,0,"0",0,0,0,"0",0,0,"0",0]
[null,null,null,null,null,null,null,null,null,null,null,null,null,null,null,null,null,null,null,null,null,null,null,null,null,null,null,null,null,null,null,null,null,null,null,null,null,null,null,null,null,null,null,null,"","","","","","","",null,0,0,0,0,0,0,0,0,0,0,0,0,null,0,"0",0,0,"0",0,0,0,"0",0,0,"0",0]
[null,null,null,null,null,null,null,null,null,null,null,null,null,null,null,null,null,null,null,null,null,null,null,null,null,null,null,null,null,null,null,null,null,null,null,null,null,null,null,null,null,null,null,null,"","","","","","","",null,0,0,0,0,0,0,0,0,0,0,0,0,null,0,"0",0,0,"0",0,0,0,"0",0,0,"0",0]
[null,null,null,null,null,null,null,null,null,null,null,null,null,null,null,null,null,null,null,null,null,null,null,null,null,null,null,null,null,null,null,null,null,null,null,null,null,null,null,null,null,null,null,null,"","","","","","","",null,0,0,0,0,0,0,0,0,0,0,0,0,null,0,"0",0,0,"0",0,0,0,"0",0,0,"0",0]
[null,null,null,null,null,null,null,null,null,null,null,null,null,null,null,null,null,null,null,null,null,null,null,null,null,null,null,null,null,null,null,null,null,null,null,null,null,null,null,null,null,null,null,null,"","","","","","","",null,0,0,0,0,0,0,0,0,0,0,0,0,null,0,"0",0,0,"0",0,0,0,"0",0,0,"0",0]
[null,null,null,null,null,null,null,null,null,null,null,null,null,null,null,null,null,null,null,null,null,null,null,null,null,null,null,null,null,null,null,null,null,null,null,null,null,null,null,null,null,null,null,null,"","","","","","","",null,0,0,0,0,0,0,0,0,0,0,0,0,null,0,"0",0,0,"0",0,0,0,"0",0,0,"0",0]
[null,null,null,null,null,null,null,null,null,null,null,null,null,null,null,null,null,null,null,null,null,null,null,null,null,null,null,null,null,null,null,null,null,null,null,null,null,null,null,null,null,null,null,null,"","","","","","","",null,0,0,0,0,0,0,0,0,0,0,0,0,null,0,"0",0,0,"0",0,0,0,"0",0,0,"0",0]
[null,null,null,null,null,null,null,null,null,null,null,null,null,null,null,null,null,null,null,null,null,null,null,null,null,null,null,null,null,null,null,null,null,null,null,null,null,null,null,null,null,null,null,null,"","","","","","","",null,0,0,0,0,0,0,0,0,0,0,0,0,null,0,"0",0,0,"0",0,0,0,"0",0,0,"0",0]
[null,null,null,null,null,null,null,null,null,null,null,null,null,null,null,null,null,null,null,null,null,null,null,null,null,null,null,null,null,null,null,null,null,null,null,null,null,null,null,null,null,null,null,null,"","","","","","","",null,0,0,0,0,0,0,0,0,0,0,0,0,null,0,"0",0,0,"0",0,0,0,"0",0,0,"0",0]
[null,null,null,null,null,null,null,null,null,null,null,null,null,null,null,null,null,null,null,null,null,null,null,null,null,null,null,null,null,null,null,null,null,null,null,null,null,null,null,null,null,null,null,null,"","","","","","","",null,0,0,0,0,0,0,0,0,0,0,0,0,null,0,"0",0,0,"0",0,0,0,"0",0,0,"0",0]
[null,null,null,null,null,null,null,null,null,null,null,null,null,null,null,null,null,null,null,null,null,null,null,null,null,null,null,null,null,null,null,null,null,null,null,null,null,null,null,null,null,null,null,null,"","","","","","","",null,0,0,0,0,0,0,0,0,0,0,0,0,null,0,"0",0,0,"0",0,0,0,"0",0,0,"0",0]
[null,null,null,null,null,null,null,null,null,null,null,null,null,null,null,null,null,null,null,null,null,null,null,null,null,null,null,null,null,null,null,null,null,null,null,null,null,null,null,null,null,null,null,null,"","","","","","","",null,0,0,0,0,0,0,0,0,0,0,0,0,null,0,"0",0,0,"0",0,0,0,"0",0,0,"0",0]
[null,null,null,null,null,null,null,null,null,null,null,null,null,null,null,null,null,null,null,null,null,null,null,null,null,null,null,null,null,null,null,null,null,null,null,null,null,null,null,null,null,null,null,null,{"$f":"IF(K1538=\"\",\"\",L1538-K1538)","v":""},{"$f":"IF(M1538=\"\",\"\",R1538-M1538)","v":""},{"$f":"IF(U1538=\"\",\"\",U1538-R1538)","v":""},{"$f":"IF(AM1538=\"\",\"\",(AL1538+AM1538)-(B1538+M1538))","v":""},{"$f":"IF(N1538=\"\",\"\",O1538-N1538)","v":""},{"$f":"IF(AM1538=\"\",\"\",((AL1538+AM1538)-(B1538+O1538)))","v":""},{"$f":"IF(B1538=\"\",\"\",ROUNDUP(MONTH(B1538)/3,0))","v":""},null,{"$f":"COUNTIFS(C1538, \">= 35\",F1538, \"<>Suspected Stroke Symptoms\",G1538,\"No\",O1538,\"<>\"\"\")","v":0},{"$f":"COUNTIFS(C1538, \">= 35\",F1538, \"<>Suspected Stroke Symptoms\",G1538,\"No\",O1538,\"<>\"\"\",Q1538,\"Yes\")","v":0},{"$f":"COUNTIFS(C1538,\">=18\",S1538,\"=TRUE\",AE1538,\"=TRUE\", AM1538,\"<>\"\"\")","v":0},{"$f":"COUNTIFS(C1538,\">=18\",S1538,\"=TRUE\",AE1538,\"=TRUE\", AM1538,\"<>\"\"\",AV1538,\"<=0:90\",BE1538,\"0\")","v":0},{"$f":"COUNTIFS(C1538,\">=18\",S1538,\"=TRUE\",AE1538,\"=TRUE\", AM1538,\"<>\"\"\",AV1538,\"<=1:20\",AW1538,\">=0:45\",AX1538,\"<=0:30\",BD1538, \"0\")","v":0},0,0,0,0,{"$f":"COUNTIFS(C1538,\">=18\",S1538,\"=TRUE\",AD1538,\"=TRUE\", AM1538,\"<>\"\"\",AV1538,\"<>\"\"\")","v":0},0,0,null,0,"0",{"$f":"COUNTIFS(C1538,\">=18\",S1538,\"=TRUE\",AE1538,\"=TRUE\", AM1538,\"<>\"\"\",AN1538,\"<>\",BN1538,\"0\")","v":0},{"$f":"COUNTIFS(C1538,\">=18\",S1538,\"=TRUE\",AE1538,\"=TRUE\", AM1538,\"<>\"\"\",H1538,\"Yes\",BN1538,\"0\")","v":0},{"$f":"IF(SUM(BP1538+BQ1538>=1),\"1\",\"0\")","v":"0"},{"$f":"COUNTIFS(C1538, \">= 35\",F1538, \"<>Suspected Stroke Symptoms\",G1538,\"No\",O1538,\"<>\"\"\",H1538,\"Yes\",BB1538,\"0\")","v":0},0,0,"0",0,0,"0",0]
[null,null,null,null,null,null,null,null,null,null,null,null,null,null,null,null,null,null,null,null,null,null,null,null,null,null,null,null,null,null,null,null,null,null,null,null,null,null,null,null,null,null,null,null,"","","","","","","",null,0,0,0,0,0,0,0,0,0,0,0,0,null,0,"0",0,0,"0",0,0,0,"0",0,0,"0",0]
[null,null,null,null,null,null,null,null,null,null,null,null,null,null,null,null,null,null,null,null,null,null,null,null,null,null,null,null,null,null,null,null,null,null,null,null,null,null,null,null,null,null,null,null,"","","","","","","",null,0,0,0,0,0,0,0,0,0,0,0,0,null,0,"0",0,0,"0",0,0,0,"0",0,0,"0",0]
[null,null,null,null,null,null,null,null,null,null,null,null,null,null,null,null,null,null,null,null,null,null,null,null,null,null,null,null,null,null,null,null,null,null,null,null,null,null,null,null,null,null,null,null,"","","","","","","",null,0,0,0,0,0,0,0,0,0,0,0,0,null,0,"0",0,0,"0",0,0,0,"0",0,0,"0",0]
[null,null,null,null,null,null,null,null,null,null,null,null,null,null,null,null,null,null,null,null,null,null,null,null,null,null,null,null,null,null,null,null,null,null,null,null,null,null,null,null,null,null,null,null,"","","","","","","",null,0,0,0,0,0,0,0,0,0,0,0,0,null,0,"0",0,0,"0",0,0,0,"0",0,0,"0",0]
[null,null,null,null,null,null,null,null,null,null,null,null,null,null,null,null,null,null,null,null,null,null,null,null,null,null,null,null,null,null,null,null,null,null,null,null,null,null,null,null,null,null,null,null,"","","","","","","",null,0,0,0,0,0,0,0,0,0,0,0,0,null,0,"0",0,0,"0",0,0,0,"0",0,0,"0",0]
[null,null,null,null,null,null,null,null,null,null,null,null,null,null,null,null,null,null,null,null,null,null,null,null,null,null,null,null,null,null,null,null,null,null,null,null,null,null,null,null,null,null,null,null,"","","","","","","",null,0,0,0,0,0,0,0,0,0,0,0,0,null,0,"0",0,0,"0",0,0,0,"0",0,0,"0",0]
[null,null,null,null,null,null,null,null,null,null,null,null,null,null,null,null,null,null,null,null,null,null,null,null,null,null,null,null,null,null,null,null,null,null,null,null,null,null,null,null,null,null,null,null,"","","","","","","",null,0,0,0,0,0,0,0,0,0,0,0,0,null,0,"0",0,0,"0",0,0,0,"0",0,0,"0",0]
[null,null,null,null,null,null,null,null,null,null,null,null,null,null,null,null,null,null,null,null,null,null,null,null,null,null,null,null,null,null,null,null,null,null,null,null,null,null,null,null,null,null,null,null,"","","","","","","",null,0,0,0,0,0,0,0,0,0,0,0,0,null,0,"0",0,0,"0",0,0,0,"0",0,0,"0",0]
[null,null,null,null,null,null,null,null,null,null,null,null,null,null,null,null,null,null,null,null,null,null,null,null,null,null,null,null,null,null,null,null,null,null,null,null,null,null,null,null,null,null,null,null,"","","","","","","",null,0,0,0,0,0,0,0,0,0,0,0,0,null,0,"0",0,0,"0",0,0,0,"0",0,0,"0",0]
[null,null,null,null,null,null,null,null,null,null,null,null,null,null,null,null,null,null,null,null,null,null,null,null,null,null,null,null,null,null,null,null,null,null,null,null,null,null,null,null,null,null,null,null,"","","","","","","",null,0,0,0,0,0,0,0,0,0,0,0,0,null,0,"0",0,0,"0",0,0,0,"0",0,0,"0",0]
[null,null,null,null,null,null,null,null,null,null,null,null,null,null,null,null,null,null,null,null,null,null,null,null,null,null,null,null,null,null,null,null,null,null,null,null,null,null,null,null,null,null,null,null,"","","","","","","",null,0,0,0,0,0,0,0,0,0,0,0,0,null,0,"0",0,0,"0",0,0,0,"0",0,0,"0",0]
[null,null,null,null,null,null,null,null,null,null,null,null,null,null,null,null,null,null,null,null,null,null,null,null,null,null,null,null,null,null,null,null,null,null,null,null,null,null,null,null,null,null,null,null,"","","","","","","",null,0,0,0,0,0,0,0,0,0,0,0,0,null,0,"0",0,0,"0",0,0,0,"0",0,0,"0",0]
[null,null,null,null,null,null,null,null,null,null,null,null,null,null,null,null,null,null,null,null,null,null,null,null,null,null,null,null,null,null,null,null,null,null,null,null,null,null,null,null,null,null,null,null,"","","","","","","",null,0,0,0,0,0,0,0,0,0,0,0,0,null,0,"0",0,0,"0",0,0,0,"0",0,0,"0",0]
[null,null,null,null,null,null,null,null,null,null,null,null,null,null,null,null,null,null,null,null,null,null,null,null,null,null,null,null,null,null,null,null,null,null,null,null,null,null,null,null,null,null,null,null,"","","","","","","",null,0,0,0,0,0,0,0,0,0,0,0,0,null,0,"0",0,0,"0",0,0,0,"0",0,0,"0",0]
[null,null,null,null,null,null,null,null,null,null,null,null,null,null,null,null,null,null,null,null,null,null,null,null,null,null,null,null,null,null,null,null,null,null,null,null,null,null,null,null,null,null,null,null,"","","","","","","",null,0,0,0,0,0,0,0,0,0,0,0,0,null,0,"0",0,0,"0",0,0,0,"0",0,0,"0",0]
[null,null,null,null,null,null,null,null,null,null,null,null,null,null,null,null,null,null,null,null,null,null,null,null,null,null,null,null,null,null,null,null,null,null,null,null,null,null,null,null,null,null,null,null,"","","","","","","",null,0,0,0,0,0,0,0,0,0,0,0,0,null,0,"0",0,0,"0",0,0,0,"0",0,0,"0",0]
[null,null,null,null,null,null,null,null,null,null,null,null,null,null,null,null,null,null,null,null,null,null,null,null,null,null,null,null,null,null,null,null,null,null,null,null,null,null,null,null,null,null,null,null,"","","","","","","",null,0,0,0,0,0,0,0,0,0,0,0,0,null,0,"0",0,0,"0",0,0,0,"0",0,0,"0",0]
[null,null,null,null,null,null,null,null,null,null,null,null,null,null,null,null,null,null,null,null,null,null,null,null,null,null,null,null,null,null,null,null,null,null,null,null,null,null,null,null,null,null,null,null,"","","","","","","",null,0,0,0,0,0,{"$f":"COUNTIFS(C1603,\">=35\",F1603, \"<>Suspected Stroke Symptoms\",G1603,\"NO\",Q1603,\"YES\",O1603,\"<>\"\"\")","v":0},{"$f":"COUNTIFS(C1603,\">=35\",F1603, \"<>Suspected Stroke Symptoms\",G1603,\"NO\",Q1603,\"YES\",O1603,\"<>\"\"\",AT1603,\"<=0:10\")","v":0},{"$f":"COUNTIFS(C1603,\">=35\",S1603,\"TRUE\",O1603,\"<>\"\"\")","v":0},{"$f":"COUNTIFS(C1603,\">=35\",S1603,\"TRUE\",O1603,\"<>\"\"\",AU1603,\"<=0:10\")","v":0},0,{"$f":"COUNTIFS(C1603,\">=18\",S1603,\"=TRUE\",AD1603,\"=TRUE\", AM1603,\"<>\"\"\",AX1603,\"<=0:30\")","v":0},{"$f":"COUNTIFS(C1603,\">=18\",S1603,\"=TRUE\",AD1603,\"=TRUE\", AM1603,\"<>\"\"\", AK1603, \"TRUE\",AV1603,\"<=1:20\")","v":0},null,0,{"$f":"IF(SUM(BK1603+BL1603>=1),\"1\",\"0\")","v":"0"},0,0,"0",0,{"$f":"COUNTIFS(C1603,\">=35\",S1603,\"TRUE\",O1603,\"<>\"\"\",H1603,\"Yes\",BI1603,\"0\")","v":0},{"$f":"COUNTIFS(C1603,\">=35\",S1603,\"TRUE\",O1603,\"<>\"\"\",T1603,\"<>\",BI1603,\"0\")","v":0},"0",{"$f":"COUNTIFS(C1603,\">=18\",S1603,\"=TRUE\",AD1603,\"=TRUE\", AM1603,\"<>\"\"\",AV1603,\"<>\",BO1603,\"0\")","v":0},{"$f":"COUNTIFS(C1603,\">=18\",S1603,\"=TRUE\",AD1603,\"=TRUE\", AM1603,\"<>\"\"\",H1603,\"Yes\",BO1603,\"0\")","v":0},{"$f":"IF(SUM(BW1603+BX1603>=1),\"1\",\"0\")","v":"0"},{"$f":"COUNTIFS(C1603,\">=35\",F1603, \"<>Suspected Stroke Symptoms\",G1603,\"NO\",Q1603,\"YES\",O1603,\"<>\"\"\",H1603,\"Yes\")","v":0}]
[null,null,null,null,null,null,null,null,null,null,null,null,null,null,null,null,null,null,null,null,null,null,null,null,null,null,null,null,null,null,null,null,null,null,null,null,null,null,null,null,null,null,null,null,"","","","","","","",null,0,0,0,0,0,0,0,0,0,0,0,0,null,0,"0",0,0,"0",0,0,0,"0",0,0,"0",0]
[null,null,null,null,null,null,null,null,null,null,null,null,null,null,null,null,null,null,null,null,null,null,null,null,null,null,null,null,null,null,null,null,null,null,null,null,null,null,null,null,null,null,null,null,"","","","","","","",null,0,0,0,0,0,0,0,0,0,0,0,0,null,0,"0",0,0,"0",0,0,0,"0",0,0,"0",0]
[null,null,null,null,null,null,null,null,null,null,null,null,null,null,null,null,null,null,null,null,null,null,null,null,null,null,null,null,null,null,null,null,null,null,null,null,null,null,null,null,null,null,null,null,"","","","","","","",null,0,0,0,0,0,0,0,0,0,0,0,0,null,0,"0",0,0,"0",0,0,0,"0",0,0,"0",0]
[null,null,null,null,null,null,null,null,null,null,null,null,null,null,null,null,null,null,null,null,null,null,null,null,null,null,null,null,null,null,null,null,null,null,null,null,null,null,null,null,null,null,null,null,"","","","","","","",null,0,0,0,0,0,0,0,0,0,0,0,0,null,0,"0",0,0,"0",0,0,0,"0",0,0,"0",0]
[null,null,null,null,null,null,null,null,null,null,null,null,null,null,null,null,null,null,null,null,null,null,null,null,null,null,null,null,null,null,null,null,null,null,null,null,null,null,null,null,null,null,null,null,"","","","","","","",null,0,0,0,0,0,0,0,0,0,0,0,0,null,0,"0",0,0,"0",0,0,0,"0",0,0,"0",0]
[null,null,null,null,null,null,null,null,null,null,null,null,null,null,null,null,null,null,null,null,null,null,null,null,null,null,null,null,null,null,null,null,null,null,null,null,null,null,null,null,null,null,null,null,"","","","","","","",null,0,0,0,0,0,0,0,0,0,0,0,0,null,0,"0",0,0,"0",0,0,0,"0",0,0,"0",0]
[null,null,null,null,null,null,null,null,null,null,null,null,null,null,null,null,null,null,null,null,null,null,null,null,null,null,null,null,null,null,null,null,null,null,null,null,null,null,null,null,null,null,null,null,"","","","","","","",null,0,0,0,0,0,0,0,0,0,0,0,0,null,0,"0",0,0,"0",0,0,0,"0",0,0,"0",0]
[null,null,null,null,null,null,null,null,null,null,null,null,null,null,null,null,null,null,null,null,null,null,null,null,null,null,null,null,null,null,null,null,null,null,null,null,null,null,null,null,null,null,null,null,"","","","","","","",null,0,0,0,0,0,0,0,0,0,0,0,0,null,0,"0",0,0,"0",0,0,0,"0",0,0,"0",0]
[null,null,null,null,null,null,null,null,null,null,null,null,null,null,null,null,null,null,null,null,null,null,null,null,null,null,null,null,null,null,null,null,null,null,null,null,null,null,null,null,null,null,null,null,"","","","","","","",null,0,0,0,0,0,0,0,0,0,0,0,0,null,0,"0",0,0,"0",0,0,0,"0",0,0,"0",0]
[null,null,null,null,null,null,null,null,null,null,null,null,null,null,null,null,null,null,null,null,null,null,null,null,null,null,null,null,null,null,null,null,null,null,null,null,null,null,null,null,null,null,null,null,"","","","","","","",null,0,0,0,0,0,0,0,0,0,0,0,0,null,0,"0",0,0,"0",0,0,0,"0",0,0,"0",0]
[null,null,null,null,null,null,null,null,null,null,null,null,null,null,null,null,null,null,null,null,null,null,null,null,null,null,null,null,null,null,null,null,null,null,null,null,null,null,null,null,null,null,null,null,"","","","","","","",null,0,0,0,0,0,0,0,0,0,0,0,0,null,0,"0",0,0,"0",0,0,0,"0",0,0,"0",0]
[null,null,null,null,null,null,null,null,null,null,null,null,null,null,null,null,null,null,null,null,null,null,null,null,null,null,null,null,null,null,null,null,null,null,null,null,null,null,null,null,null,null,null,null,"","","","","","","",null,0,0,0,0,0,0,0,0,0,0,0,0,null,0,"0",0,0,"0",0,0,0,"0",0,0,"0",0]
[null,null,null,null,null,null,null,null,null,null,null,null,null,null,null,null,null,null,null,null,null,null,null,null,null,null,null,null,null,null,null,null,null,null,null,null,null,null,null,null,null,null,null,null,"","","","","","","",null,0,0,0,0,0,0,0,0,0,0,0,0,null,0,"0",0,0,"0",0,0,0,"0",0,0,"0",0]
[null,null,null,null,null,null,null,null,null,null,null,null,null,null,null,null,null,null,null,null,null,null,null,null,null,null,null,null,null,null,null,null,null,null,null,null,null,null,null,null,null,null,null,null,"","","","","","","",null,0,0,0,0,0,0,0,0,0,0,0,0,null,0,"0",0,0,"0",0,0,0,"0",0,0,"0",0]
[null,null,null,null,null,null,null,null,null,null,null,null,null,null,null,null,null,null,null,null,null,null,null,null,null,null,null,null,null,null,null,null,null,null,null,null,null,null,null,null,null,null,null,null,"","","","","","","",null,0,0,0,0,0,0,0,0,0,0,0,0,null,0,"0",0,0,"0",0,0,0,"0",0,0,"0",0]
[null,null,null,null,null,null,null,null,null,null,null,null,null,null,null,null,null,null,null,null,null,null,null,null,null,null,null,null,null,null,null,null,null,null,null,null,null,null,null,null,null,null,null,null,"","","","","","","",null,0,0,0,0,0,0,0,0,0,0,0,0,null,0,"0",0,0,"0",0,0,0,"0",0,0,"0",0]
[null,null,null,null,null,null,null,null,null,null,null,null,null,null,null,null,null,null,null,null,null,null,null,null,null,null,null,null,null,null,null,null,null,null,null,null,null,null,null,null,null,null,null,null,"","","","","","","",null,0,0,0,0,0,0,0,0,0,0,0,0,null,0,"0",0,0,"0",0,0,0,"0",0,0,"0",0]
[null,null,null,null,null,null,null,null,null,null,null,null,null,null,null,null,null,null,null,null,null,null,null,null,null,null,null,null,null,null,null,null,null,null,null,null,null,null,null,null,null,null,null,null,"","","","","","","",null,0,0,0,0,0,0,0,0,0,0,0,0,null,0,"0",0,0,"0",0,0,0,{"$f":"IF(SUM(BT1665+BU1665>=1),\"1\",\"0\")","v":"0"},0,0,"0",0]
[null,null,null,null,null,null,null,null,null,null,null,null,null,null,null,null,null,null,null,null,null,null,null,null,null,null,null,null,null,null,null,null,null,null,null,null,null,null,null,null,null,null,null,null,"","","","","","","",null,0,0,0,0,0,0,0,0,0,0,0,0,null,0,"0",0,0,"0",0,0,0,"0",0,0,"0",0]
[null,null,null,null,null,null,null,null,null,null,null,null,null,null,null,null,null,null,null,null,null,null,null,null,null,null,null,null,null,null,null,null,null,null,null,null,null,null,null,null,null,null,null,null,"","","","","","","",null,0,0,0,0,0,0,0,0,0,0,0,0,null,0,"0",0,0,"0",0,0,0,"0",0,0,"0",0]
[null,null,null,null,null,null,null,null,null,null,null,null,null,null,null,null,null,null,null,null,null,null,null,null,null,null,null,null,null,null,null,null,null,null,null,null,null,null,null,null,null,null,null,null,"","","","","","","",null,0,0,0,0,0,0,0,0,0,0,0,0,null,0,"0",0,0,"0",0,0,0,"0",0,0,"0",0]
[null,null,null,null,null,null,null,null,null,null,null,null,null,null,null,null,null,null,null,null,null,null,null,null,null,null,null,null,null,null,null,null,null,null,null,null,null,null,null,null,null,null,null,null,"","","","","","","",null,0,0,0,0,0,0,0,0,0,0,0,0,null,0,"0",0,0,"0",0,0,0,"0",0,0,"0",0]
[null,null,null,null,null,null,null,null,null,null,null,null,null,null,null,null,null,null,null,null,null,null,null,null,null,null,null,null,null,null,null,null,null,null,null,null,null,null,null,null,null,null,null,null,"","","","","","","",null,0,0,0,0,0,0,0,0,0,0,0,0,null,0,"0",0,0,"0",0,0,0,"0",0,0,"0",0]
[null,null,null,null,null,null,null,null,null,null,null,null,null,null,null,null,null,null,null,null,null,null,null,null,null,null,null,null,null,null,null,null,null,null,null,null,null,null,null,null,null,null,null,null,"","","","","","","",null,0,0,0,0,0,0,0,0,0,0,0,0,null,0,"0",0,0,"0",0,0,0,"0",0,0,"0",0]
[null,null,null,null,null,null,null,null,null,null,null,null,null,null,null,null,null,null,null,null,null,null,null,null,null,null,null,null,null,null,null,null,null,null,null,null,null,null,null,null,null,null,null,null,"","","","","","","",null,0,0,0,0,0,0,0,0,0,0,0,0,null,0,"0",0,0,"0",0,0,0,"0",0,0,"0",0]
[null,null,null,null,null,null,null,null,null,null,null,null,null,null,null,null,null,null,null,null,null,null,null,null,null,null,null,null,null,null,null,null,null,null,null,null,null,null,null,null,null,null,null,null,"","","","","","","",null,0,0,0,0,0,0,0,0,0,0,0,0,null,0,"0",0,0,"0",0,0,0,"0",0,0,"0",0]
[null,null,null,null,null,null,null,null,null,null,null,null,null,null,null,null,null,null,null,null,null,null,null,null,null,null,null,null,null,null,null,null,null,null,null,null,null,null,null,null,null,null,null,null,"","","","","","","",null,0,0,0,0,0,0,0,0,0,0,0,0,null,0,"0",0,0,"0",0,0,0,"0",0,0,"0",0]
[null,null,null,null,null,null,null,null,null,null,null,null,null,null,null,null,null,null,null,null,null,null,null,null,null,null,null,null,null,null,null,null,null,null,null,null,null,null,null,null,null,null,null,null,"","","","","","","",null,0,0,0,0,0,0,0,0,0,0,0,0,null,0,"0",0,0,"0",0,0,0,"0",0,0,"0",0]
[null,null,null,null,null,null,null,null,null,null,null,null,null,null,null,null,null,null,null,null,null,null,null,null,null,null,null,null,null,null,null,null,null,null,null,null,null,null,null,null,null,null,null,null,"","","","","","","",null,0,0,0,0,0,0,0,0,0,0,0,0,null,0,"0",0,0,"0",0,0,0,"0",0,0,"0",0]
[null,null,null,null,null,null,null,null,null,null,null,null,null,null,null,null,null,null,null,null,null,null,null,null,null,null,null,null,null,null,null,null,null,null,null,null,null,null,null,null,null,null,null,null,"","","","","","","",null,0,0,0,0,0,0,0,0,0,0,0,0,null,0,"0",0,0,"0",0,0,0,"0",0,0,"0",0]
[null,null,null,null,null,null,null,null,null,null,null,null,null,null,null,null,null,null,null,null,null,null,null,null,null,null,null,null,null,null,null,null,null,null,null,null,null,null,null,null,null,null,null,null,"","","","","","","",null,0,0,0,0,0,0,0,0,0,0,0,0,null,0,"0",0,0,"0",0,0,0,"0",0,0,"0",0]
[null,null,null,null,null,null,null,null,null,null,null,null,null,null,null,null,null,null,null,null,null,null,null,null,null,null,null,null,null,null,null,null,null,null,null,null,null,null,null,null,null,null,null,null,"","","","","","","",null,0,0,0,0,0,0,0,0,0,0,0,0,null,{"$f":"SUM(BD1716:BE1716)","v":0},"0",0,0,"0",0,0,0,"0",0,0,"0",0]
[null,null,null,null,null,null,null,null,null,null,null,null,null,null,null,null,null,null,null,null,null,null,null,null,null,null,null,null,null,null,null,null,null,null,null,null,null,null,null,null,null,null,null,null,"","","","","","","",null,0,0,0,0,0,0,0,0,0,0,0,0,null,0,"0",0,0,"0",0,0,0,"0",0,0,"0",0]
[null,null,null,null,null,null,null,null,null,null,null,null,null,null,null,null,null,null,null,null,null,null,null,null,null,null,null,null,null,null,null,null,null,null,null,null,null,null,null,null,null,null,null,null,"","","","","","","",null,0,0,0,0,0,0,0,0,0,0,0,0,null,0,"0",0,0,"0",0,0,0,"0",0,0,"0",0]
[null,null,null,null,null,null,null,null,null,null,null,null,null,null,null,null,null,null,null,null,null,null,null,null,null,null,null,null,null,null,null,null,null,null,null,null,null,null,null,null,null,null,null,null,"","","","","","","",null,0,0,0,0,0,0,0,0,0,0,0,0,null,0,"0",0,0,"0",0,0,0,"0",0,0,"0",0]
[null,null,null,null,null,null,null,null,null,null,null,null,null,null,null,null,null,null,null,null,null,null,null,null,null,null,null,null,null,null,null,null,null,null,null,null,null,null,null,null,null,null,null,null,"","","","","","","",null,0,0,0,0,0,{"$f":"COUNTIFS(C1731,\">=35\",F1731, \"<>Suspected Stroke Symptoms\",G1731,\"NO\",Q1731,\"YES\",O1731,\"<>\"\"\")","v":0},{"$f":"COUNTIFS(C1731,\">=35\",F1731, \"<>Suspected Stroke Symptoms\",G1731,\"NO\",Q1731,\"YES\",O1731,\"<>\"\"\",AT1731,\"<=0:10\")","v":0},{"$f":"COUNTIFS(C1731,\">=35\",S1731,\"TRUE\",O1731,\"<>\"\"\")","v":0},{"$f":"COUNTIFS(C1731,\">=35\",S1731,\"TRUE\",O1731,\"<>\"\"\",AU1731,\"<=0:10\")","v":0},0,{"$f":"COUNTIFS(C1731,\">=18\",S1731,\"=TRUE\",AD1731,\"=TRUE\", AM1731,\"<>\"\"\",AX1731,\"<=0:30\")","v":0},{"$f":"COUNTIFS(C1731,\">=18\",S1731,\"=TRUE\",AD1731,\"=TRUE\", AM1731,\"<>\"\"\", AK1731, \"TRUE\",AV1731,\"<=1:20\")","v":0},null,0,{"$f":"IF(SUM(BK1731+BL1731>=1),\"1\",\"0\")","v":"0"},0,0,"0",0,{"$f":"COUNTIFS(C1731,\">=35\",S1731,\"TRUE\",O1731,\"<>\"\"\",H1731,\"Yes\",BI1731,\"0\")","v":0},{"$f":"COUNTIFS(C1731,\">=35\",S1731,\"TRUE\",O1731,\"<>\"\"\",T1731,\"<>\",BI1731,\"0\")","v":0},"0",{"$f":"COUNTIFS(C1731,\">=18\",S1731,\"=TRUE\",AD1731,\"=TRUE\", AM1731,\"<>\"\"\",AV1731,\"<>\",BO1731,\"0\")","v":0},{"$f":"COUNTIFS(C1731,\">=18\",S1731,\"=TRUE\",AD1731,\"=TRUE\", AM1731,\"<>\"\"\",H1731,\"Yes\",BO1731,\"0\")","v":0},{"$f":"IF(SUM(BW1731+BX1731>=1),\"1\",\"0\")","v":"0"},{"$f":"COUNTIFS(C1731,\">=35\",F1731, \"<>Suspected Stroke Symptoms\",G1731,\"NO\",Q1731,\"YES\",O1731,\"<>\"\"\",H1731,\"Yes\")","v":0}]
[null,null,null,null,null,null,null,null,null,null,null,null,null,null,null,null,null,null,null,null,null,null,null,null,null,null,null,null,null,null,null,null,null,null,null,null,null,null,null,null,null,null,null,null,"","","","","","","",null,0,0,0,0,0,0,0,0,0,0,0,0,null,0,"0",0,0,"0",0,0,0,"0",0,0,"0",0]
[null,null,null,null,null,null,null,null,null,null,null,null,null,null,null,null,null,null,null,null,null,null,null,null,null,null,null,null,null,null,null,null,null,null,null,null,null,null,null,null,null,null,null,null,"","","","","","","",null,0,0,0,0,0,0,0,0,0,0,0,0,null,0,"0",0,0,"0",0,0,0,"0",0,0,"0",0]
[null,null,null,null,null,null,null,null,null,null,null,null,null,null,null,null,null,null,null,null,null,null,null,null,null,null,null,null,null,null,null,null,null,null,null,null,null,null,null,null,null,null,null,null,"","","","","","","",null,0,0,0,0,0,0,0,0,0,0,0,0,null,0,"0",0,0,"0",0,0,0,"0",0,0,"0",0]
[null,null,null,null,null,null,null,null,null,null,null,null,null,null,null,null,null,null,null,null,null,null,null,null,null,null,null,null,null,null,null,null,null,null,null,null,null,null,null,null,null,null,null,null,"","","","","","","",null,0,0,0,0,0,0,0,0,0,0,0,0,null,0,"0",0,0,"0",0,0,0,"0",0,0,"0",0]
[null,null,null,null,null,null,null,null,null,null,null,null,null,null,null,null,null,null,null,null,null,null,null,null,null,null,null,null,null,null,null,null,null,null,null,null,null,null,null,null,null,null,null,null,"","","","","","","",null,0,0,0,0,0,0,0,0,0,0,0,0,null,0,"0",0,0,"0",0,0,0,"0",0,0,"0",0]
[null,null,null,null,null,null,null,null,null,null,null,null,null,null,null,null,null,null,null,null,null,null,null,null,null,null,null,null,null,null,null,null,null,null,null,null,null,null,null,null,null,null,null,null,"","","","","","","",null,0,0,0,0,0,0,0,0,0,0,0,0,null,0,"0",0,0,"0",0,0,0,"0",0,0,"0",0]
[null,null,null,null,null,null,null,null,null,null,null,null,null,null,null,null,null,null,null,null,null,null,null,null,null,null,null,null,null,null,null,null,null,null,null,null,null,null,null,null,null,null,null,null,"","","","","","","",null,0,0,0,0,0,0,0,0,0,0,0,0,null,0,"0",0,0,"0",0,0,0,"0",0,0,"0",0]
[null,null,null,null,null,null,null,null,null,null,null,null,null,null,null,null,null,null,null,null,null,null,null,null,null,null,null,null,null,null,null,null,null,null,null,null,null,null,null,null,null,null,null,null,"","","","","","","",null,0,0,0,0,0,0,0,0,0,0,0,0,null,0,"0",0,0,"0",0,0,0,"0",0,0,"0",0]
[null,null,null,null,null,null,null,null,null,null,null,null,null,null,null,null,null,null,null,null,null,null,null,null,null,null,null,null,null,null,null,null,null,null,null,null,null,null,null,null,null,null,null,null,"","","","","","","",null,0,0,0,0,0,0,0,0,0,0,0,0,null,0,"0",0,0,"0",0,0,0,"0",0,0,"0",0]
[null,null,null,null,null,null,null,null,null,null,null,null,null,null,null,null,null,null,null,null,null,null,null,null,null,null,null,null,null,null,null,null,null,null,null,null,null,null,null,null,null,null,null,null,"","","","","","","",null,0,0,0,0,0,0,0,0,0,0,0,0,null,0,"0",0,0,"0",0,0,0,"0",0,0,"0",0]
[null,null,null,null,null,null,null,null,null,null,null,null,null,null,null,null,null,null,null,null,null,null,null,null,null,null,null,null,null,null,null,null,null,null,null,null,null,null,null,null,null,null,null,null,"","","","","","","",null,0,0,0,0,0,0,0,0,0,0,0,0,null,0,"0",0,0,"0",0,0,0,"0",0,0,"0",0]
[null,null,null,null,null,null,null,null,null,null,null,null,null,null,null,null,null,null,null,null,null,null,null,null,null,null,null,null,null,null,null,null,null,null,null,null,null,null,null,null,null,null,null,null,"","","","","","","",null,0,0,0,0,0,0,0,0,0,0,0,0,null,0,"0",0,0,"0",0,0,0,"0",0,0,"0",0]
[null,null,null,null,null,null,null,null,null,null,null,null,null,null,null,null,null,null,null,null,null,null,null,null,null,null,null,null,null,null,null,null,null,null,null,null,null,null,null,null,null,null,null,null,"","","","","","","",null,0,0,0,0,0,0,0,0,0,0,0,0,null,0,"0",0,0,"0",0,0,0,"0",0,0,"0",0]
[null,null,null,null,null,null,null,null,null,null,null,null,null,null,null,null,null,null,null,null,null,null,null,null,null,null,null,null,null,null,null,null,null,null,null,null,null,null,null,null,null,null,null,null,"","","","","","","",null,0,0,0,0,0,0,0,0,0,0,0,0,null,0,"0",0,0,"0",0,0,0,"0",0,0,"0",0]
[null,null,null,null,null,null,null,null,null,null,null,null,null,null,null,null,null,null,null,null,null,null,null,null,null,null,null,null,null,null,null,null,null,null,null,null,null,null,null,null,null,null,null,null,"","","","","","","",null,0,0,0,0,0,0,0,0,0,0,0,0,null,0,"0",0,0,"0",0,0,0,"0",0,0,"0",0]
[null,null,null,null,null,null,null,null,null,null,null,null,null,null,null,null,null,null,null,null,null,null,null,null,null,null,null,null,null,null,null,null,null,null,null,null,null,null,null,null,null,null,null,null,"","","","","","","",null,0,0,0,0,0,0,0,0,0,0,0,0,null,0,"0",0,0,"0",0,0,0,"0",0,0,"0",0]
[null,null,null,null,null,null,null,null,null,null,null,null,null,null,null,null,null,null,null,null,null,null,null,null,null,null,null,null,null,null,null,null,null,null,null,null,null,null,null,null,null,null,null,null,"","","","","","","",null,0,0,0,0,0,0,0,0,0,0,0,0,null,0,"0",0,0,"0",0,0,0,"0",0,0,"0",0]
[null,null,null,null,null,null,null,null,null,null,null,null,null,null,null,null,null,null,null,null,null,null,null,null,null,null,null,null,null,null,null,null,null,null,null,null,null,null,null,null,null,null,null,null,"","","","","","","",null,0,0,0,0,0,0,0,0,0,0,0,0,null,0,"0",0,0,"0",0,0,0,{"$f":"IF(SUM(BT1793+BU1793>=1),\"1\",\"0\")","v":"0"},0,0,"0",0]
[null,null,null,null,null,null,null,null,null,null,null,null,null,null,null,null,null,null,null,null,null,null,null,null,null,null,null,null,null,null,null,null,null,null,null,null,null,null,null,null,null,null,null,null,"","","","","","","",null,0,0,0,0,0,0,0,0,0,0,0,0,null,0,"0",0,0,"0",0,0,0,"0",0,0,"0",0]
[null,null,null,null,null,null,null,null,null,null,null,null,null,null,null,null,null,null,null,null,null,null,null,null,null,null,null,null,null,null,null,null,null,null,null,null,null,null,null,null,null,null,null,null,"","","","","","","",null,0,0,0,0,0,0,0,0,0,0,0,0,null,0,"0",0,0,"0",0,0,0,"0",0,0,"0",0]
[null,null,null,null,null,null,null,null,null,null,null,null,null,null,null,null,null,null,null,null,null,null,null,null,null,null,null,null,null,null,null,null,null,null,null,null,null,null,null,null,null,null,null,null,"","","","","","","",null,0,0,0,0,0,0,0,0,0,0,0,0,null,0,"0",0,0,"0",0,0,0,"0",0,0,"0",0]
[null,null,null,null,null,null,null,null,null,null,null,null,null,null,null,null,null,null,null,null,null,null,null,null,null,null,null,null,null,null,null,null,null,null,null,null,null,null,null,null,null,null,null,null,"","","","","","","",null,0,0,0,0,0,0,0,0,0,0,0,0,null,0,"0",0,0,"0",0,0,0,"0",0,0,"0",0]
[null,null,null,null,null,null,null,null,null,null,null,null,null,null,null,null,null,null,null,null,null,null,null,null,null,null,null,null,null,null,null,null,null,null,null,null,null,null,null,null,null,null,null,null,"","","","","","","",null,0,0,0,0,0,0,0,0,0,0,0,0,null,0,"0",0,0,"0",0,0,0,"0",0,0,"0",0]
[null,null,null,null,null,null,null,null,null,null,null,null,null,null,null,null,null,null,null,null,null,null,null,null,null,null,null,null,null,null,null,null,null,null,null,null,null,null,null,null,null,null,null,null,"","","","","","","",null,0,0,0,0,0,0,0,0,0,0,0,0,null,0,"0",0,0,"0",0,0,0,"0",0,0,"0",0]
[null,null,null,null,null,null,null,null,null,null,null,null,null,null,null,null,null,null,null,null,null,null,null,null,null,null,null,null,null,null,null,null,null,null,null,null,null,null,null,null,null,null,null,null,"","","","","","","",null,0,0,0,0,0,0,0,0,0,0,0,0,null,0,"0",0,0,"0",0,0,0,"0",0,0,"0",0]
[null,null,null,null,null,null,null,null,null,null,null,null,null,null,null,null,null,null,null,null,null,null,null,null,null,null,null,null,null,null,null,null,null,null,null,null,null,null,null,null,null,null,null,null,"","","","","","","",null,0,0,0,0,0,0,0,0,0,0,0,0,null,0,"0",0,0,"0",0,0,0,"0",0,0,"0",0]
[null,null,null,null,null,null,null,null,null,null,null,null,null,null,null,null,null,null,null,null,null,null,null,null,null,null,null,null,null,null,null,null,null,null,null,null,null,null,null,null,null,null,null,null,"","","","","","","",null,0,0,0,0,0,0,0,0,0,0,0,0,null,0,"0",0,0,"0",0,0,0,"0",0,0,"0",0]
[null,null,null,null,null,null,null,null,null,null,null,null,null,null,null,null,null,null,null,null,null,null,null,null,null,null,null,null,null,null,null,null,null,null,null,null,null,null,null,null,null,null,null,null,"","","","","","","",null,0,0,0,0,0,0,0,0,0,0,0,0,null,0,"0",0,0,"0",0,0,0,"0",0,0,"0",0]
[null,null,null,null,null,null,null,null,null,null,null,null,null,null,null,null,null,null,null,null,null,null,null,null,null,null,null,null,null,null,null,null,null,null,null,null,null,null,null,null,null,null,null,null,"","","","","","","",null,0,0,0,0,0,0,0,0,0,0,0,0,null,0,"0",0,0,"0",0,0,0,"0",0,0,"0",0]
[null,null,null,null,null,null,null,null,null,null,null,null,null,null,null,null,null,null,null,null,null,null,null,null,null,null,null,null,null,null,null,null,null,null,null,null,null,null,null,null,null,null,null,null,"","","","","","","",null,0,0,0,0,0,0,0,0,0,0,0,0,null,0,"0",0,0,"0",0,0,0,"0",0,0,"0",0]
[null,null,null,null,null,null,null,null,null,null,null,null,null,null,null,null,null,null,null,null,null,null,null,null,null,null,null,null,null,null,null,null,null,null,null,null,null,null,null,null,null,null,null,null,"","","","","","","",null,0,0,0,0,0,0,0,0,0,0,0,0,null,0,"0",0,0,"0",0,0,0,"0",0,0,"0",0]
[null,null,null,null,null,null,null,null,null,null,null,null,null,null,null,null,null,null,null,null,null,null,null,null,null,null,null,null,null,null,null,null,null,null,null,null,null,null,null,null,null,null,null,null,"","","","","","","",null,0,0,0,0,0,0,0,0,0,0,0,0,null,0,"0",0,0,"0",0,0,0,"0",0,0,"0",0]
[null,null,null,null,null,null,null,null,null,null,null,null,null,null,null,null,null,null,null,null,null,null,null,null,null,null,null,null,null,null,null,null,null,null,null,null,null,null,null,null,null,null,null,null,"","","","","","","",null,0,0,0,0,0,0,0,0,0,0,0,0,null,0,"0",0,0,"0",0,0,0,"0",0,0,"0",0]
[null,null,null,null,null,null,null,null,null,null,null,null,null,null,null,null,null,null,null,null,null,null,null,null,null,null,null,null,null,null,null,null,null,null,null,null,null,null,null,null,null,null,null,null,"","","","","","","",null,0,0,0,0,0,0,0,0,0,0,0,0,null,0,"0",0,0,"0",0,0,0,"0",0,0,"0",0]
[null,null,null,null,null,null,null,null,null,null,null,null,null,null,null,null,null,null,null,null,null,null,null,null,null,null,null,null,null,null,null,null,null,null,null,null,null,null,null,null,null,null,null,null,"","","","","","","",null,0,0,0,0,0,0,0,0,0,0,0,0,null,0,"0",0,0,"0",0,0,0,"0",0,0,"0",0]
[null,null,null,null,null,null,null,null,null,null,null,null,null,null,null,null,null,null,null,null,null,null,null,null,null,null,null,null,null,null,null,null,null,null,null,null,null,null,null,null,null,null,null,null,{"$f":"IF(K1858=\"\",\"\",L1858-K1858)","v":""},{"$f":"IF(M1858=\"\",\"\",R1858-M1858)","v":""},{"$f":"IF(U1858=\"\",\"\",U1858-R1858)","v":""},{"$f":"IF(AM1858=\"\",\"\",(AL1858+AM1858)-(B1858+M1858))","v":""},{"$f":"IF(N1858=\"\",\"\",O1858-N1858)","v":""},{"$f":"IF(AM1858=\"\",\"\",((AL1858+AM1858)-(B1858+O1858)))","v":""},{"$f":"IF(B1858=\"\",\"\",ROUNDUP(MONTH(B1858)/3,0))","v":""},null,{"$f":"COUNTIFS(C1858, \">= 35\",F1858, \"<>Suspected Stroke Symptoms\",G1858,\"No\",O1858,\"<>\"\"\")","v":0},{"$f":"COUNTIFS(C1858, \">= 35\",F1858, \"<>Suspected Stroke Symptoms\",G1858,\"No\",O1858,\"<>\"\"\",Q1858,\"Yes\")","v":0},{"$f":"COUNTIFS(C1858,\">=18\",S1858,\"=TRUE\",AE1858,\"=TRUE\", AM1858,\"<>\"\"\")","v":0},{"$f":"COUNTIFS(C1858,\">=18\",S1858,\"=TRUE\",AE1858,\"=TRUE\", AM1858,\"<>\"\"\",AV1858,\"<=0:90\",BE1858,\"0\")","v":0},{"$f":"COUNTIFS(C1858,\">=18\",S1858,\"=TRUE\",AE1858,\"=TRUE\", AM1858,\"<>\"\"\",AV1858,\"<=1:20\",AW1858,\">=0:45\",AX1858,\"<=0:30\",BD1858, \"0\")","v":0},0,0,0,0,{"$f":"COUNTIFS(C1858,\">=18\",S1858,\"=TRUE\",AD1858,\"=TRUE\", AM1858,\"<>\"\"\",AV1858,\"<>\"\"\")","v":0},0,0,null,0,"0",{"$f":"COUNTIFS(C1858,\">=18\",S1858,\"=TRUE\",AE1858,\"=TRUE\", AM1858,\"<>\"\"\",AN1858,\"<>\",BN1858,\"0\")","v":0},{"$f":"COUNTIFS(C1858,\">=18\",S1858,\"=TRUE\",AE1858,\"=TRUE\", AM1858,\"<>\"\"\",H1858,\"Yes\",BN1858,\"0\")","v":0},{"$f":"IF(SUM(BP1858+BQ1858>=1),\"1\",\"0\")","v":"0"},{"$f":"COUNTIFS(C1858, \">= 35\",F1858, \"<>Suspected Stroke Symptoms\",G1858,\"No\",O1858,\"<>\"\"\",H1858,\"Yes\",BB1858,\"0\")","v":0},0,0,"0",0,0,"0",0]
[null,null,null,null,null,null,null,null,null,null,null,null,null,null,null,null,null,null,null,null,null,null,null,null,null,null,null,null,null,null,null,null,null,null,null,null,null,null,null,null,null,null,null,null,"","","","","","","",null,0,0,0,0,0,{"$f":"COUNTIFS(C1859,\">=35\",F1859, \"<>Suspected Stroke Symptoms\",G1859,\"NO\",Q1859,\"YES\",O1859,\"<>\"\"\")","v":0},{"$f":"COUNTIFS(C1859,\">=35\",F1859, \"<>Suspected Stroke Symptoms\",G1859,\"NO\",Q1859,\"YES\",O1859,\"<>\"\"\",AT1859,\"<=0:10\")","v":0},{"$f":"COUNTIFS(C1859,\">=35\",S1859,\"TRUE\",O1859,\"<>\"\"\")","v":0},{"$f":"COUNTIFS(C1859,\">=35\",S1859,\"TRUE\",O1859,\"<>\"\"\",AU1859,\"<=0:10\")","v":0},0,{"$f":"COUNTIFS(C1859,\">=18\",S1859,\"=TRUE\",AD1859,\"=TRUE\", AM1859,\"<>\"\"\",AX1859,\"<=0:30\")","v":0},{"$f":"COUNTIFS(C1859,\">=18\",S1859,\"=TRUE\",AD1859,\"=TRUE\", AM1859,\"<>\"\"\", AK1859, \"TRUE\",AV1859,\"<=1:20\")","v":0},null,0,{"$f":"IF(SUM(BK1859+BL1859>=1),\"1\",\"0\")","v":"0"},0,0,"0",0,{"$f":"COUNTIFS(C1859,\">=35\",S1859,\"TRUE\",O1859,\"<>\"\"\",H1859,\"Yes\",BI1859,\"0\")","v":0},{"$f":"COUNTIFS(C1859,\">=35\",S1859,\"TRUE\",O1859,\"<>\"\"\",T1859,\"<>\",BI1859,\"0\")","v":0},"0",{"$f":"COUNTIFS(C1859,\">=18\",S1859,\"=TRUE\",AD1859,\"=TRUE\", AM1859,\"<>\"\"\",AV1859,\"<>\",BO1859,\"0\")","v":0},{"$f":"COUNTIFS(C1859,\">=18\",S1859,\"=TRUE\",AD1859,\"=TRUE\", AM1859,\"<>\"\"\",H1859,\"Yes\",BO1859,\"0\")","v":0},{"$f":"IF(SUM(BW1859+BX1859>=1),\"1\",\"0\")","v":"0"},{"$f":"COUNTIFS(C1859,\">=35\",F1859, \"<>Suspected Stroke Symptoms\",G1859,\"NO\",Q1859,\"YES\",O1859,\"<>\"\"\",H1859,\"Yes\")","v":0}]
[null,null,null,null,null,null,null,null,null,null,null,null,null,null,null,null,null,null,null,null,null,null,null,null,null,null,null,null,null,null,null,null,null,null,null,null,null,null,null,null,null,null,null,null,"","","","","","","",null,0,0,0,0,0,0,0,0,0,0,0,0,null,0,"0",0,0,"0",0,0,0,"0",0,0,"0",0]
[null,null,null,null,null,null,null,null,null,null,null,null,null,null,null,null,null,null,null,null,null,null,null,null,null,null,null,null,null,null,null,null,null,null,null,null,null,null,null,null,null,null,null,null,"","","","","","","",null,0,0,0,0,0,0,0,0,0,0,0,0,null,0,"0",0,0,"0",0,0,0,"0",0,0,"0",0]
[null,null,null,null,null,null,null,null,null,null,null,null,null,null,null,null,null,null,null,null,null,null,null,null,null,null,null,null,null,null,null,null,null,null,null,null,null,null,null,null,null,null,null,null,"","","","","","","",null,0,0,0,0,0,0,0,0,0,0,0,0,null,0,"0",0,0,"0",0,0,0,"0",0,0,"0",0]
[null,null,null,null,null,null,null,null,null,null,null,null,null,null,null,null,null,null,null,null,null,null,null,null,null,null,null,null,null,null,null,null,null,null,null,null,null,null,null,null,null,null,null,null,"","","","","","","",null,0,0,0,0,0,0,0,0,0,0,0,0,null,0,"0",0,0,"0",0,0,0,"0",0,0,"0",0]
[null,null,null,null,null,null,null,null,null,null,null,null,null,null,null,null,null,null,null,null,null,null,null,null,null,null,null,null,null,null,null,null,null,null,null,null,null,null,null,null,null,null,null,null,"","","","","","","",null,0,0,0,0,0,0,0,0,0,0,0,0,null,0,"0",0,0,"0",0,0,0,"0",0,0,"0",0]
[null,null,null,null,null,null,null,null,null,null,null,null,null,null,null,null,null,null,null,null,null,null,null,null,null,null,null,null,null,null,null,null,null,null,null,null,null,null,null,null,null,null,null,null,"","","","","","","",null,0,0,0,0,0,0,0,0,0,0,0,0,null,0,"0",0,0,"0",0,0,0,"0",0,0,"0",0]
[null,null,null,null,null,null,null,null,null,null,null,null,null,null,null,null,null,null,null,null,null,null,null,null,null,null,null,null,null,null,null,null,null,null,null,null,null,null,null,null,null,null,null,null,"","","","","","","",null,0,0,0,0,0,0,0,0,0,0,0,0,null,0,"0",0,0,"0",0,0,0,"0",0,0,"0",0]
[null,null,null,null,null,null,null,null,null,null,null,null,null,null,null,null,null,null,null,null,null,null,null,null,null,null,null,null,null,null,null,null,null,null,null,null,null,null,null,null,null,null,null,null,"","","","","","","",null,0,0,0,0,0,0,0,0,0,0,0,0,null,0,"0",0,0,"0",0,0,0,"0",0,0,"0",0]
[null,null,null,null,null,null,null,null,null,null,null,null,null,null,null,null,null,null,null,null,null,null,null,null,null,null,null,null,null,null,null,null,null,null,null,null,null,null,null,null,null,null,null,null,"","","","","","","",null,0,0,0,0,0,0,0,0,0,0,0,0,null,0,"0",0,0,"0",0,0,0,"0",0,0,"0",0]
[null,null,null,null,null,null,null,null,null,null,null,null,null,null,null,null,null,null,null,null,null,null,null,null,null,null,null,null,null,null,null,null,null,null,null,null,null,null,null,null,null,null,null,null,"","","","","","","",null,0,0,0,0,0,0,0,0,0,0,0,0,null,0,"0",0,0,"0",0,0,0,"0",0,0,"0",0]
[null,null,null,null,null,null,null,null,null,null,null,null,null,null,null,null,null,null,null,null,null,null,null,null,null,null,null,null,null,null,null,null,null,null,null,null,null,null,null,null,null,null,null,null,"","","","","","","",null,0,0,0,0,0,0,0,0,0,0,0,0,null,0,"0",0,0,"0",0,0,0,"0",0,0,"0",0]
[null,null,null,null,null,null,null,null,null,null,null,null,null,null,null,null,null,null,null,null,null,null,null,null,null,null,null,null,null,null,null,null,null,null,null,null,null,null,null,null,null,null,null,null,"","","","","","","",null,0,0,0,0,0,0,0,0,0,0,0,0,null,0,"0",0,0,"0",0,0,0,"0",0,0,"0",0]
[null,null,null,null,null,null,null,null,null,null,null,null,null,null,null,null,null,null,null,null,null,null,null,null,null,null,null,null,null,null,null,null,null,null,null,null,null,null,null,null,null,null,null,null,"","","","","","","",null,0,0,0,0,0,0,0,0,0,0,0,0,null,{"$f":"SUM(BD1908:BE1908)","v":0},"0",0,0,"0",0,0,0,"0",0,0,"0",0]
[null,null,null,null,null,null,null,null,null,null,null,null,null,null,null,null,null,null,null,null,null,null,null,null,null,null,null,null,null,null,null,null,null,null,null,null,null,null,null,null,null,null,null,null,"","","","","","","",null,0,0,0,0,0,0,0,0,0,0,0,0,null,0,"0",0,0,"0",0,0,0,"0",0,0,"0",0]
[null,null,null,null,null,null,null,null,null,null,null,null,null,null,null,null,null,null,null,null,null,null,null,null,null,null,null,null,null,null,null,null,null,null,null,null,null,null,null,null,null,null,null,null,"","","","","","","",null,0,0,0,0,0,0,0,0,0,0,0,0,null,0,"0",0,0,"0",0,0,0,"0",0,0,"0",0]
[null,null,null,null,null,null,null,null,null,null,null,null,null,null,null,null,null,null,null,null,null,null,null,null,null,null,null,null,null,null,null,null,null,null,null,null,null,null,null,null,null,null,null,null,"","","","","","","",null,0,0,0,0,0,0,0,0,0,0,0,0,null,0,"0",0,0,"0",0,0,0,"0",0,0,"0",0]
[null,null,null,null,null,null,null,null,null,null,null,null,null,null,null,null,null,null,null,null,null,null,null,null,null,null,null,null,null,null,null,null,null,null,null,null,null,null,null,null,null,null,null,null,"","","","","","","",null,0,0,0,0,0,0,0,0,0,0,0,0,null,0,"0",0,0,"0",0,0,0,"0",0,0,"0",0]
[null,null,null,null,null,null,null,null,null,null,null,null,null,null,null,null,null,null,null,null,null,null,null,null,null,null,null,null,null,null,null,null,null,null,null,null,null,null,null,null,null,null,null,null,"","","","","","","",null,0,0,0,0,0,0,0,0,0,0,0,0,null,0,"0",0,0,"0",0,0,0,"0",0,0,"0",0]
[null,null,null,null,null,null,null,null,null,null,null,null,null,null,null,null,null,null,null,null,null,null,null,null,null,null,null,null,null,null,null,null,null,null,null,null,null,null,null,null,null,null,null,null,"","","","","","","",null,0,0,0,0,0,0,0,0,0,0,0,0,null,0,"0",0,0,"0",0,0,0,"0",0,0,"0",0]
[null,null,null,null,null,null,null,null,null,null,null,null,null,null,null,null,null,null,null,null,null,null,null,null,null,null,null,null,null,null,null,null,null,null,null,null,null,null,null,null,null,null,null,null,"","","","","","","",null,0,0,0,0,0,0,0,0,0,0,0,0,null,0,"0",0,0,"0",0,0,0,"0",0,0,"0",0]
[null,null,null,null,null,null,null,null,null,null,null,null,null,null,null,null,null,null,null,null,null,null,null,null,null,null,null,null,null,null,null,null,null,null,null,null,null,null,null,null,null,null,null,null,"","","","","","","",null,0,0,0,0,0,0,0,0,0,0,0,0,null,0,"0",0,0,"0",0,0,0,"0",0,0,"0",0]
[null,null,null,null,null,null,null,null,null,null,null,null,null,null,null,null,null,null,null,null,null,null,null,null,null,null,null,null,null,null,null,null,null,null,null,null,null,null,null,null,null,null,null,null,"","","","","","","",null,0,0,0,0,0,0,0,0,0,0,0,0,null,0,"0",0,0,"0",0,0,0,"0",0,0,"0",0]
[null,null,null,null,null,null,null,null,null,null,null,null,null,null,null,null,null,null,null,null,null,null,null,null,null,null,null,null,null,null,null,null,null,null,null,null,null,null,null,null,null,null,null,null,"","","","","","","",null,0,0,0,0,0,0,0,0,0,0,0,0,null,0,"0",0,0,"0",0,0,0,"0",0,0,"0",0]
[null,null,null,null,null,null,null,null,null,null,null,null,null,null,null,null,null,null,null,null,null,null,null,null,null,null,null,null,null,null,null,null,null,null,null,null,null,null,null,null,null,null,null,null,"","","","","","","",null,0,0,0,0,0,0,0,0,0,0,0,0,null,0,"0",0,0,"0",0,0,0,"0",0,0,"0",0]
[null,null,null,null,null,null,null,null,null,null,null,null,null,null,null,null,null,null,null,null,null,null,null,null,null,null,null,null,null,null,null,null,null,null,null,null,null,null,null,null,null,null,null,null,"","","","","","","",null,0,0,0,0,0,0,0,0,0,0,0,0,null,0,"0",0,0,"0",0,0,0,"0",0,0,"0",0]
[null,null,null,null,null,null,null,null,null,null,null,null,null,null,null,null,null,null,null,null,null,null,null,null,null,null,null,null,null,null,null,null,null,null,null,null,null,null,null,null,null,null,null,null,"","","","","","","",null,0,0,0,0,0,0,0,0,0,0,0,0,null,0,"0",0,0,"0",0,0,0,"0",0,0,"0",0]
[null,null,null,null,null,null,null,null,null,null,null,null,null,null,null,null,null,null,null,null,null,null,null,null,null,null,null,null,null,null,null,null,null,null,null,null,null,null,null,null,null,null,null,null,"","","","","","","",null,0,0,0,0,0,0,0,0,0,0,0,0,null,0,"0",0,0,"0",0,0,0,"0",0,0,"0",0]
[null,null,null,null,null,null,null,null,null,null,null,null,null,null,null,null,null,null,null,null,null,null,null,null,null,null,null,null,null,null,null,null,null,null,null,null,null,null,null,null,null,null,null,null,"","","","","","","",null,0,0,0,0,0,0,0,0,0,0,0,0,null,0,"0",0,0,"0",0,0,0,"0",0,0,"0",0]
[null,null,null,null,null,null,null,null,null,null,null,null,null,null,null,null,null,null,null,null,null,null,null,null,null,null,null,null,null,null,null,null,null,null,null,null,null,null,null,null,null,null,null,null,"","","","","","","",null,0,0,0,0,0,0,0,0,0,0,0,0,null,0,"0",0,0,"0",0,0,0,"0",0,0,"0",0]
[null,null,null,null,null,null,null,null,null,null,null,null,null,null,null,null,null,null,null,null,null,null,null,null,null,null,null,null,null,null,null,null,null,null,null,null,null,null,null,null,null,null,null,null,"","","","","","","",null,0,0,0,0,0,0,0,0,0,0,0,0,null,0,"0",0,0,"0",0,0,0,"0",0,0,"0",0]
[null,null,null,null,null,null,null,null,null,null,null,null,null,null,null,null,null,null,null,null,null,null,null,null,null,null,null,null,null,null,null,null,null,null,null,null,null,null,null,null,null,null,null,null,"","","","","","","",null,0,0,0,0,0,0,0,0,0,0,0,0,null,{"$f":"SUM(BD1972:BE1972)","v":0},"0",0,0,"0",0,0,0,"0",0,0,"0",0]
[null,null,null,null,null,null,null,null,null,null,null,null,null,null,null,null,null,null,null,null,null,null,null,null,null,null,null,null,null,null,null,null,null,null,null,null,null,null,null,null,null,null,null,null,"","","","","","","",null,0,0,0,0,0,0,0,0,0,0,0,0,null,0,"0",0,0,"0",0,0,0,"0",0,0,"0",0]
[null,null,null,null,null,null,null,null,null,null,null,null,null,null,null,null,null,null,null,null,null,null,null,null,null,null,null,null,null,null,null,null,null,null,null,null,null,null,null,null,null,null,null,null,"","","","","","","",null,0,0,0,0,0,0,0,0,0,0,0,0,null,0,"0",0,0,"0",0,0,0,"0",0,0,"0",0]
[null,null,null,null,null,null,null,null,null,null,null,null,null,null,null,null,null,null,null,null,null,null,null,null,null,null,null,null,null,null,null,null,null,null,null,null,null,null,null,null,null,null,null,null,"","","","","","","",null,0,0,0,0,0,0,0,0,0,0,0,0,null,0,"0",0,0,"0",0,0,0,"0",0,0,"0",0]
[null,null,null,null,null,null,null,null,null,null,null,null,null,null,null,null,null,null,null,null,null,null,null,null,null,null,null,null,null,null,null,null,null,null,null,null,null,null,null,null,null,null,null,null,"","","","","","","",null,0,0,0,0,0,0,0,0,0,0,0,0,null,0,"0",0,0,"0",0,0,0,{"$f":"IF(SUM(BT1985+BU1985>=1),\"1\",\"0\")","v":"0"},0,0,"0",0]
[null,null,null,null,null,null,null,null,null,null,null,null,null,null,null,null,null,null,null,null,null,null,null,null,null,null,null,null,null,null,null,null,null,null,null,null,null,null,null,null,null,null,null,null,"","","","","","","",null,0,0,0,0,0,{"$f":"COUNTIFS(C1987,\">=35\",F1987, \"<>Suspected Stroke Symptoms\",G1987,\"NO\",Q1987,\"YES\",O1987,\"<>\"\"\")","v":0},{"$f":"COUNTIFS(C1987,\">=35\",F1987, \"<>Suspected Stroke Symptoms\",G1987,\"NO\",Q1987,\"YES\",O1987,\"<>\"\"\",AT1987,\"<=0:10\")","v":0},{"$f":"COUNTIFS(C1987,\">=35\",S1987,\"TRUE\",O1987,\"<>\"\"\")","v":0},{"$f":"COUNTIFS(C1987,\">=35\",S1987,\"TRUE\",O1987,\"<>\"\"\",AU1987,\"<=0:10\")","v":0},0,{"$f":"COUNTIFS(C1987,\">=18\",S1987,\"=TRUE\",AD1987,\"=TRUE\", AM1987,\"<>\"\"\",AX1987,\"<=0:30\")","v":0},{"$f":"COUNTIFS(C1987,\">=18\",S1987,\"=TRUE\",AD1987,\"=TRUE\", AM1987,\"<>\"\"\", AK1987, \"TRUE\",AV1987,\"<=1:20\")","v":0},null,0,{"$f":"IF(SUM(BK1987+BL1987>=1),\"1\",\"0\")","v":"0"},0,0,"0",0,{"$f":"COUNTIFS(C1987,\">=35\",S1987,\"TRUE\",O1987,\"<>\"\"\",H1987,\"Yes\",BI1987,\"0\")","v":0},{"$f":"COUNTIFS(C1987,\">=35\",S1987,\"TRUE\",O1987,\"<>\"\"\",T1987,\"<>\",BI1987,\"0\")","v":0},"0",{"$f":"COUNTIFS(C1987,\">=18\",S1987,\"=TRUE\",AD1987,\"=TRUE\", AM1987,\"<>\"\"\",AV1987,\"<>\",BO1987,\"0\")","v":0},{"$f":"COUNTIFS(C1987,\">=18\",S1987,\"=TRUE\",AD1987,\"=TRUE\", AM1987,\"<>\"\"\",H1987,\"Yes\",BO1987,\"0\")","v":0},{"$f":"IF(SUM(BW1987+BX1987>=1),\"1\",\"0\")","v":"0"},{"$f":"COUNTIFS(C1987,\">=35\",F1987, \"<>Suspected Stroke Symptoms\",G1987,\"NO\",Q1987,\"YES\",O1987,\"<>\"\"\",H1987,\"Yes\")","v":0}]
[null,null,null,null,null,null,null,null,null,null,null,null,null,null,null,null,null,null,null,null,null,null,null,null,null,null,null,null,null,null,null,null,null,null,null,null,null,null,null,null,null,null,null,null,"","","","","","","",null,0,0,0,0,0,0,0,0,0,0,0,0,null,0,"0",0,0,"0",0,0,0,"0",0,0,"0",0]
[null,null,null,null,null,null,null,null,null,null,null,null,null,null,null,null,null,null,null,null,null,null,null,null,null,null,null,null,null,null,null,null,null,null,null,null,null,null,null,null,null,null,null,null,"","","","","","","",null,0,0,0,0,0,0,0,0,0,0,0,0,null,0,"0",0,0,"0",0,0,0,"0",0,0,"0",0]
[null,null,null,null,null,null,null,null,null,null,null,null,null,null,null,null,null,null,null,null,null,null,null,null,null,null,null,null,null,null,null,null,null,null,null,null,null,null,null,null,null,null,null,null,"","","","","","","",null,0,0,0,0,0,0,0,0,0,0,0,0,null,0,"0",0,0,"0",0,0,0,"0",0,0,"0",0]
[null,null,null,null,null,null,null,null,null,null,null,null,null,null,null,null,null,null,null,null,null,null,null,null,null,null,null,null,null,null,null,null,null,null,null,null,null,null,null,null,null,null,null,null,"","","","","","","",null,0,0,0,0,0,0,0,0,0,0,0,0,null,0,"0",0,0,"0",0,0,0,"0",0,0,"0",0]
[null,null,null,null,null,null,null,null,null,null,null,null,null,null,null,null,null,null,null,null,null,null,null,null,null,null,null,null,null,null,null,null,null,null,null,null,null,null,null,null,null,null,null,null,"","","","","","","",null,0,0,0,0,0,0,0,0,0,0,0,0,null,0,"0",0,0,"0",0,0,0,"0",0,0,"0",0]
[null,null,null,null,null,null,null,null,null,null,null,null,null,null,null,null,null,null,null,null,null,null,null,null,null,null,null,null,null,null,null,null,null,null,null,null,null,null,null,null,null,null,null,null,"","","","","","","",null,0,0,0,0,0,0,0,0,0,0,0,0,null,0,"0",0,0,"0",0,0,0,"0",0,0,"0",0]
[null,null,null,null,null,null,null,null,null,null,null,null,null,null,null,null,null,null,null,null,null,null,null,null,null,null,null,null,null,null,null,null,null,null,null,null,null,null,null,null,null,null,null,null,"","","","","","","",null,0,0,0,0,0,0,0,0,0,0,0,0,null,0,"0",0,0,"0",0,0,0,"0",0,0,"0",0]
[null,null,null,null,null,null,null,null,null,null,null,null,null,null,null,null,null,null,null,null,null,null,null,null,null,null,null,null,null,null,null,null,null,null,null,null,null,null,null,null,null,null,null,null,"","","","","","","",null,0,0,0,0,0,0,0,0,0,0,0,0,null,0,"0",0,0,"0",0,0,0,"0",0,0,"0",0]
[null,null,null,null,null,null,null,null,null,null,null,null,null,null,null,null,null,null,null,null,null,null,null,null,null,null,null,null,null,null,null,null,null,null,null,null,null,null,null,null,null,null,null,null,"","","","","","","",null,0,0,0,0,0,0,0,0,0,0,0,0,null,0,"0",0,0,"0",0,0,0,"0",0,0,"0",0]
[null,null,null,null,null,null,null,null,null,null,null,null,null,null,null,null,null,null,null,null,null,null,null,null,null,null,null,null,null,null,null,null,null,null,null,null,null,null,null,null,null,null,null,null,"","","","","","","",null,0,0,0,0,0,0,0,0,0,0,0,0,null,0,"0",0,0,"0",0,0,0,"0",0,0,"0",0]
[null,null,null,null,null,null,null,null,null,null,null,null,null,null,null,null,null,null,null,null,null,null,null,null,null,null,null,null,null,null,null,null,null,null,null,null,null,null,null,null,null,null,null,null,"","","","","","","",null,0,0,0,0,0,0,0,0,0,0,0,0,null,0,"0",0,0,"0",0,0,0,"0",0,0,"0",0]
[null,null,null,null,null,null,null,null,null,null,null,null,null,null,null,null,null,null,null,null,null,null,null,null,null,null,null,null,null,null,null,null,null,null,null,null,null,null,null,null,null,null,null,null,"","","","","","","",null,0,0,0,0,0,0,0,0,0,0,0,0,null,0,"0",0,0,"0",0,0,0,"0",0,0,"0",0]
[null,null,null,null,null,null,null,null,null,null,null,null,null,null,null,null,null,null,null,null,null,null,null,null,null,null,null,null,null,null,null,null,null,null,null,null,null,null,null,null,null,null,null,null,"","","","","","","",null,0,0,0,0,0,0,0,0,0,0,0,0,null,0,"0",0,0,"0",0,0,0,"0",0,0,"0",0]
[null,null,null,null,null,null,null,null,null,null,null,null,null,null,null,null,null,null,null,null,null,null,null,null,null,null,null,null,null,null,null,null,null,null,null,null,null,null,null,null,null,null,null,null,"","","","","","","",null,0,0,0,0,0,0,0,0,0,0,0,0,null,0,"0",0,0,"0",0,0,0,"0",0,0,"0",0]
[null,null,null,null,null,null,null,null,null,null,null,null,null,null,null,null,null,null,null,null,null,null,null,null,null,null,null,null,null,null,null,null,null,null,null,null,null,null,null,null,null,null,null,null,"","","","","","","",null,0,0,0,0,0,0,0,0,0,0,0,0,null,0,"0",0,0,"0",0,0,0,"0",0,0,"0",0]
[null,null,null,null,null,null,null,null,null,null,null,null,null,null,null,null,null,null,null,null,null,null,null,null,null,null,null,null,null,null,null,null,null,null,null,null,null,null,null,null,null,null,null,null,"","","","","","","",null,0,0,0,0,0,0,0,0,0,0,0,0,null,0,"0",0,0,"0",0,0,0,"0",0,0,"0",0]
[null,null,null,null,null,null,null,null,null,null,null,null,null,null,null,null,null,null,null,null,null,null,null,null,null,null,null,null,null,null,null,null,null,null,null,null,null,null,null,null,null,null,null,null,"","","","","","","",null,0,0,0,0,0,0,0,0,0,0,0,0,null,0,"0",0,0,"0",0,0,0,"0",0,0,"0",0]
[null,null,null,null,null,null,null,null,null,null,null,null,null,null,null,null,null,null,null,null,null,null,null,null,null,null,null,null,null,null,null,null,null,null,null,null,null,null,null,null,null,null,null,null,"","","","","","","",null,0,0,0,0,0,0,0,0,0,0,0,0,null,0,"0",0,0,"0",0,0,0,"0",0,0,"0",0]
[null,null,null,null,null,null,null,null,null,null,null,null,null,null,null,null,null,null,null,null,null,null,null,null,null,null,null,null,null,null,null,null,null,null,null,null,null,null,null,null,null,null,null,null,"","","","","","","",null,0,0,0,0,0,0,0,0,0,0,0,0,null,0,"0",0,0,"0",0,0,0,"0",0,0,"0",0]
[null,null,null,null,null,null,null,null,null,null,null,null,null,null,null,null,null,null,null,null,null,null,null,null,null,null,null,null,null,null,null,null,null,null,null,null,null,null,null,null,null,null,null,null,"","","","","","","",null,0,0,0,0,0,0,0,0,0,0,0,0,null,0,"0",0,0,"0",0,0,0,"0",0,0,"0",0]
[null,null,null,null,null,null,null,null,null,null,null,null,null,null,null,null,null,null,null,null,null,null,null,null,null,null,null,null,null,null,null,null,null,null,null,null,null,null,null,null,null,null,null,null,"","","","","","","",null,0,0,0,0,0,0,0,0,0,0,0,0,null,0,"0",0,0,"0",0,0,0,"0",0,0,"0",0]
[null,null,null,null,null,null,null,null,null,null,null,null,null,null,null,null,null,null,null,null,null,null,null,null,null,null,null,null,null,null,null,null,null,null,null,null,null,null,null,null,null,null,null,null,"","","","","","","",null,0,0,0,0,0,0,0,0,0,0,0,0,null,0,"0",0,0,"0",0,0,0,"0",0,0,"0",0]
[null,null,null,null,null,null,null,null,null,null,null,null,null,null,null,null,null,null,null,null,null,null,null,null,null,null,null,null,null,null,null,null,null,null,null,null,null,null,null,null,null,null,null,null,"","","","","","","",null,0,0,0,0,0,0,0,0,0,0,0,0,null,0,"0",0,0,"0",0,0,0,"0",0,0,"0",0]
[null,null,null,null,null,null,null,null,null,null,null,null,null,null,null,null,null,null,null,null,null,null,null,null,null,null,null,null,null,null,null,null,null,null,null,null,null,null,null,null,null,null,null,null,"","","","","","","",null,0,0,0,0,0,0,0,0,0,0,0,0,null,0,"0",0,0,"0",0,0,0,"0",0,0,"0",0]
[null,null,null,null,null,null,null,null,null,null,null,null,null,null,null,null,null,null,null,null,null,null,null,null,null,null,null,null,null,null,null,null,null,null,null,null,null,null,null,null,null,null,null,null,"","","","","","","",null,0,0,0,0,0,0,0,0,0,0,0,0,null,0,"0",0,0,"0",0,0,0,"0",0,0,"0",0]
[null,null,null,null,null,null,null,null,null,null,null,null,null,null,null,null,null,null,null,null,null,null,null,null,null,null,null,null,null,null,null,null,null,null,null,null,null,null,null,null,null,null,null,null,"","","","","","","",null,0,0,0,0,0,0,0,0,0,0,0,0,null,0,"0",0,0,"0",0,0,0,"0",0,0,"0",0]
[null,null,null,null,null,null,null,null,null,null,null,null,null,null,null,null,null,null,null,null,null,null,null,null,null,null,null,null,null,null,null,null,null,null,null,null,null,null,null,null,null,null,null,null,"","","","","","","",null,0,0,0,0,0,0,0,0,0,0,0,0,null,0,"0",0,0,"0",0,0,0,"0",0,0,"0",0]
[null,null,null,null,null,null,null,null,null,null,null,null,null,null,null,null,null,null,null,null,null,null,null,null,null,null,null,null,null,null,null,null,null,null,null,null,null,null,null,null,null,null,null,null,"","","","","","","",null,0,0,0,0,0,0,0,0,0,0,0,0,null,0,"0",0,0,"0",0,0,0,"0",0,0,"0",0]
[null,null,null,null,null,null,null,null,null,null,null,null,null,null,null,null,null,null,null,null,null,null,null,null,null,null,null,null,null,null,null,null,null,null,null,null,null,null,null,null,null,null,null,null,"","","","","","","",null,0,0,0,0,0,0,0,0,0,0,0,0,null,0,"0",0,0,"0",0,0,0,"0",0,0,"0",0]
[null,null,null,null,null,null,null,null,null,null,null,null,null,null,null,null,null,null,null,null,null,null,null,null,null,null,null,null,null,null,null,null,null,null,null,null,null,null,null,null,null,null,null,null,"","","","","","","",null,0,0,0,0,0,0,0,0,0,0,0,0,null,0,"0",0,0,"0",0,0,0,"0",0,0,"0",0]
[null,null,null,null,null,null,null,null,null,null,null,null,null,null,null,null,null,null,null,null,null,null,null,null,null,null,null,null,null,null,null,null,null,null,null,null,null,null,null,null,null,null,null,null,"","","","","","","",null,0,0,0,0,0,0,0,0,0,0,0,0,null,{"$f":"SUM(BD2100:BE2100)","v":0},"0",0,0,"0",0,0,0,"0",0,0,"0",0]
[null,null,null,null,null,null,null,null,null,null,null,null,null,null,null,null,null,null,null,null,null,null,null,null,null,null,null,null,null,null,null,null,null,null,null,null,null,null,null,null,null,null,null,null,"","","","","","","",null,0,0,0,0,0,0,0,0,0,0,0,0,null,0,"0",0,0,"0",0,0,0,"0",0,0,"0",0]
[null,null,null,null,null,null,null,null,null,null,null,null,null,null,null,null,null,null,null,null,null,null,null,null,null,null,null,null,null,null,null,null,null,null,null,null,null,null,null,null,null,null,null,null,"","","","","","","",null,0,0,0,0,0,0,0,0,0,0,0,0,null,0,"0",0,0,"0",0,0,0,"0",0,0,"0",0]
[null,null,null,null,null,null,null,null,null,null,null,null,null,null,null,null,null,null,null,null,null,null,null,null,null,null,null,null,null,null,null,null,null,null,null,null,null,null,null,null,null,null,null,null,"","","","","","","",null,0,0,0,0,0,0,0,0,0,0,0,0,null,0,"0",0,0,"0",0,0,0,"0",0,0,"0",0]
[null,null,null,null,null,null,null,null,null,null,null,null,null,null,null,null,null,null,null,null,null,null,null,null,null,null,null,null,null,null,null,null,null,null,null,null,null,null,null,null,null,null,null,null,{"$f":"IF(K2114=\"\",\"\",L2114-K2114)","v":""},{"$f":"IF(M2114=\"\",\"\",R2114-M2114)","v":""},{"$f":"IF(U2114=\"\",\"\",U2114-R2114)","v":""},{"$f":"IF(AM2114=\"\",\"\",(AL2114+AM2114)-(B2114+M2114))","v":""},{"$f":"IF(N2114=\"\",\"\",O2114-N2114)","v":""},{"$f":"IF(AM2114=\"\",\"\",((AL2114+AM2114)-(B2114+O2114)))","v":""},{"$f":"IF(B2114=\"\",\"\",ROUNDUP(MONTH(B2114)/3,0))","v":""},null,{"$f":"COUNTIFS(C2114, \">= 35\",F2114, \"<>Suspected Stroke Symptoms\",G2114,\"No\",O2114,\"<>\"\"\")","v":0},{"$f":"COUNTIFS(C2114, \">= 35\",F2114, \"<>Suspected Stroke Symptoms\",G2114,\"No\",O2114,\"<>\"\"\",Q2114,\"Yes\")","v":0},{"$f":"COUNTIFS(C2114,\">=18\",S2114,\"=TRUE\",AE2114,\"=TRUE\", AM2114,\"<>\"\"\")","v":0},{"$f":"COUNTIFS(C2114,\">=18\",S2114,\"=TRUE\",AE2114,\"=TRUE\", AM2114,\"<>\"\"\",AV2114,\"<=0:90\",BE2114,\"0\")","v":0},{"$f":"COUNTIFS(C2114,\">=18\",S2114,\"=TRUE\",AE2114,\"=TRUE\", AM2114,\"<>\"\"\",AV2114,\"<=1:20\",AW2114,\">=0:45\",AX2114,\"<=0:30\",BD2114, \"0\")","v":0},0,0,0,0,{"$f":"COUNTIFS(C2114,\">=18\",S2114,\"=TRUE\",AD2114,\"=TRUE\", AM2114,\"<>\"\"\",AV2114,\"<>\"\"\")","v":0},0,0,null,0,"0",{"$f":"COUNTIFS(C2114,\">=18\",S2114,\"=TRUE\",AE2114,\"=TRUE\", AM2114,\"<>\"\"\",AN2114,\"<>\",BN2114,\"0\")","v":0},{"$f":"COUNTIFS(C2114,\">=18\",S2114,\"=TRUE\",AE2114,\"=TRUE\", AM2114,\"<>\"\"\",H2114,\"Yes\",BN2114,\"0\")","v":0},{"$f":"IF(SUM(BP2114+BQ2114>=1),\"1\",\"0\")","v":"0"},{"$f":"COUNTIFS(C2114, \">= 35\",F2114, \"<>Suspected Stroke Symptoms\",G2114,\"No\",O2114,\"<>\"\"\",H2114,\"Yes\",BB2114,\"0\")","v":0},0,0,"0",0,0,"0",0]
[null,null,null,null,null,null,null,null,null,null,null,null,null,null,null,null,null,null,null,null,null,null,null,null,null,null,null,null,null,null,null,null,null,null,null,null,null,null,null,null,null,null,null,null,"","","","","","","",null,0,0,0,0,0,{"$f":"COUNTIFS(C2115,\">=35\",F2115, \"<>Suspected Stroke Symptoms\",G2115,\"NO\",Q2115,\"YES\",O2115,\"<>\"\"\")","v":0},{"$f":"COUNTIFS(C2115,\">=35\",F2115, \"<>Suspected Stroke Symptoms\",G2115,\"NO\",Q2115,\"YES\",O2115,\"<>\"\"\",AT2115,\"<=0:10\")","v":0},{"$f":"COUNTIFS(C2115,\">=35\",S2115,\"TRUE\",O2115,\"<>\"\"\")","v":0},{"$f":"COUNTIFS(C2115,\">=35\",S2115,\"TRUE\",O2115,\"<>\"\"\",AU2115,\"<=0:10\")","v":0},0,{"$f":"COUNTIFS(C2115,\">=18\",S2115,\"=TRUE\",AD2115,\"=TRUE\", AM2115,\"<>\"\"\",AX2115,\"<=0:30\")","v":0},{"$f":"COUNTIFS(C2115,\">=18\",S2115,\"=TRUE\",AD2115,\"=TRUE\", AM2115,\"<>\"\"\", AK2115, \"TRUE\",AV2115,\"<=1:20\")","v":0},null,0,{"$f":"IF(SUM(BK2115+BL2115>=1),\"1\",\"0\")","v":"0"},0,0,"0",0,{"$f":"COUNTIFS(C2115,\">=35\",S2115,\"TRUE\",O2115,\"<>\"\"\",H2115,\"Yes\",BI2115,\"0\")","v":0},{"$f":"COUNTIFS(C2115,\">=35\",S2115,\"TRUE\",O2115,\"<>\"\"\",T2115,\"<>\",BI2115,\"0\")","v":0},"0",{"$f":"COUNTIFS(C2115,\">=18\",S2115,\"=TRUE\",AD2115,\"=TRUE\", AM2115,\"<>\"\"\",AV2115,\"<>\",BO2115,\"0\")","v":0},{"$f":"COUNTIFS(C2115,\">=18\",S2115,\"=TRUE\",AD2115,\"=TRUE\", AM2115,\"<>\"\"\",H2115,\"Yes\",BO2115,\"0\")","v":0},{"$f":"IF(SUM(BW2115+BX2115>=1),\"1\",\"0\")","v":"0"},{"$f":"COUNTIFS(C2115,\">=35\",F2115, \"<>Suspected Stroke Symptoms\",G2115,\"NO\",Q2115,\"YES\",O2115,\"<>\"\"\",H2115,\"Yes\")","v":0}]
[null,null,null,null,null,null,null,null,null,null,null,null,null,null,null,null,null,null,null,null,null,null,null,null,null,null,null,null,null,null,null,null,null,null,null,null,null,null,null,null,null,null,null,null,"","","","","","","",null,0,0,0,0,0,0,0,0,0,0,0,0,null,0,"0",0,0,"0",0,0,0,"0",0,0,"0",0]
[null,null,null,null,null,null,null,null,null,null,null,null,null,null,null,null,null,null,null,null,null,null,null,null,null,null,null,null,null,null,null,null,null,null,null,null,null,null,null,null,null,null,null,null,"","","","","","","",null,0,0,0,0,0,0,0,0,0,0,0,0,null,0,"0",0,0,"0",0,0,0,"0",0,0,"0",0]
[null,null,null,null,null,null,null,null,null,null,null,null,null,null,null,null,null,null,null,null,null,null,null,null,null,null,null,null,null,null,null,null,null,null,null,null,null,null,null,null,null,null,null,null,"","","","","","","",null,0,0,0,0,0,0,0,0,0,0,0,0,null,0,"0",0,0,"0",0,0,0,"0",0,0,"0",0]
[null,null,null,null,null,null,null,null,null,null,null,null,null,null,null,null,null,null,null,null,null,null,null,null,null,null,null,null,null,null,null,null,null,null,null,null,null,null,null,null,null,null,null,null,"","","","","","","",null,0,0,0,0,0,0,0,0,0,0,0,0,null,0,"0",0,0,"0",0,0,0,"0",0,0,"0",0]
[null,null,null,null,null,null,null,null,null,null,null,null,null,null,null,null,null,null,null,null,null,null,null,null,null,null,null,null,null,null,null,null,null,null,null,null,null,null,null,null,null,null,null,null,"","","","","","","",null,0,0,0,0,0,0,0,0,0,0,0,0,null,0,"0",0,0,"0",0,0,0,"0",0,0,"0",0]
[null,null,null,null,null,null,null,null,null,null,null,null,null,null,null,null,null,null,null,null,null,null,null,null,null,null,null,null,null,null,null,null,null,null,null,null,null,null,null,null,null,null,null,null,"","","","","","","",null,0,0,0,0,0,0,0,0,0,0,0,0,null,0,"0",0,0,"0",0,0,0,"0",0,0,"0",0]
[null,null,null,null,null,null,null,null,null,null,null,null,null,null,null,null,null,null,null,null,null,null,null,null,null,null,null,null,null,null,null,null,null,null,null,null,null,null,null,null,null,null,null,null,"","","","","","","",null,0,0,0,0,0,0,0,0,0,0,0,0,null,0,"0",0,0,"0",0,0,0,"0",0,0,"0",0]
[null,null,null,null,null,null,null,null,null,null,null,null,null,null,null,null,null,null,null,null,null,null,null,null,null,null,null,null,null,null,null,null,null,null,null,null,null,null,null,null,null,null,null,null,"","","","","","","",null,0,0,0,0,0,0,0,0,0,0,0,0,null,0,"0",0,0,"0",0,0,0,"0",0,0,"0",0]
[null,null,null,null,null,null,null,null,null,null,null,null,null,null,null,null,null,null,null,null,null,null,null,null,null,null,null,null,null,null,null,null,null,null,null,null,null,null,null,null,null,null,null,null,"","","","","","","",null,0,0,0,0,0,0,0,0,0,0,0,0,null,0,"0",0,0,"0",0,0,0,"0",0,0,"0",0]
[null,null,null,null,null,null,null,null,null,null,null,null,null,null,null,null,null,null,null,null,null,null,null,null,null,null,null,null,null,null,null,null,null,null,null,null,null,null,null,null,null,null,null,null,"","","","","","","",null,0,0,0,0,0,0,0,0,0,0,0,0,null,0,"0",0,0,"0",0,0,0,"0",0,0,"0",0]
[null,null,null,null,null,null,null,null,null,null,null,null,null,null,null,null,null,null,null,null,null,null,null,null,null,null,null,null,null,null,null,null,null,null,null,null,null,null,null,null,null,null,null,null,"","","","","","","",null,0,0,0,0,0,0,0,0,0,0,0,0,null,0,"0",0,0,"0",0,0,0,"0",0,0,"0",0]
[null,null,null,null,null,null,null,null,null,null,null,null,null,null,null,null,null,null,null,null,null,null,null,null,null,null,null,null,null,null,null,null,null,null,null,null,null,null,null,null,null,null,null,null,"","","","","","","",null,0,0,0,0,0,0,0,0,0,0,0,0,null,0,"0",0,0,"0",0,0,0,"0",0,0,"0",0]
[null,null,null,null,null,null,null,null,null,null,null,null,null,null,null,null,null,null,null,null,null,null,null,null,null,null,null,null,null,null,null,null,null,null,null,null,null,null,null,null,null,null,null,null,"","","","","","","",null,0,0,0,0,0,0,0,0,0,0,0,0,null,0,"0",0,0,"0",0,0,0,"0",0,0,"0",0]
[null,null,null,null,null,null,null,null,null,null,null,null,null,null,null,null,null,null,null,null,null,null,null,null,null,null,null,null,null,null,null,null,null,null,null,null,null,null,null,null,null,null,null,null,"","","","","","","",null,0,0,0,0,0,0,0,0,0,0,0,0,null,0,"0",0,0,"0",0,0,0,"0",0,0,"0",0]
[null,null,null,null,null,null,null,null,null,null,null,null,null,null,null,null,null,null,null,null,null,null,null,null,null,null,null,null,null,null,null,null,null,null,null,null,null,null,null,null,null,null,null,null,"","","","","","","",null,0,0,0,0,0,0,0,0,0,0,0,0,null,0,"0",0,0,"0",0,0,0,"0",0,0,"0",0]
[null,null,null,null,null,null,null,null,null,null,null,null,null,null,null,null,null,null,null,null,null,null,null,null,null,null,null,null,null,null,null,null,null,null,null,null,null,null,null,null,null,null,null,null,"","","","","","","",null,0,0,0,0,0,0,0,0,0,0,0,0,null,0,"0",0,0,"0",0,0,0,"0",0,0,"0",0]
[null,null,null,null,null,null,null,null,null,null,null,null,null,null,null,null,null,null,null,null,null,null,null,null,null,null,null,null,null,null,null,null,null,null,null,null,null,null,null,null,null,null,null,null,"","","","","","","",null,0,0,0,0,0,0,0,0,0,0,0,0,null,0,"0",0,0,"0",0,0,0,"0",0,0,"0",0]
[null,null,null,null,null,null,null,null,null,null,null,null,null,null,null,null,null,null,null,null,null,null,null,null,null,null,null,null,null,null,null,null,null,null,null,null,null,null,null,null,null,null,null,null,"","","","","","","",null,0,0,0,0,0,0,0,0,0,0,0,0,null,0,"0",0,0,"0",0,0,0,"0",0,0,"0",0]
[null,null,null,null,null,null,null,null,null,null,null,null,null,null,null,null,null,null,null,null,null,null,null,null,null,null,null,null,null,null,null,null,null,null,null,null,null,null,null,null,null,null,null,null,"","","","","","","",null,0,0,0,0,0,0,0,0,0,0,0,0,null,0,"0",0,0,"0",0,0,0,"0",0,0,"0",0]
[null,null,null,null,null,null,null,null,null,null,null,null,null,null,null,null,null,null,null,null,null,null,null,null,null,null,null,null,null,null,null,null,null,null,null,null,null,null,null,null,null,null,null,null,"","","","","","","",null,0,0,0,0,0,0,0,0,0,0,0,0,null,0,"0",0,0,"0",0,0,0,"0",0,0,"0",0]
[null,null,null,null,null,null,null,null,null,null,null,null,null,null,null,null,null,null,null,null,null,null,null,null,null,null,null,null,null,null,null,null,null,null,null,null,null,null,null,null,null,null,null,null,"","","","","","","",null,0,0,0,0,0,0,0,0,0,0,0,0,null,0,"0",0,0,"0",0,0,0,"0",0,0,"0",0]
[null,null,null,null,null,null,null,null,null,null,null,null,null,null,null,null,null,null,null,null,null,null,null,null,null,null,null,null,null,null,null,null,null,null,null,null,null,null,null,null,null,null,null,null,"","","","","","","",null,0,0,0,0,0,0,0,0,0,0,0,0,null,0,"0",0,0,"0",0,0,0,"0",0,0,"0",0]
[null,null,null,null,null,null,null,null,null,null,null,null,null,null,null,null,null,null,null,null,null,null,null,null,null,null,null,null,null,null,null,null,null,null,null,null,null,null,null,null,null,null,null,null,"","","","","","","",null,0,0,0,0,0,0,0,0,0,0,0,0,null,0,"0",0,0,"0",0,0,0,"0",0,0,"0",0]
[null,null,null,null,null,null,null,null,null,null,null,null,null,null,null,null,null,null,null,null,null,null,null,null,null,null,null,null,null,null,null,null,null,null,null,null,null,null,null,null,null,null,null,null,"","","","","","","",null,0,0,0,0,0,0,0,0,0,0,0,0,null,0,"0",0,0,"0",0,0,0,"0",0,0,"0",0]
[null,null,null,null,null,null,null,null,null,null,null,null,null,null,null,null,null,null,null,null,null,null,null,null,null,null,null,null,null,null,null,null,null,null,null,null,null,null,null,null,null,null,null,null,"","","","","","","",null,0,0,0,0,0,0,0,0,0,0,0,0,null,0,"0",0,0,"0",0,0,0,"0",0,0,"0",0]
[null,null,null,null,null,null,null,null,null,null,null,null,null,null,null,null,null,null,null,null,null,null,null,null,null,null,null,null,null,null,null,null,null,null,null,null,null,null,null,null,null,null,null,null,"","","","","","","",null,0,0,0,0,0,0,0,0,0,0,0,0,null,0,"0",0,0,"0",0,0,0,"0",0,0,"0",0]
[null,null,null,null,null,null,null,null,null,null,null,null,null,null,null,null,null,null,null,null,null,null,null,null,null,null,null,null,null,null,null,null,null,null,null,null,null,null,null,null,null,null,null,null,"","","","","","","",null,0,0,0,0,0,0,0,0,0,0,0,0,null,0,"0",0,0,"0",0,0,0,"0",0,0,"0",0]
[null,null,null,null,null,null,null,null,null,null,null,null,null,null,null,null,null,null,null,null,null,null,null,null,null,null,null,null,null,null,null,null,null,null,null,null,null,null,null,null,null,null,null,null,"","","","","","","",null,0,0,0,0,0,0,0,0,0,0,0,0,null,0,"0",0,0,"0",0,0,0,"0",0,0,"0",0]
[null,null,null,null,null,null,null,null,null,null,null,null,null,null,null,null,null,null,null,null,null,null,null,null,null,null,null,null,null,null,null,null,null,null,null,null,null,null,null,null,null,null,null,null,"","","","","","","",null,0,0,0,0,0,0,0,0,0,0,0,0,null,0,"0",0,0,"0",0,0,0,"0",0,0,"0",0]
[null,null,null,null,null,null,null,null,null,null,null,null,null,null,null,null,null,null,null,null,null,null,null,null,null,null,null,null,null,null,null,null,null,null,null,null,null,null,null,null,null,null,null,null,"","","","","","","",null,0,0,0,0,0,0,0,0,0,0,0,0,null,0,"0",0,0,"0",0,0,0,"0",0,0,"0",0]
[null,null,null,null,null,null,null,null,null,null,null,null,null,null,null,null,null,null,null,null,null,null,null,null,null,null,null,null,null,null,null,null,null,null,null,null,null,null,null,null,null,null,null,null,"","","","","","","",null,0,0,0,0,0,0,0,0,0,0,0,0,null,0,"0",0,0,"0",0,0,0,"0",0,0,"0",0]
[null,null,null,null,null,null,null,null,null,null,null,null,null,null,null,null,null,null,null,null,null,null,null,null,null,null,null,null,null,null,null,null,null,null,null,null,null,null,null,null,null,null,null,null,"","","","","","","",null,0,0,0,0,0,0,0,0,0,0,0,0,null,{"$f":"SUM(BD2228:BE2228)","v":0},"0",0,0,"0",0,0,0,"0",0,0,"0",0]
[null,null,null,null,null,null,null,null,null,null,null,null,null,null,null,null,null,null,null,null,null,null,null,null,null,null,null,null,null,null,null,null,null,null,null,null,null,null,null,null,null,null,null,null,"","","","","","","",null,0,0,0,0,0,0,0,0,0,0,0,0,null,0,"0",0,0,"0",0,0,0,"0",0,0,"0",0]
[null,null,null,null,null,null,null,null,null,null,null,null,null,null,null,null,null,null,null,null,null,null,null,null,null,null,null,null,null,null,null,null,null,null,null,null,null,null,null,null,null,null,null,null,"","","","","","","",null,0,0,0,0,0,0,0,0,0,0,0,0,null,0,"0",0,0,"0",0,0,0,"0",0,0,"0",0]
[null,null,null,null,null,null,null,null,null,null,null,null,null,null,null,null,null,null,null,null,null,null,null,null,null,null,null,null,null,null,null,null,null,null,null,null,null,null,null,null,null,null,null,null,{"$f":"IF(K2242=\"\",\"\",L2242-K2242)","v":""},{"$f":"IF(M2242=\"\",\"\",R2242-M2242)","v":""},{"$f":"IF(U2242=\"\",\"\",U2242-R2242)","v":""},{"$f":"IF(AM2242=\"\",\"\",(AL2242+AM2242)-(B2242+M2242))","v":""},{"$f":"IF(N2242=\"\",\"\",O2242-N2242)","v":""},{"$f":"IF(AM2242=\"\",\"\",((AL2242+AM2242)-(B2242+O2242)))","v":""},{"$f":"IF(B2242=\"\",\"\",ROUNDUP(MONTH(B2242)/3,0))","v":""},null,{"$f":"COUNTIFS(C2242, \">= 35\",F2242, \"<>Suspected Stroke Symptoms\",G2242,\"No\",O2242,\"<>\"\"\")","v":0},{"$f":"COUNTIFS(C2242, \">= 35\",F2242, \"<>Suspected Stroke Symptoms\",G2242,\"No\",O2242,\"<>\"\"\",Q2242,\"Yes\")","v":0},{"$f":"COUNTIFS(C2242,\">=18\",S2242,\"=TRUE\",AE2242,\"=TRUE\", AM2242,\"<>\"\"\")","v":0},{"$f":"COUNTIFS(C2242,\">=18\",S2242,\"=TRUE\",AE2242,\"=TRUE\", AM2242,\"<>\"\"\",AV2242,\"<=0:90\",BE2242,\"0\")","v":0},{"$f":"COUNTIFS(C2242,\">=18\",S2242,\"=TRUE\",AE2242,\"=TRUE\", AM2242,\"<>\"\"\",AV2242,\"<=1:20\",AW2242,\">=0:45\",AX2242,\"<=0:30\",BD2242, \"0\")","v":0},0,0,0,0,{"$f":"COUNTIFS(C2242,\">=18\",S2242,\"=TRUE\",AD2242,\"=TRUE\", AM2242,\"<>\"\"\",AV2242,\"<>\"\"\")","v":0},0,0,null,0,"0",{"$f":"COUNTIFS(C2242,\">=18\",S2242,\"=TRUE\",AE2242,\"=TRUE\", AM2242,\"<>\"\"\",AN2242,\"<>\",BN2242,\"0\")","v":0},{"$f":"COUNTIFS(C2242,\">=18\",S2242,\"=TRUE\",AE2242,\"=TRUE\", AM2242,\"<>\"\"\",H2242,\"Yes\",BN2242,\"0\")","v":0},{"$f":"IF(SUM(BP2242+BQ2242>=1),\"1\",\"0\")","v":"0"},{"$f":"COUNTIFS(C2242, \">= 35\",F2242, \"<>Suspected Stroke Symptoms\",G2242,\"No\",O2242,\"<>\"\"\",H2242,\"Yes\",BB2242,\"0\")","v":0},0,0,"0",0,0,"0",0]
[null,null,null,null,null,null,null,null,null,null,null,null,null,null,null,null,null,null,null,null,null,null,null,null,null,null,null,null,null,null,null,null,null,null,null,null,null,null,null,null,null,null,null,null,"","","","","","","",null,0,0,0,0,0,0,0,0,0,0,0,0,null,0,"0",0,0,"0",0,0,0,"0",0,0,"0",0]
[null,null,null,null,null,null,null,null,null,null,null,null,null,null,null,null,null,null,null,null,null,null,null,null,null,null,null,null,null,null,null,null,null,null,null,null,null,null,null,null,null,null,null,null,"","","","","","","",null,0,0,0,0,0,0,0,0,0,0,0,0,null,0,"0",0,0,"0",0,0,0,"0",0,0,"0",0]
[null,null,null,null,null,null,null,null,null,null,null,null,null,null,null,null,null,null,null,null,null,null,null,null,null,null,null,null,null,null,null,null,null,null,null,null,null,null,null,null,null,null,null,null,"","","","","","","",null,0,0,0,0,0,0,0,0,0,0,0,0,null,0,"0",0,0,"0",0,0,0,"0",0,0,"0",0]
[null,null,null,null,null,null,null,null,null,null,null,null,null,null,null,null,null,null,null,null,null,null,null,null,null,null,null,null,null,null,null,null,null,null,null,null,null,null,null,null,null,null,null,null,"","","","","","","",null,0,0,0,0,0,0,0,0,0,0,0,0,null,0,"0",0,0,"0",0,0,0,"0",0,0,"0",0]
[null,null,null,null,null,null,null,null,null,null,null,null,null,null,null,null,null,null,null,null,null,null,null,null,null,null,null,null,null,null,null,null,null,null,null,null,null,null,null,null,null,null,null,null,"","","","","","","",null,0,0,0,0,0,0,0,0,0,0,0,0,null,0,"0",0,0,"0",0,0,0,"0",0,0,"0",0]
[null,null,null,null,null,null,null,null,null,null,null,null,null,null,null,null,null,null,null,null,null,null,null,null,null,null,null,null,null,null,null,null,null,null,null,null,null,null,null,null,null,null,null,null,"","","","","","","",null,0,0,0,0,0,0,0,0,0,0,0,0,null,0,"0",0,0,"0",0,0,0,"0",0,0,"0",0]
[null,null,null,null,null,null,null,null,null,null,null,null,null,null,null,null,null,null,null,null,null,null,null,null,null,null,null,null,null,null,null,null,null,null,null,null,null,null,null,null,null,null,null,null,"","","","","","","",null,0,0,0,0,0,0,0,0,0,0,0,0,null,0,"0",0,0,"0",0,0,0,"0",0,0,"0",0]
[null,null,null,null,null,null,null,null,null,null,null,null,null,null,null,null,null,null,null,null,null,null,null,null,null,null,null,null,null,null,null,null,null,null,null,null,null,null,null,null,null,null,null,null,"","","","","","","",null,0,0,0,0,0,0,0,0,0,0,0,0,null,0,"0",0,0,"0",0,0,0,"0",0,0,"0",0]
[null,null,null,null,null,null,null,null,null,null,null,null,null,null,null,null,null,null,null,null,null,null,null,null,null,null,null,null,null,null,null,null,null,null,null,null,null,null,null,null,null,null,null,null,"","","","","","","",null,0,0,0,0,0,0,0,0,0,0,0,0,null,0,"0",0,0,"0",0,0,0,"0",0,0,"0",0]
[null,null,null,null,null,null,null,null,null,null,null,null,null,null,null,null,null,null,null,null,null,null,null,null,null,null,null,null,null,null,null,null,null,null,null,null,null,null,null,null,null,null,null,null,"","","","","","","",null,0,0,0,0,0,0,0,0,0,0,0,0,null,0,"0",0,0,"0",0,0,0,"0",0,0,"0",0]
[null,null,null,null,null,null,null,null,null,null,null,null,null,null,null,null,null,null,null,null,null,null,null,null,null,null,null,null,null,null,null,null,null,null,null,null,null,null,null,null,null,null,null,null,"","","","","","","",null,0,0,0,0,0,0,0,0,0,0,0,0,null,0,"0",0,0,"0",0,0,0,"0",0,0,"0",0]
[null,null,null,null,null,null,null,null,null,null,null,null,null,null,null,null,null,null,null,null,null,null,null,null,null,null,null,null,null,null,null,null,null,null,null,null,null,null,null,null,null,null,null,null,"","","","","","","",null,0,0,0,0,0,0,0,0,0,0,0,0,null,0,"0",0,0,"0",0,0,0,"0",0,0,"0",0]
[null,null,null,null,null,null,null,null,null,null,null,null,null,null,null,null,null,null,null,null,null,null,null,null,null,null,null,null,null,null,null,null,null,null,null,null,null,null,null,null,null,null,null,null,"","","","","","","",null,0,0,0,0,0,0,0,0,0,0,0,0,null,0,"0",0,0,"0",0,0,0,"0",0,0,"0",0]
[null,null,null,null,null,null,null,null,null,null,null,null,null,null,null,null,null,null,null,null,null,null,null,null,null,null,null,null,null,null,null,null,null,null,null,null,null,null,null,null,null,null,null,null,"","","","","","","",null,0,0,0,0,0,0,0,0,0,0,0,0,null,0,"0",0,0,"0",0,0,0,"0",0,0,"0",0]
[null,null,null,null,null,null,null,null,null,null,null,null,null,null,null,null,null,null,null,null,null,null,null,null,null,null,null,null,null,null,null,null,null,null,null,null,null,null,null,null,null,null,null,null,"","","","","","","",null,0,0,0,0,0,0,0,0,0,0,0,0,null,0,"0",0,0,"0",0,0,0,"0",0,0,"0",0]
[null,null,null,null,null,null,null,null,null,null,null,null,null,null,null,null,null,null,null,null,null,null,null,null,null,null,null,null,null,null,null,null,null,null,null,null,null,null,null,null,null,null,null,null,"","","","","","","",null,0,0,0,0,0,0,0,0,0,0,0,0,null,0,"0",0,0,"0",0,0,0,"0",0,0,"0",0]
[null,null,null,null,null,null,null,null,null,null,null,null,null,null,null,null,null,null,null,null,null,null,null,null,null,null,null,null,null,null,null,null,null,null,null,null,null,null,null,null,null,null,null,null,"","","","","","","",null,0,0,0,0,0,0,0,0,0,0,0,0,null,0,"0",0,0,"0",0,0,0,"0",0,0,"0",0]
[null,null,null,null,null,null,null,null,null,null,null,null,null,null,null,null,null,null,null,null,null,null,null,null,null,null,null,null,null,null,null,null,null,null,null,null,null,null,null,null,null,null,null,null,"","","","","","","",null,0,0,0,0,0,0,0,0,0,0,0,0,null,0,"0",0,0,"0",0,0,0,"0",0,0,"0",0]
[null,null,null,null,null,null,null,null,null,null,null,null,null,null,null,null,null,null,null,null,null,null,null,null,null,null,null,null,null,null,null,null,null,null,null,null,null,null,null,null,null,null,null,null,"","","","","","","",null,0,0,0,0,0,0,0,0,0,0,0,0,null,0,"0",0,0,"0",0,0,0,"0",0,0,"0",0]
[null,null,null,null,null,null,null,null,null,null,null,null,null,null,null,null,null,null,null,null,null,null,null,null,null,null,null,null,null,null,null,null,null,null,null,null,null,null,null,null,null,null,null,null,"","","","","","","",null,0,0,0,0,0,0,0,0,0,0,0,0,null,0,"0",0,0,"0",0,0,0,"0",0,0,"0",0]
[null,null,null,null,null,null,null,null,null,null,null,null,null,null,null,null,null,null,null,null,null,null,null,null,null,null,null,null,null,null,null,null,null,null,null,null,null,null,null,null,null,null,null,null,"","","","","","","",null,0,0,0,0,0,0,0,0,0,0,0,0,null,0,"0",0,0,"0",0,0,0,"0",0,0,"0",0]
[null,null,null,null,null,null,null,null,null,null,null,null,null,null,null,null,null,null,null,null,null,null,null,null,null,null,null,null,null,null,null,null,null,null,null,null,null,null,null,null,null,null,null,null,"","","","","","","",null,0,0,0,0,0,0,0,0,0,0,0,0,null,0,"0",0,0,"0",0,0,0,"0",0,0,"0",0]
[null,null,null,null,null,null,null,null,null,null,null,null,null,null,null,null,null,null,null,null,null,null,null,null,null,null,null,null,null,null,null,null,null,null,null,null,null,null,null,null,null,null,null,null,"","","","","","","",null,0,0,0,0,0,0,0,0,0,0,0,0,null,0,"0",0,0,"0",0,0,0,"0",0,0,"0",0]
[null,null,null,null,null,null,null,null,null,null,null,null,null,null,null,null,null,null,null,null,null,null,null,null,null,null,null,null,null,null,null,null,null,null,null,null,null,null,null,null,null,null,null,null,"","","","","","","",null,0,0,0,0,0,0,0,0,0,0,0,0,null,0,"0",0,0,"0",0,0,0,"0",0,0,"0",0]
[null,null,null,null,null,null,null,null,null,null,null,null,null,null,null,null,null,null,null,null,null,null,null,null,null,null,null,null,null,null,null,null,null,null,null,null,null,null,null,null,null,null,null,null,"","","","","","","",null,0,0,0,0,0,0,0,0,0,0,0,0,null,0,"0",0,0,"0",0,0,0,"0",0,0,"0",0]
[null,null,null,null,null,null,null,null,null,null,null,null,null,null,null,null,null,null,null,null,null,null,null,null,null,null,null,null,null,null,null,null,null,null,null,null,null,null,null,null,null,null,null,null,"","","","","","","",null,0,0,0,0,0,0,0,0,0,0,0,0,null,0,"0",0,0,"0",0,0,0,"0",0,0,"0",0]
[null,null,null,null,null,null,null,null,null,null,null,null,null,null,null,null,null,null,null,null,null,null,null,null,null,null,null,null,null,null,null,null,null,null,null,null,null,null,null,null,null,null,null,null,"","","","","","","",null,0,0,0,0,0,0,0,0,0,0,0,0,null,{"$f":"SUM(BD2292:BE2292)","v":0},"0",0,0,"0",0,0,0,"0",0,0,"0",0]
[null,null,null,null,null,null,null,null,null,null,null,null,null,null,null,null,null,null,null,null,null,null,null,null,null,null,null,null,null,null,null,null,null,null,null,null,null,null,null,null,null,null,null,null,"","","","","","","",null,0,0,0,0,0,0,0,0,0,0,0,0,null,0,"0",0,0,"0",0,0,0,"0",0,0,"0",0]
[null,null,null,null,null,null,null,null,null,null,null,null,null,null,null,null,null,null,null,null,null,null,null,null,null,null,null,null,null,null,null,null,null,null,null,null,null,null,null,null,null,null,null,null,"","","","","","","",null,0,0,0,0,0,0,0,0,0,0,0,0,null,0,"0",0,0,"0",0,0,0,"0",0,0,"0",0]
[null,null,null,null,null,null,null,null,null,null,null,null,null,null,null,null,null,null,null,null,null,null,null,null,null,null,null,null,null,null,null,null,null,null,null,null,null,null,null,null,null,null,null,null,"","","","","","","",null,0,0,0,0,0,0,0,0,0,0,0,0,null,0,"0",0,0,"0",0,0,0,"0",0,0,"0",0]
[null,null,null,null,null,null,null,null,null,null,null,null,null,null,null,null,null,null,null,null,null,null,null,null,null,null,null,null,null,null,null,null,null,null,null,null,null,null,null,null,null,null,null,null,"","","","","","","",null,0,0,0,0,0,0,0,0,0,0,0,0,null,0,"0",0,0,"0",0,0,0,"0",0,0,"0",0]
[null,null,null,null,null,null,null,null,null,null,null,null,null,null,null,null,null,null,null,null,null,null,null,null,null,null,null,null,null,null,null,null,null,null,null,null,null,null,null,null,null,null,null,null,"","","","","","","",null,0,0,0,0,0,0,0,0,0,0,0,0,null,0,"0",0,0,"0",0,0,0,"0",0,0,"0",0]
[null,null,null,null,null,null,null,null,null,null,null,null,null,null,null,null,null,null,null,null,null,null,null,null,null,null,null,null,null,null,null,null,null,null,null,null,null,null,null,null,null,null,null,null,"","","","","","","",null,0,0,0,0,0,0,0,0,0,0,0,0,null,0,"0",0,0,"0",0,0,0,"0",0,0,"0",0]
[null,null,null,null,null,null,null,null,null,null,null,null,null,null,null,null,null,null,null,null,null,null,null,null,null,null,null,null,null,null,null,null,null,null,null,null,null,null,null,null,null,null,null,null,"","","","","","","",null,0,0,0,0,0,0,0,0,0,0,0,0,null,0,"0",0,0,"0",0,0,0,"0",0,0,"0",0]
[null,null,null,null,null,null,null,null,null,null,null,null,null,null,null,null,null,null,null,null,null,null,null,null,null,null,null,null,null,null,null,null,null,null,null,null,null,null,null,null,null,null,null,null,"","","","","","","",null,0,0,0,0,0,0,0,0,0,0,0,0,null,0,"0",0,0,"0",0,0,0,"0",0,0,"0",0]
[null,null,null,null,null,null,null,null,null,null,null,null,null,null,null,null,null,null,null,null,null,null,null,null,null,null,null,null,null,null,null,null,null,null,null,null,null,null,null,null,null,null,null,null,"","","","","","","",null,0,0,0,0,0,0,0,0,0,0,0,0,null,0,"0",0,0,"0",0,0,0,"0",0,0,"0",0]
[null,null,null,null,null,null,null,null,null,null,null,null,null,null,null,null,null,null,null,null,null,null,null,null,null,null,null,null,null,null,null,null,null,null,null,null,null,null,null,null,null,null,null,null,"","","","","","","",null,0,0,0,0,0,0,0,0,0,0,0,0,null,0,"0",0,0,"0",0,0,0,"0",0,0,"0",0]
[null,null,null,null,null,null,null,null,null,null,null,null,null,null,null,null,null,null,null,null,null,null,null,null,null,null,null,null,null,null,null,null,null,null,null,null,null,null,null,null,null,null,null,null,"","","","","","","",null,0,0,0,0,0,0,0,0,0,0,0,0,null,0,"0",0,0,"0",0,0,0,"0",0,0,"0",0]
[null,null,null,null,null,null,null,null,null,null,null,null,null,null,null,null,null,null,null,null,null,null,null,null,null,null,null,null,null,null,null,null,null,null,null,null,null,null,null,null,null,null,null,null,"","","","","","","",null,0,0,0,0,0,0,0,0,0,0,0,0,null,0,"0",0,0,"0",0,0,0,"0",0,0,"0",0]
[null,null,null,null,null,null,null,null,null,null,null,null,null,null,null,null,null,null,null,null,null,null,null,null,null,null,null,null,null,null,null,null,null,null,null,null,null,null,null,null,null,null,null,null,"","","","","","","",null,0,0,0,0,0,0,0,0,0,0,0,0,null,0,"0",0,0,"0",0,0,0,{"$f":"IF(SUM(BT2305+BU2305>=1),\"1\",\"0\")","v":"0"},0,0,"0",0]
[null,null,null,null,null,null,null,null,null,null,null,null,null,null,null,null,null,null,null,null,null,null,null,null,null,null,null,null,null,null,null,null,null,null,null,null,null,null,null,null,null,null,null,null,{"$f":"IF(K2306=\"\",\"\",L2306-K2306)","v":""},{"$f":"IF(M2306=\"\",\"\",R2306-M2306)","v":""},{"$f":"IF(U2306=\"\",\"\",U2306-R2306)","v":""},{"$f":"IF(AM2306=\"\",\"\",(AL2306+AM2306)-(B2306+M2306))","v":""},{"$f":"IF(N2306=\"\",\"\",O2306-N2306)","v":""},{"$f":"IF(AM2306=\"\",\"\",((AL2306+AM2306)-(B2306+O2306)))","v":""},{"$f":"IF(B2306=\"\",\"\",ROUNDUP(MONTH(B2306)/3,0))","v":""},null,{"$f":"COUNTIFS(C2306, \">= 35\",F2306, \"<>Suspected Stroke Symptoms\",G2306,\"No\",O2306,\"<>\"\"\")","v":0},{"$f":"COUNTIFS(C2306, \">= 35\",F2306, \"<>Suspected Stroke Symptoms\",G2306,\"No\",O2306,\"<>\"\"\",Q2306,\"Yes\")","v":0},{"$f":"COUNTIFS(C2306,\">=18\",S2306,\"=TRUE\",AE2306,\"=TRUE\", AM2306,\"<>\"\"\")","v":0},{"$f":"COUNTIFS(C2306,\">=18\",S2306,\"=TRUE\",AE2306,\"=TRUE\", AM2306,\"<>\"\"\",AV2306,\"<=0:90\",BE2306,\"0\")","v":0},{"$f":"COUNTIFS(C2306,\">=18\",S2306,\"=TRUE\",AE2306,\"=TRUE\", AM2306,\"<>\"\"\",AV2306,\"<=1:20\",AW2306,\">=0:45\",AX2306,\"<=0:30\",BD2306, \"0\")","v":0},0,0,0,0,{"$f":"COUNTIFS(C2306,\">=18\",S2306,\"=TRUE\",AD2306,\"=TRUE\", AM2306,\"<>\"\"\",AV2306,\"<>\"\"\")","v":0},0,0,null,0,"0",{"$f":"COUNTIFS(C2306,\">=18\",S2306,\"=TRUE\",AE2306,\"=TRUE\", AM2306,\"<>\"\"\",AN2306,\"<>\",BN2306,\"0\")","v":0},{"$f":"COUNTIFS(C2306,\">=18\",S2306,\"=TRUE\",AE2306,\"=TRUE\", AM2306,\"<>\"\"\",H2306,\"Yes\",BN2306,\"0\")","v":0},{"$f":"IF(SUM(BP2306+BQ2306>=1),\"1\",\"0\")","v":"0"},{"$f":"COUNTIFS(C2306, \">= 35\",F2306, \"<>Suspected Stroke Symptoms\",G2306,\"No\",O2306,\"<>\"\"\",H2306,\"Yes\",BB2306,\"0\")","v":0},0,0,"0",0,0,"0",0]
[null,null,null,null,null,null,null,null,null,null,null,null,null,null,null,null,null,null,null,null,null,null,null,null,null,null,null,null,null,null,null,null,null,null,null,null,null,null,null,null,null,null,null,null,"","","","","","","",null,0,0,0,0,0,{"$f":"COUNTIFS(C2307,\">=35\",F2307, \"<>Suspected Stroke Symptoms\",G2307,\"NO\",Q2307,\"YES\",O2307,\"<>\"\"\")","v":0},{"$f":"COUNTIFS(C2307,\">=35\",F2307, \"<>Suspected Stroke Symptoms\",G2307,\"NO\",Q2307,\"YES\",O2307,\"<>\"\"\",AT2307,\"<=0:10\")","v":0},{"$f":"COUNTIFS(C2307,\">=35\",S2307,\"TRUE\",O2307,\"<>\"\"\")","v":0},{"$f":"COUNTIFS(C2307,\">=35\",S2307,\"TRUE\",O2307,\"<>\"\"\",AU2307,\"<=0:10\")","v":0},0,{"$f":"COUNTIFS(C2307,\">=18\",S2307,\"=TRUE\",AD2307,\"=TRUE\", AM2307,\"<>\"\"\",AX2307,\"<=0:30\")","v":0},{"$f":"COUNTIFS(C2307,\">=18\",S2307,\"=TRUE\",AD2307,\"=TRUE\", AM2307,\"<>\"\"\", AK2307, \"TRUE\",AV2307,\"<=1:20\")","v":0},null,0,{"$f":"IF(SUM(BK2307+BL2307>=1),\"1\",\"0\")","v":"0"},0,0,"0",0,{"$f":"COUNTIFS(C2307,\">=35\",S2307,\"TRUE\",O2307,\"<>\"\"\",H2307,\"Yes\",BI2307,\"0\")","v":0},{"$f":"COUNTIFS(C2307,\">=35\",S2307,\"TRUE\",O2307,\"<>\"\"\",T2307,\"<>\",BI2307,\"0\")","v":0},"0",{"$f":"COUNTIFS(C2307,\">=18\",S2307,\"=TRUE\",AD2307,\"=TRUE\", AM2307,\"<>\"\"\",AV2307,\"<>\",BO2307,\"0\")","v":0},{"$f":"COUNTIFS(C2307,\">=18\",S2307,\"=TRUE\",AD2307,\"=TRUE\", AM2307,\"<>\"\"\",H2307,\"Yes\",BO2307,\"0\")","v":0},{"$f":"IF(SUM(BW2307+BX2307>=1),\"1\",\"0\")","v":"0"},{"$f":"COUNTIFS(C2307,\">=35\",F2307, \"<>Suspected Stroke Symptoms\",G2307,\"NO\",Q2307,\"YES\",O2307,\"<>\"\"\",H2307,\"Yes\")","v":0}]
[null,null,null,null,null,null,null,null,null,null,null,null,null,null,null,null,null,null,null,null,null,null,null,null,null,null,null,null,null,null,null,null,null,null,null,null,null,null,null,null,null,null,null,null,"","","","","","","",null,0,0,0,0,0,0,0,0,0,0,0,0,null,0,"0",0,0,"0",0,0,0,"0",0,0,"0",0]
[null,null,null,null,null,null,null,null,null,null,null,null,null,null,null,null,null,null,null,null,null,null,null,null,null,null,null,null,null,null,null,null,null,null,null,null,null,null,null,null,null,null,null,null,"","","","","","","",null,0,0,0,0,0,0,0,0,0,0,0,0,null,0,"0",0,0,"0",0,0,0,"0",0,0,"0",0]
[null,null,null,null,null,null,null,null,null,null,null,null,null,null,null,null,null,null,null,null,null,null,null,null,null,null,null,null,null,null,null,null,null,null,null,null,null,null,null,null,null,null,null,null,"","","","","","","",null,0,0,0,0,0,0,0,0,0,0,0,0,null,0,"0",0,0,"0",0,0,0,"0",0,0,"0",0]
[null,null,null,null,null,null,null,null,null,null,null,null,null,null,null,null,null,null,null,null,null,null,null,null,null,null,null,null,null,null,null,null,null,null,null,null,null,null,null,null,null,null,null,null,"","","","","","","",null,0,0,0,0,0,0,0,0,0,0,0,0,null,0,"0",0,0,"0",0,0,0,"0",0,0,"0",0]
[null,null,null,null,null,null,null,null,null,null,null,null,null,null,null,null,null,null,null,null,null,null,null,null,null,null,null,null,null,null,null,null,null,null,null,null,null,null,null,null,null,null,null,null,"","","","","","","",null,0,0,0,0,0,0,0,0,0,0,0,0,null,0,"0",0,0,"0",0,0,0,"0",0,0,"0",0]
[null,null,null,null,null,null,null,null,null,null,null,null,null,null,null,null,null,null,null,null,null,null,null,null,null,null,null,null,null,null,null,null,null,null,null,null,null,null,null,null,null,null,null,null,"","","","","","","",null,0,0,0,0,0,0,0,0,0,0,0,0,null,0,"0",0,0,"0",0,0,0,"0",0,0,"0",0]
[null,null,null,null,null,null,null,null,null,null,null,null,null,null,null,null,null,null,null,null,null,null,null,null,null,null,null,null,null,null,null,null,null,null,null,null,null,null,null,null,null,null,null,null,"","","","","","","",null,0,0,0,0,0,0,0,0,0,0,0,0,null,0,"0",0,0,"0",0,0,0,"0",0,0,"0",0]
[null,null,null,null,null,null,null,null,null,null,null,null,null,null,null,null,null,null,null,null,null,null,null,null,null,null,null,null,null,null,null,null,null,null,null,null,null,null,null,null,null,null,null,null,"","","","","","","",null,0,0,0,0,0,0,0,0,0,0,0,0,null,0,"0",0,0,"0",0,0,0,"0",0,0,"0",0]
[null,null,null,null,null,null,null,null,null,null,null,null,null,null,null,null,null,null,null,null,null,null,null,null,null,null,null,null,null,null,null,null,null,null,null,null,null,null,null,null,null,null,null,null,"","","","","","","",null,0,0,0,0,0,0,0,0,0,0,0,0,null,0,"0",0,0,"0",0,0,0,"0",0,0,"0",0]
[null,null,null,null,null,null,null,null,null,null,null,null,null,null,null,null,null,null,null,null,null,null,null,null,null,null,null,null,null,null,null,null,null,null,null,null,null,null,null,null,null,null,null,null,"","","","","","","",null,0,0,0,0,0,0,0,0,0,0,0,0,null,0,"0",0,0,"0",0,0,0,"0",0,0,"0",0]
[null,null,null,null,null,null,null,null,null,null,null,null,null,null,null,null,null,null,null,null,null,null,null,null,null,null,null,null,null,null,null,null,null,null,null,null,null,null,null,null,null,null,null,null,"","","","","","","",null,0,0,0,0,0,0,0,0,0,0,0,0,null,0,"0",0,0,"0",0,0,0,"0",0,0,"0",0]
[null,null,null,null,null,null,null,null,null,null,null,null,null,null,null,null,null,null,null,null,null,null,null,null,null,null,null,null,null,null,null,null,null,null,null,null,null,null,null,null,null,null,null,null,"","","","","","","",null,0,0,0,0,0,0,0,0,0,0,0,0,null,0,"0",0,0,"0",0,0,0,"0",0,0,"0",0]
[null,null,null,null,null,null,null,null,null,null,null,null,null,null,null,null,null,null,null,null,null,null,null,null,null,null,null,null,null,null,null,null,null,null,null,null,null,null,null,null,null,null,null,null,"","","","","","","",null,0,0,0,0,0,0,0,0,0,0,0,0,null,0,"0",0,0,"0",0,0,0,"0",0,0,"0",0]
[null,null,null,null,null,null,null,null,null,null,null,null,null,null,null,null,null,null,null,null,null,null,null,null,null,null,null,null,null,null,null,null,null,null,null,null,null,null,null,null,null,null,null,null,"","","","","","","",null,0,0,0,0,0,0,0,0,0,0,0,0,null,0,"0",0,0,"0",0,0,0,"0",0,0,"0",0]
[null,null,null,null,null,null,null,null,null,null,null,null,null,null,null,null,null,null,null,null,null,null,null,null,null,null,null,null,null,null,null,null,null,null,null,null,null,null,null,null,null,null,null,null,"","","","","","","",null,0,0,0,0,0,0,0,0,0,0,0,0,null,0,"0",0,0,"0",0,0,0,"0",0,0,"0",0]
[null,null,null,null,null,null,null,null,null,null,null,null,null,null,null,null,null,null,null,null,null,null,null,null,null,null,null,null,null,null,null,null,null,null,null,null,null,null,null,null,null,null,null,null,"","","","","","","",null,0,0,0,0,0,0,0,0,0,0,0,0,null,0,"0",0,0,"0",0,0,0,"0",0,0,"0",0]
[null,null,null,null,null,null,null,null,null,null,null,null,null,null,null,null,null,null,null,null,null,null,null,null,null,null,null,null,null,null,null,null,null,null,null,null,null,null,null,null,null,null,null,null,"","","","","","","",null,0,0,0,0,0,0,0,0,0,0,0,0,null,0,"0",0,0,"0",0,0,0,"0",0,0,"0",0]
[null,null,null,null,null,null,null,null,null,null,null,null,null,null,null,null,null,null,null,null,null,null,null,null,null,null,null,null,null,null,null,null,null,null,null,null,null,null,null,null,null,null,null,null,"","","","","","","",null,0,0,0,0,0,0,0,0,0,0,0,0,null,0,"0",0,0,"0",0,0,0,"0",0,0,"0",0]
[null,null,null,null,null,null,null,null,null,null,null,null,null,null,null,null,null,null,null,null,null,null,null,null,null,null,null,null,null,null,null,null,null,null,null,null,null,null,null,null,null,null,null,null,"","","","","","","",null,0,0,0,0,0,0,0,0,0,0,0,0,null,0,"0",0,0,"0",0,0,0,"0",0,0,"0",0]
[null,null,null,null,null,null,null,null,null,null,null,null,null,null,null,null,null,null,null,null,null,null,null,null,null,null,null,null,null,null,null,null,null,null,null,null,null,null,null,null,null,null,null,null,"","","","","","","",null,0,0,0,0,0,0,0,0,0,0,0,0,null,0,"0",0,0,"0",0,0,0,"0",0,0,"0",0]
[null,null,null,null,null,null,null,null,null,null,null,null,null,null,null,null,null,null,null,null,null,null,null,null,null,null,null,null,null,null,null,null,null,null,null,null,null,null,null,null,null,null,null,null,"","","","","","","",null,0,0,0,0,0,0,0,0,0,0,0,0,null,0,"0",0,0,"0",0,0,0,"0",0,0,"0",0]
[null,null,null,null,null,null,null,null,null,null,null,null,null,null,null,null,null,null,null,null,null,null,null,null,null,null,null,null,null,null,null,null,null,null,null,null,null,null,null,null,null,null,null,null,"","","","","","","",null,0,0,0,0,0,0,0,0,0,0,0,0,null,0,"0",0,0,"0",0,0,0,"0",0,0,"0",0]
[null,null,null,null,null,null,null,null,null,null,null,null,null,null,null,null,null,null,null,null,null,null,null,null,null,null,null,null,null,null,null,null,null,null,null,null,null,null,null,null,null,null,null,null,"","","","","","","",null,0,0,0,0,0,0,0,0,0,0,0,0,null,0,"0",0,0,"0",0,0,0,"0",0,0,"0",0]
[null,null,null,null,null,null,null,null,null,null,null,null,null,null,null,null,null,null,null,null,null,null,null,null,null,null,null,null,null,null,null,null,null,null,null,null,null,null,null,null,null,null,null,null,"","","","","","","",null,0,0,0,0,0,0,0,0,0,0,0,0,null,0,"0",0,0,"0",0,0,0,"0",0,0,"0",0]
[null,null,null,null,null,null,null,null,null,null,null,null,null,null,null,null,null,null,null,null,null,null,null,null,null,null,null,null,null,null,null,null,null,null,null,null,null,null,null,null,null,null,null,null,"","","","","","","",null,0,0,0,0,0,0,0,0,0,0,0,0,null,0,"0",0,0,"0",0,0,0,"0",0,0,"0",0]
[null,null,null,null,null,null,null,null,null,null,null,null,null,null,null,null,null,null,null,null,null,null,null,null,null,null,null,null,null,null,null,null,null,null,null,null,null,null,null,null,null,null,null,null,"","","","","","","",null,0,0,0,0,0,0,0,0,0,0,0,0,null,0,"0",0,0,"0",0,0,0,"0",0,0,"0",0]
[null,null,null,null,null,null,null,null,null,null,null,null,null,null,null,null,null,null,null,null,null,null,null,null,null,null,null,null,null,null,null,null,null,null,null,null,null,null,null,null,null,null,null,null,"","","","","","","",null,0,0,0,0,0,0,0,0,0,0,0,0,null,0,"0",0,0,"0",0,0,0,"0",0,0,"0",0]
[null,null,null,null,null,null,null,null,null,null,null,null,null,null,null,null,null,null,null,null,null,null,null,null,null,null,null,null,null,null,null,null,null,null,null,null,null,null,null,null,null,null,null,null,"","","","","","","",null,0,0,0,0,0,0,0,0,0,0,0,0,null,0,"0",0,0,"0",0,0,0,"0",0,0,"0",0]
[null,null,null,null,null,null,null,null,null,null,null,null,null,null,null,null,null,null,null,null,null,null,null,null,null,null,null,null,null,null,null,null,null,null,null,null,null,null,null,null,null,null,null,null,"","","","","","","",null,0,0,0,0,0,0,0,0,0,0,0,0,null,0,"0",0,0,"0",0,0,0,"0",0,0,"0",0]
[null,null,null,null,null,null,null,null,null,null,null,null,null,null,null,null,null,null,null,null,null,null,null,null,null,null,null,null,null,null,null,null,null,null,null,null,null,null,null,null,null,null,null,null,"","","","","","","",null,0,0,0,0,0,0,0,0,0,0,0,0,null,0,"0",0,0,"0",0,0,0,"0",0,0,"0",0]
[null,null,null,null,null,null,null,null,null,null,null,null,null,null,null,null,null,null,null,null,null,null,null,null,null,null,null,null,null,null,null,null,null,null,null,null,null,null,null,null,null,null,null,null,"","","","","","","",null,0,0,0,0,0,0,0,0,0,0,0,0,null,0,"0",0,0,"0",0,0,0,"0",0,0,"0",0]
[null,null,null,null,null,null,null,null,null,null,null,null,null,null,null,null,null,null,null,null,null,null,null,null,null,null,null,null,null,null,null,null,null,null,null,null,null,null,null,null,null,null,null,null,"","","","","","","",null,0,0,0,0,0,0,0,0,0,0,0,0,null,0,"0",0,0,"0",0,0,0,"0",0,0,"0",0]
[null,null,null,null,null,null,null,null,null,null,null,null,null,null,null,null,null,null,null,null,null,null,null,null,null,null,null,null,null,null,null,null,null,null,null,null,null,null,null,null,null,null,null,null,"","","","","","","",null,0,0,0,0,0,0,0,0,0,0,0,0,null,0,"0",0,0,"0",0,0,0,"0",0,0,"0",0]
[null,null,null,null,null,null,null,null,null,null,null,null,null,null,null,null,null,null,null,null,null,null,null,null,null,null,null,null,null,null,null,null,null,null,null,null,null,null,null,null,null,null,null,null,"","","","","","","",null,0,0,0,0,0,0,0,0,0,0,0,0,null,0,"0",0,0,"0",0,0,0,"0",0,0,"0",0]
[null,null,null,null,null,null,null,null,null,null,null,null,null,null,null,null,null,null,null,null,null,null,null,null,null,null,null,null,null,null,null,null,null,null,null,null,null,null,null,null,null,null,null,null,"","","","","","","",null,0,0,0,0,0,0,0,0,0,0,0,0,null,0,"0",0,0,"0",0,0,0,"0",0,0,"0",0]
[null,null,null,null,null,null,null,null,null,null,null,null,null,null,null,null,null,null,null,null,null,null,null,null,null,null,null,null,null,null,null,null,null,null,null,null,null,null,null,null,null,null,null,null,"","","","","","","",null,0,0,0,0,0,0,0,0,0,0,0,0,null,0,"0",0,0,"0",0,0,0,"0",0,0,"0",0]
[null,null,null,null,null,null,null,null,null,null,null,null,null,null,null,null,null,null,null,null,null,null,null,null,null,null,null,null,null,null,null,null,null,null,null,null,null,null,null,null,null,null,null,null,"","","","","","","",null,0,0,0,0,0,0,0,0,0,0,0,0,null,0,"0",0,0,"0",0,0,0,"0",0,0,"0",0]
[null,null,null,null,null,null,null,null,null,null,null,null,null,null,null,null,null,null,null,null,null,null,null,null,null,null,null,null,null,null,null,null,null,null,null,null,null,null,null,null,null,null,null,null,"","","","","","","",null,0,0,0,0,0,0,0,0,0,0,0,0,null,0,"0",0,0,"0",0,0,0,"0",0,0,"0",0]
[null,null,null,null,null,null,null,null,null,null,null,null,null,null,null,null,null,null,null,null,null,null,null,null,null,null,null,null,null,null,null,null,null,null,null,null,null,null,null,null,null,null,null,null,"","","","","","","",null,0,0,0,0,0,0,0,0,0,0,0,0,null,0,"0",0,0,"0",0,0,0,"0",0,0,"0",0]
[null,null,null,null,null,null,null,null,null,null,null,null,null,null,null,null,null,null,null,null,null,null,null,null,null,null,null,null,null,null,null,null,null,null,null,null,null,null,null,null,null,null,null,null,"","","","","","","",null,0,0,0,0,0,0,0,0,0,0,0,0,null,0,"0",0,0,"0",0,0,0,"0",0,0,"0",0]
[null,null,null,null,null,null,null,null,null,null,null,null,null,null,null,null,null,null,null,null,null,null,null,null,null,null,null,null,null,null,null,null,null,null,null,null,null,null,null,null,null,null,null,null,"","","","","","","",null,0,0,0,0,0,0,0,0,0,0,0,0,null,0,"0",0,0,"0",0,0,0,"0",0,0,"0",0]
[null,null,null,null,null,null,null,null,null,null,null,null,null,null,null,null,null,null,null,null,null,null,null,null,null,null,null,null,null,null,null,null,null,null,null,null,null,null,null,null,null,null,null,null,"","","","","","","",null,0,0,0,0,0,0,0,0,0,0,0,0,null,0,"0",0,0,"0",0,0,0,"0",0,0,"0",0]
[null,null,null,null,null,null,null,null,null,null,null,null,null,null,null,null,null,null,null,null,null,null,null,null,null,null,null,null,null,null,null,null,null,null,null,null,null,null,null,null,null,null,null,null,"","","","","","","",null,0,0,0,0,0,0,0,0,0,0,0,0,null,0,"0",0,0,"0",0,0,0,"0",0,0,"0",0]
[null,null,null,null,null,null,null,null,null,null,null,null,null,null,null,null,null,null,null,null,null,null,null,null,null,null,null,null,null,null,null,null,null,null,null,null,null,null,null,null,null,null,null,null,"","","","","","","",null,0,0,0,0,0,0,0,0,0,0,0,0,null,0,"0",0,0,"0",0,0,0,"0",0,0,"0",0]
[null,null,null,null,null,null,null,null,null,null,null,null,null,null,null,null,null,null,null,null,null,null,null,null,null,null,null,null,null,null,null,null,null,null,null,null,null,null,null,null,null,null,null,null,"","","","","","","",null,0,0,0,0,0,0,0,0,0,0,0,0,null,0,"0",0,0,"0",0,0,0,"0",0,0,"0",0]
[null,null,null,null,null,null,null,null,null,null,null,null,null,null,null,null,null,null,null,null,null,null,null,null,null,null,null,null,null,null,null,null,null,null,null,null,null,null,null,null,null,null,null,null,"","","","","","","",null,0,0,0,0,0,0,0,0,0,0,0,0,null,0,"0",0,0,"0",0,0,0,"0",0,0,"0",0]
[null,null,null,null,null,null,null,null,null,null,null,null,null,null,null,null,null,null,null,null,null,null,null,null,null,null,null,null,null,null,null,null,null,null,null,null,null,null,null,null,null,null,null,null,"","","","","","","",null,0,0,0,0,0,0,0,0,0,0,0,0,null,0,"0",0,0,"0",0,0,0,"0",0,0,"0",0]
[null,null,null,null,null,null,null,null,null,null,null,null,null,null,null,null,null,null,null,null,null,null,null,null,null,null,null,null,null,null,null,null,null,null,null,null,null,null,null,null,null,null,null,null,"","","","","","","",null,0,0,0,0,0,0,0,0,0,0,0,0,null,0,"0",0,0,"0",0,0,0,"0",0,0,"0",0]
[null,null,null,null,null,null,null,null,null,null,null,null,null,null,null,null,null,null,null,null,null,null,null,null,null,null,null,null,null,null,null,null,null,null,null,null,null,null,null,null,null,null,null,null,"","","","","","","",null,0,0,0,0,0,0,0,0,0,0,0,0,null,{"$f":"SUM(BD2356:BE2356)","v":0},"0",0,0,"0",0,0,0,"0",0,0,"0",0]
[null,null,null,null,null,null,null,null,null,null,null,null,null,null,null,null,null,null,null,null,null,null,null,null,null,null,null,null,null,null,null,null,null,null,null,null,null,null,null,null,null,null,null,null,"","","","","","","",null,0,0,0,0,0,0,0,0,0,0,0,0,null,0,"0",0,0,"0",0,0,0,"0",0,0,"0",0]
[null,null,null,null,null,null,null,null,null,null,null,null,null,null,null,null,null,null,null,null,null,null,null,null,null,null,null,null,null,null,null,null,null,null,null,null,null,null,null,null,null,null,null,null,"","","","","","","",null,0,0,0,0,0,0,0,0,0,0,0,0,null,0,"0",0,0,"0",0,0,0,"0",0,0,"0",0]
[null,null,null,null,null,null,null,null,null,null,null,null,null,null,null,null,null,null,null,null,null,null,null,null,null,null,null,null,null,null,null,null,null,null,null,null,null,null,null,null,null,null,null,null,"","","","","","","",null,0,0,0,0,0,0,0,0,0,0,0,0,null,0,"0",0,0,"0",0,0,0,"0",0,0,"0",0]
[null,null,null,null,null,null,null,null,null,null,null,null,null,null,null,null,null,null,null,null,null,null,null,null,null,null,null,null,null,null,null,null,null,null,null,null,null,null,null,null,null,null,null,null,"","","","","","","",null,0,0,0,0,0,0,0,0,0,0,0,0,null,0,"0",0,0,"0",0,0,0,"0",0,0,"0",0]
[null,null,null,null,null,null,null,null,null,null,null,null,null,null,null,null,null,null,null,null,null,null,null,null,null,null,null,null,null,null,null,null,null,null,null,null,null,null,null,null,null,null,null,null,"","","","","","","",null,0,0,0,0,0,0,0,0,0,0,0,0,null,0,"0",0,0,"0",0,0,0,"0",0,0,"0",0]
[null,null,null,null,null,null,null,null,null,null,null,null,null,null,null,null,null,null,null,null,null,null,null,null,null,null,null,null,null,null,null,null,null,null,null,null,null,null,null,null,null,null,null,null,"","","","","","","",null,0,0,0,0,0,0,0,0,0,0,0,0,null,0,"0",0,0,"0",0,0,0,"0",0,0,"0",0]
[null,null,null,null,null,null,null,null,null,null,null,null,null,null,null,null,null,null,null,null,null,null,null,null,null,null,null,null,null,null,null,null,null,null,null,null,null,null,null,null,null,null,null,null,"","","","","","","",null,0,0,0,0,0,0,0,0,0,0,0,0,null,0,"0",0,0,"0",0,0,0,"0",0,0,"0",0]
[null,null,null,null,null,null,null,null,null,null,null,null,null,null,null,null,null,null,null,null,null,null,null,null,null,null,null,null,null,null,null,null,null,null,null,null,null,null,null,null,null,null,null,null,"","","","","","","",null,0,0,0,0,0,0,0,0,0,0,0,0,null,0,"0",0,0,"0",0,0,0,"0",0,0,"0",0]
[null,null,null,null,null,null,null,null,null,null,null,null,null,null,null,null,null,null,null,null,null,null,null,null,null,null,null,null,null,null,null,null,null,null,null,null,null,null,null,null,null,null,null,null,"","","","","","","",null,0,0,0,0,0,0,0,0,0,0,0,0,null,0,"0",0,0,"0",0,0,0,"0",0,0,"0",0]
[null,null,null,null,null,null,null,null,null,null,null,null,null,null,null,null,null,null,null,null,null,null,null,null,null,null,null,null,null,null,null,null,null,null,null,null,null,null,null,null,null,null,null,null,"","","","","","","",null,0,0,0,0,0,0,0,0,0,0,0,0,null,0,"0",0,0,"0",0,0,0,"0",0,0,"0",0]
[null,null,null,null,null,null,null,null,null,null,null,null,null,null,null,null,null,null,null,null,null,null,null,null,null,null,null,null,null,null,null,null,null,null,null,null,null,null,null,null,null,null,null,null,"","","","","","","",null,0,0,0,0,0,0,0,0,0,0,0,0,null,0,"0",0,0,"0",0,0,0,"0",0,0,"0",0]
[null,null,null,null,null,null,null,null,null,null,null,null,null,null,null,null,null,null,null,null,null,null,null,null,null,null,null,null,null,null,null,null,null,null,null,null,null,null,null,null,null,null,null,null,"","","","","","","",null,0,0,0,0,0,0,0,0,0,0,0,0,null,0,"0",0,0,"0",0,0,0,"0",0,0,"0",0]
[null,null,null,null,null,null,null,null,null,null,null,null,null,null,null,null,null,null,null,null,null,null,null,null,null,null,null,null,null,null,null,null,null,null,null,null,null,null,null,null,null,null,null,null,"","","","","","","",null,0,0,0,0,0,0,0,0,0,0,0,0,null,0,"0",0,0,"0",0,0,0,{"$f":"IF(SUM(BT2369+BU2369>=1),\"1\",\"0\")","v":"0"},0,0,"0",0]
[null,null,null,null,null,null,null,null,null,null,null,null,null,null,null,null,null,null,null,null,null,null,null,null,null,null,null,null,null,null,null,null,null,null,null,null,null,null,null,null,null,null,null,null,{"$f":"IF(K2370=\"\",\"\",L2370-K2370)","v":""},{"$f":"IF(M2370=\"\",\"\",R2370-M2370)","v":""},{"$f":"IF(U2370=\"\",\"\",U2370-R2370)","v":""},{"$f":"IF(AM2370=\"\",\"\",(AL2370+AM2370)-(B2370+M2370))","v":""},{"$f":"IF(N2370=\"\",\"\",O2370-N2370)","v":""},{"$f":"IF(AM2370=\"\",\"\",((AL2370+AM2370)-(B2370+O2370)))","v":""},{"$f":"IF(B2370=\"\",\"\",ROUNDUP(MONTH(B2370)/3,0))","v":""},null,{"$f":"COUNTIFS(C2370, \">= 35\",F2370, \"<>Suspected Stroke Symptoms\",G2370,\"No\",O2370,\"<>\"\"\")","v":0},{"$f":"COUNTIFS(C2370, \">= 35\",F2370, \"<>Suspected Stroke Symptoms\",G2370,\"No\",O2370,\"<>\"\"\",Q2370,\"Yes\")","v":0},{"$f":"COUNTIFS(C2370,\">=18\",S2370,\"=TRUE\",AE2370,\"=TRUE\", AM2370,\"<>\"\"\")","v":0},{"$f":"COUNTIFS(C2370,\">=18\",S2370,\"=TRUE\",AE2370,\"=TRUE\", AM2370,\"<>\"\"\",AV2370,\"<=0:90\",BE2370,\"0\")","v":0},{"$f":"COUNTIFS(C2370,\">=18\",S2370,\"=TRUE\",AE2370,\"=TRUE\", AM2370,\"<>\"\"\",AV2370,\"<=1:20\",AW2370,\">=0:45\",AX2370,\"<=0:30\",BD2370, \"0\")","v":0},0,0,0,0,{"$f":"COUNTIFS(C2370,\">=18\",S2370,\"=TRUE\",AD2370,\"=TRUE\", AM2370,\"<>\"\"\",AV2370,\"<>\"\"\")","v":0},0,0,null,0,"0",{"$f":"COUNTIFS(C2370,\">=18\",S2370,\"=TRUE\",AE2370,\"=TRUE\", AM2370,\"<>\"\"\",AN2370,\"<>\",BN2370,\"0\")","v":0},{"$f":"COUNTIFS(C2370,\">=18\",S2370,\"=TRUE\",AE2370,\"=TRUE\", AM2370,\"<>\"\"\",H2370,\"Yes\",BN2370,\"0\")","v":0},{"$f":"IF(SUM(BP2370+BQ2370>=1),\"1\",\"0\")","v":"0"},{"$f":"COUNTIFS(C2370, \">= 35\",F2370, \"<>Suspected Stroke Symptoms\",G2370,\"No\",O2370,\"<>\"\"\",H2370,\"Yes\",BB2370,\"0\")","v":0},0,0,"0",0,0,"0",0]
[null,null,null,null,null,null,null,null,null,null,null,null,null,null,null,null,null,null,null,null,null,null,null,null,null,null,null,null,null,null,null,null,null,null,null,null,null,null,null,null,null,null,null,null,"","","","","","","",null,0,0,0,0,0,{"$f":"COUNTIFS(C2371,\">=35\",F2371, \"<>Suspected Stroke Symptoms\",G2371,\"NO\",Q2371,\"YES\",O2371,\"<>\"\"\")","v":0},{"$f":"COUNTIFS(C2371,\">=35\",F2371, \"<>Suspected Stroke Symptoms\",G2371,\"NO\",Q2371,\"YES\",O2371,\"<>\"\"\",AT2371,\"<=0:10\")","v":0},{"$f":"COUNTIFS(C2371,\">=35\",S2371,\"TRUE\",O2371,\"<>\"\"\")","v":0},{"$f":"COUNTIFS(C2371,\">=35\",S2371,\"TRUE\",O2371,\"<>\"\"\",AU2371,\"<=0:10\")","v":0},0,{"$f":"COUNTIFS(C2371,\">=18\",S2371,\"=TRUE\",AD2371,\"=TRUE\", AM2371,\"<>\"\"\",AX2371,\"<=0:30\")","v":0},{"$f":"COUNTIFS(C2371,\">=18\",S2371,\"=TRUE\",AD2371,\"=TRUE\", AM2371,\"<>\"\"\", AK2371, \"TRUE\",AV2371,\"<=1:20\")","v":0},null,0,{"$f":"IF(SUM(BK2371+BL2371>=1),\"1\",\"0\")","v":"0"},0,0,"0",0,{"$f":"COUNTIFS(C2371,\">=35\",S2371,\"TRUE\",O2371,\"<>\"\"\",H2371,\"Yes\",BI2371,\"0\")","v":0},{"$f":"COUNTIFS(C2371,\">=35\",S2371,\"TRUE\",O2371,\"<>\"\"\",T2371,\"<>\",BI2371,\"0\")","v":0},"0",{"$f":"COUNTIFS(C2371,\">=18\",S2371,\"=TRUE\",AD2371,\"=TRUE\", AM2371,\"<>\"\"\",AV2371,\"<>\",BO2371,\"0\")","v":0},{"$f":"COUNTIFS(C2371,\">=18\",S2371,\"=TRUE\",AD2371,\"=TRUE\", AM2371,\"<>\"\"\",H2371,\"Yes\",BO2371,\"0\")","v":0},{"$f":"IF(SUM(BW2371+BX2371>=1),\"1\",\"0\")","v":"0"},{"$f":"COUNTIFS(C2371,\">=35\",F2371, \"<>Suspected Stroke Symptoms\",G2371,\"NO\",Q2371,\"YES\",O2371,\"<>\"\"\",H2371,\"Yes\")","v":0}]
[null,null,null,null,null,null,null,null,null,null,null,null,null,null,null,null,null,null,null,null,null,null,null,null,null,null,null,null,null,null,null,null,null,null,null,null,null,null,null,null,null,null,null,null,"","","","","","","",null,0,0,0,0,0,0,0,0,0,0,0,0,null,0,"0",0,0,"0",0,0,0,"0",0,0,"0",0]
[null,null,null,null,null,null,null,null,null,null,null,null,null,null,null,null,null,null,null,null,null,null,null,null,null,null,null,null,null,null,null,null,null,null,null,null,null,null,null,null,null,null,null,null,"","","","","","","",null,0,0,0,0,0,0,0,0,0,0,0,0,null,0,"0",0,0,"0",0,0,0,"0",0,0,"0",0]
[null,null,null,null,null,null,null,null,null,null,null,null,null,null,null,null,null,null,null,null,null,null,null,null,null,null,null,null,null,null,null,null,null,null,null,null,null,null,null,null,null,null,null,null,"","","","","","","",null,0,0,0,0,0,0,0,0,0,0,0,0,null,0,"0",0,0,"0",0,0,0,"0",0,0,"0",0]
[null,null,null,null,null,null,null,null,null,null,null,null,null,null,null,null,null,null,null,null,null,null,null,null,null,null,null,null,null,null,null,null,null,null,null,null,null,null,null,null,null,null,null,null,"","","","","","","",null,0,0,0,0,0,0,0,0,0,0,0,0,null,0,"0",0,0,"0",0,0,0,"0",0,0,"0",0]
[null,null,null,null,null,null,null,null,null,null,null,null,null,null,null,null,null,null,null,null,null,null,null,null,null,null,null,null,null,null,null,null,null,null,null,null,null,null,null,null,null,null,null,null,"","","","","","","",null,0,0,0,0,0,0,0,0,0,0,0,0,null,0,"0",0,0,"0",0,0,0,"0",0,0,"0",0]
[null,null,null,null,null,null,null,null,null,null,null,null,null,null,null,null,null,null,null,null,null,null,null,null,null,null,null,null,null,null,null,null,null,null,null,null,null,null,null,null,null,null,null,null,"","","","","","","",null,0,0,0,0,0,0,0,0,0,0,0,0,null,0,"0",0,0,"0",0,0,0,"0",0,0,"0",0]
[null,null,null,null,null,null,null,null,null,null,null,null,null,null,null,null,null,null,null,null,null,null,null,null,null,null,null,null,null,null,null,null,null,null,null,null,null,null,null,null,null,null,null,null,"","","","","","","",null,0,0,0,0,0,0,0,0,0,0,0,0,null,0,"0",0,0,"0",0,0,0,"0",0,0,"0",0]
[null,null,null,null,null,null,null,null,null,null,null,null,null,null,null,null,null,null,null,null,null,null,null,null,null,null,null,null,null,null,null,null,null,null,null,null,null,null,null,null,null,null,null,null,"","","","","","","",null,0,0,0,0,0,0,0,0,0,0,0,0,null,0,"0",0,0,"0",0,0,0,"0",0,0,"0",0]
[null,null,null,null,null,null,null,null,null,null,null,null,null,null,null,null,null,null,null,null,null,null,null,null,null,null,null,null,null,null,null,null,null,null,null,null,null,null,null,null,null,null,null,null,"","","","","","","",null,0,0,0,0,0,0,0,0,0,0,0,0,null,0,"0",0,0,"0",0,0,0,"0",0,0,"0",0]
[null,null,null,null,null,null,null,null,null,null,null,null,null,null,null,null,null,null,null,null,null,null,null,null,null,null,null,null,null,null,null,null,null,null,null,null,null,null,null,null,null,null,null,null,"","","","","","","",null,0,0,0,0,0,0,0,0,0,0,0,0,null,0,"0",0,0,"0",0,0,0,"0",0,0,"0",0]
[null,null,null,null,null,null,null,null,null,null,null,null,null,null,null,null,null,null,null,null,null,null,null,null,null,null,null,null,null,null,null,null,null,null,null,null,null,null,null,null,null,null,null,null,"","","","","","","",null,0,0,0,0,0,0,0,0,0,0,0,0,null,0,"0",0,0,"0",0,0,0,"0",0,0,"0",0]
[null,null,null,null,null,null,null,null,null,null,null,null,null,null,null,null,null,null,null,null,null,null,null,null,null,null,null,null,null,null,null,null,null,null,null,null,null,null,null,null,null,null,null,null,"","","","","","","",null,0,0,0,0,0,0,0,0,0,0,0,0,null,0,"0",0,0,"0",0,0,0,"0",0,0,"0",0]
[null,null,null,null,null,null,null,null,null,null,null,null,null,null,null,null,null,null,null,null,null,null,null,null,null,null,null,null,null,null,null,null,null,null,null,null,null,null,null,null,null,null,null,null,"","","","","","","",null,0,0,0,0,0,0,0,0,0,0,0,0,null,0,"0",0,0,"0",0,0,0,"0",0,0,"0",0]
[null,null,null,null,null,null,null,null,null,null,null,null,null,null,null,null,null,null,null,null,null,null,null,null,null,null,null,null,null,null,null,null,null,null,null,null,null,null,null,null,null,null,null,null,"","","","","","","",null,0,0,0,0,0,0,0,0,0,0,0,0,null,0,"0",0,0,"0",0,0,0,"0",0,0,"0",0]
[null,null,null,null,null,null,null,null,null,null,null,null,null,null,null,null,null,null,null,null,null,null,null,null,null,null,null,null,null,null,null,null,null,null,null,null,null,null,null,null,null,null,null,null,"","","","","","","",null,0,0,0,0,0,0,0,0,0,0,0,0,null,0,"0",0,0,"0",0,0,0,"0",0,0,"0",0]
[null,null,null,null,null,null,null,null,null,null,null,null,null,null,null,null,null,null,null,null,null,null,null,null,null,null,null,null,null,null,null,null,null,null,null,null,null,null,null,null,null,null,null,null,"","","","","","","",null,0,0,0,0,0,0,0,0,0,0,0,0,null,0,"0",0,0,"0",0,0,0,"0",0,0,"0",0]
[null,null,null,null,null,null,null,null,null,null,null,null,null,null,null,null,null,null,null,null,null,null,null,null,null,null,null,null,null,null,null,null,null,null,null,null,null,null,null,null,null,null,null,null,"","","","","","","",null,0,0,0,0,0,0,0,0,0,0,0,0,null,0,"0",0,0,"0",0,0,0,"0",0,0,"0",0]
[null,null,null,null,null,null,null,null,null,null,null,null,null,null,null,null,null,null,null,null,null,null,null,null,null,null,null,null,null,null,null,null,null,null,null,null,null,null,null,null,null,null,null,null,"","","","","","","",null,0,0,0,0,0,0,0,0,0,0,0,0,null,0,"0",0,0,"0",0,0,0,"0",0,0,"0",0]
[null,null,null,null,null,null,null,null,null,null,null,null,null,null,null,null,null,null,null,null,null,null,null,null,null,null,null,null,null,null,null,null,null,null,null,null,null,null,null,null,null,null,null,null,"","","","","","","",null,0,0,0,0,0,0,0,0,0,0,0,0,null,0,"0",0,0,"0",0,0,0,"0",0,0,"0",0]
[null,null,null,null,null,null,null,null,null,null,null,null,null,null,null,null,null,null,null,null,null,null,null,null,null,null,null,null,null,null,null,null,null,null,null,null,null,null,null,null,null,null,null,null,"","","","","","","",null,0,0,0,0,0,0,0,0,0,0,0,0,null,0,"0",0,0,"0",0,0,0,"0",0,0,"0",0]
[null,null,null,null,null,null,null,null,null,null,null,null,null,null,null,null,null,null,null,null,null,null,null,null,null,null,null,null,null,null,null,null,null,null,null,null,null,null,null,null,null,null,null,null,"","","","","","","",null,0,0,0,0,0,0,0,0,0,0,0,0,null,0,"0",0,0,"0",0,0,0,"0",0,0,"0",0]
[null,null,null,null,null,null,null,null,null,null,null,null,null,null,null,null,null,null,null,null,null,null,null,null,null,null,null,null,null,null,null,null,null,null,null,null,null,null,null,null,null,null,null,null,"","","","","","","",null,0,0,0,0,0,0,0,0,0,0,0,0,null,0,"0",0,0,"0",0,0,0,"0",0,0,"0",0]
[null,null,null,null,null,null,null,null,null,null,null,null,null,null,null,null,null,null,null,null,null,null,null,null,null,null,null,null,null,null,null,null,null,null,null,null,null,null,null,null,null,null,null,null,"","","","","","","",null,0,0,0,0,0,0,0,0,0,0,0,0,null,0,"0",0,0,"0",0,0,0,"0",0,0,"0",0]
[null,null,null,null,null,null,null,null,null,null,null,null,null,null,null,null,null,null,null,null,null,null,null,null,null,null,null,null,null,null,null,null,null,null,null,null,null,null,null,null,null,null,null,null,"","","","","","","",null,0,0,0,0,0,0,0,0,0,0,0,0,null,0,"0",0,0,"0",0,0,0,"0",0,0,"0",0]
[null,null,null,null,null,null,null,null,null,null,null,null,null,null,null,null,null,null,null,null,null,null,null,null,null,null,null,null,null,null,null,null,null,null,null,null,null,null,null,null,null,null,null,null,"","","","","","","",null,0,0,0,0,0,0,0,0,0,0,0,0,null,0,"0",0,0,"0",0,0,0,"0",0,0,"0",0]
[null,null,null,null,null,null,null,null,null,null,null,null,null,null,null,null,null,null,null,null,null,null,null,null,null,null,null,null,null,null,null,null,null,null,null,null,null,null,null,null,null,null,null,null,"","","","","","","",null,0,0,0,0,0,0,0,0,0,0,0,0,null,0,"0",0,0,"0",0,0,0,"0",0,0,"0",0]
[null,null,null,null,null,null,null,null,null,null,null,null,null,null,null,null,null,null,null,null,null,null,null,null,null,null,null,null,null,null,null,null,null,null,null,null,null,null,null,null,null,null,null,null,"","","","","","","",null,0,0,0,0,0,0,0,0,0,0,0,0,null,0,"0",0,0,"0",0,0,0,"0",0,0,"0",0]
[null,null,null,null,null,null,null,null,null,null,null,null,null,null,null,null,null,null,null,null,null,null,null,null,null,null,null,null,null,null,null,null,null,null,null,null,null,null,null,null,null,null,null,null,null,null,null,null,null,null,""]

{"sheet":"Table","index":2,"n_rows":12,"n_cols":26,"rows_kept":12,"cut":false,"hidden":false,"merged":[[0,0,1,0],[0,16,0,20],[0,21,0,25],[0,1,0,5],[0,6,0,10],[0,11,0,15],[3,18,3,20],[3,23,3,25],[3,3,3,5],[3,8,3,10],[3,13,3,15],[5,8,5,10],[5,13,5,15],[5,18,5,20],[5,23,5,25],[7,3,7,5],[7,8,7,10],[7,13,7,15],[7,18,7,20],[7,23,7,25],[5,3,5,5],[9,3,9,5],[9,8,9,10],[9,13,9,15],[9,18,9,20],[9,23,9,25],[11,3,11,5],[11,8,11,10],[11,13,11,15],[11,18,11,20],[11,23,11,25]]}
["2020 AHA Mission: Lifeline EMS Recognition","Quarter 1",null,null,null,null,"Quarter 2",null,null,null,null,"Quarter 3",null,null,null,null,"Quarter 4",null,null,null,null,"Annual Aggregate"]
[null,"D","N","Outliers","Excep","%","D","N","Outliers","Excep","%","D","N","Outliers","Excep","%","D","N","Outliers","Excep","%","D","N","Outliers","Excep","%"]
["Measure 1: Percentage of patients with non-traumatic chest pain >35 years, treated and transported by EMS who received a pre-hospital 12 Lead ECG",{"$f":"COUNTIFS(Data!$BA:$BA,\"1\",Data!$AY:$AY,\"1\")","v":0},{"$f":"COUNTIFS(Data!$AY:$AY,\"1\",Data!$BB:$BB,\"1\")","v":0},{"$f":"B3-C3","v":0},{"$f":"COUNTIFS(Data!$BS:$BS,\"1\",Data!$AY:$AY,\"1\")","v":0},{"$f":"IF(B3=0,\"\",C3/B3)","v":""},{"$f":"COUNTIFS(Data!$BA:$BA,\"1\",Data!$AY:$AY,\"2\")","v":0},{"$f":"COUNTIFS(Data!$AY:$AY,\"2\",Data!$BB:$BB,\"1\")","v":0},{"$f":"G3-H3","v":0},{"$f":"COUNTIFS(Data!$BS:$BS,\"1\",Data!$AY:$AY,\"2\")","v":0},{"$f":"IF(G3=0,\"\",H3/G3)","v":""},{"$f":"COUNTIFS(Data!$BA:$BA,\"1\",Data!$AY:$AY,\"3\")","v":0},{"$f":"COUNTIFS(Data!$AY:$AY,\"3\",Data!$BB:$BB,\"1\")","v":0},{"$f":"L3-M3","v":0},{"$f":"COUNTIFS(Data!$BS:$BS,\"1\",Data!$AY:$AY,\"3\")","v":0},{"$f":"IF(L3=0,\"\",M3/L3)","v":""},{"$f":"COUNTIFS(Data!$BA:$BA,\"1\",Data!$AY:$AY,\"4\")","v":0},{"$f":"COUNTIFS(Data!$AY:$AY,\"4\",Data!$BB:$BB,\"1\")","v":0},{"$f":"Q3-R3","v":0},{"$f":"COUNTIFS(Data!$BS:$BS,\"1\",Data!$AY:$AY,\"4\")","v":0},{"$f":"IF(Q3=0,\"\",R3/Q3)","v":""},{"$f":"SUM(B3,G3,L3,Q3)","v":0},{"$f":"SUM(C3,H3,M3,R3)","v":0},{"$f":"V3-W3","v":0},{"$f":"SUM(E3,J3,O3,T3)","v":0},{"$f":"IF(V3=0,\"\",W3/V3)","v":""}]
["Adjusted (exclusions removed)",{"$f":"B3-E3","v":0},{"$f":"C3","v":0},{"$f":"IF(B4=0,\"\",C4/B4)","v":""},null,null,{"$f":"G3-J3","v":0},{"$f":"H3","v":0},{"$f":"IF(G4=0,\"\",H4/G4)","v":""},null,null,{"$f":"L3-O3","v":0},{"$f":"M3","v":0},{"$f":"IF(L4=0,\"\",M4/L4)","v":""},null,null,{"$f":"Q3-T3","v":0},{"$f":"R3","v":0},{"$f":"IF(Q4=0,\"\",R4/Q4)","v":""},null,null,{"$f":"V3-Y3","v":0},{"$f":"W3","v":0},{"$f":"IF(V4=0,\"\",W4/V4)","v":""}]
["Measure 2: The percentage of hospital notifications or 12 Lead ECG transmissions suggesting a STEMI alert (or Cardiac Cath Lab Activation), that are performed within 10 minutes of the first STEMI positive 12 Lead ECG in the field.",{"$f":"COUNTIFS(Data!$BH:$BH,\"1\",Data!$AY:$AY,\"1\")","v":0},{"$f":"COUNTIFS(Data!$BI:$BI,\"1\",Data!$AY:$AY,\"1\")","v":0},{"$f":"B5-C5","v":0},{"$f":"COUNTIFS(Data!$BV:$BV,\"1\",Data!$AY:$AY,\"1\")","v":0},{"$f":"IF(B5=0,\"\",C5/B5)","v":""},{"$f":"COUNTIFS(Data!$BH:$BH,\"1\",Data!$AY:$AY,\"2\")","v":0},{"$f":"COUNTIFS(Data!$BI:$BI,\"1\",Data!$AY:$AY,\"2\")","v":0},{"$f":"G5-H5","v":0},{"$f":"COUNTIFS(Data!$BV:$BV,\"1\",Data!$AY:$AY,\"2\")","v":0},"",{"$f":"COUNTIFS(Data!$BH:$BH,\"1\",Data!$AY:$AY,\"3\")","v":0},{"$f":"COUNTIFS(Data!$BI:$BI,\"1\",Data!$AY:$AY,\"3\")","v":0},{"$f":"L5-M5","v":0},{"$f":"COUNTIFS(Data!$BV:$BV,\"1\",Data!$AY:$AY,\"3\")","v":0},"",{"$f":"COUNTIFS(Data!$BH:$BH,\"1\",Data!$AY:$AY,\"4\")","v":0},{"$f":"COUNTIFS(Data!$BI:$BI,\"1\",Data!$AY:$AY,\"4\")","v":0},{"$f":"Q5-R5","v":0},{"$f":"COUNTIFS(Data!$BV:$BV,\"1\",Data!$AY:$AY,\"4\")","v":0},{"$f":"IF(Q5=0,\"\",R5/Q5)","v":""},{"$f":"SUM(B5,G5,L5,Q5)","v":0},{"$f":"SUM(C5,H5,M5,R5)","v":0},{"$f":"V5-W5","v":0},{"$f":"SUM(E5,J5,O5,T5)","v":0},""]
["Adjusted (exclusions removed)",{"$f":"B5-E5","v":0},{"$f":"C5","v":0},{"$f":"IF(B6=0,\"\",C6/B6)","v":""},null,null,{"$f":"G5-J5","v":0},{"$f":"H5","v":0},{"$f":"IF(G6=0,\"\",H6/G6)","v":""},null,null,{"$f":"L5-O5","v":0},{"$f":"M5","v":0},{"$f":"IF(L6=0,\"\",M6/L6)","v":""},null,null,{"$f":"Q5-T5","v":0},{"$f":"R5","v":0},{"$f":"IF(Q6=0,\"\",R6/Q6)","v":""},null,null,{"$f":"V5-Y5","v":0},{"$f":"W5","v":0},{"$f":"IF(V6=0,\"\",W6/V6)","v":""}]
["Measure3: Percentage of patients treated and transported directly to a STEMI Receiving Center, with EMS First Medical Contact to device time <90 Minutes and/or EMS First Medical Contact to PCI <120 Minutes when transport time >45 minutes and Door to Balloon <30 Minutes. (When destination facility = STEMI Receiving Center)",{"$f":"COUNTIFS(Data!$BC:$BC,\"1\",Data!$AY:$AY,\"1\")","v":0},{"$f":"COUNTIFS(Data!$BN:$BN,\"1\",Data!$AY:$AY,\"1\")","v":0},{"$f":"B7-C7","v":0},{"$f":"COUNTIFS(Data!$BR:$BR,\"1\",Data!$AY:$AY,\"1\")","v":0},"",{"$f":"COUNTIFS(Data!$BC:$BC,\"1\",Data!$AY:$AY,\"2\")","v":0},{"$f":"COUNTIFS(Data!$BN:$BN,\"1\",Data!$AY:$AY,\"2\")","v":0},{"$f":"G7-H7","v":0},{"$f":"COUNTIFS(Data!$BR:$BR,\"1\",Data!$AY:$AY,\"2\")","v":0},"",{"$f":"COUNTIFS(Data!$BC:$BC,\"1\",Data!$AY:$AY,\"3\")","v":0},{"$f":"COUNTIFS(Data!$BN:$BN,\"1\",Data!$AY:$AY,\"3\")","v":0},{"$f":"L7-M7","v":0},{"$f":"COUNTIFS(Data!$BR:$BR,\"1\",Data!$AY:$AY,\"3\")","v":0},"",{"$f":"COUNTIFS(Data!$BC:$BC,\"1\",Data!$AY:$AY,\"4\")","v":0},{"$f":"COUNTIFS(Data!$BN:$BN,\"1\",Data!$AY:$AY,\"4\")","v":0},{"$f":"Q7-R7","v":0},{"$f":"COUNTIFS(Data!$BR:$BR,\"1\",Data!$AY:$AY,\"4\")","v":0},{"$f":"IF(Q7=0,\"\",R7/Q7)","v":""},{"$f":"SUM(B7,G7,L7,Q7)","v":0},{"$f":"SUM(C7,H7,M7,R7)","v":0},{"$f":"V7-W7","v":0},{"$f":"SUM(E7,J7,O7,T7)","v":0},""]
["Adjusted (exclusions removed)",{"$f":"B7-E7","v":0},{"$f":"C7","v":0},{"$f":"IF(B8=0,\"\",C8/B8)","v":""},null,null,{"$f":"G7-J7","v":0},{"$f":"H7","v":0},{"$f":"IF(G8=0,\"\",H8/G8)","v":""},null,null,{"$f":"L7-O7","v":0},{"$f":"M7","v":0},{"$f":"IF(L8=0,\"\",M8/L8)","v":""},null,null,{"$f":"Q7-T7","v":0},{"$f":"R7","v":0},{"$f":"IF(Q8=0,\"\",R8/Q8)","v":""},null,null,{"$f":"V7-Y7","v":0},{"$f":"W7","v":0},{"$f":"IF(V8=0,\"\",W8/V8)","v":""}]
["Measure 4: Percentage of STEMI patients treated and transported to a STEMI Referring Hospital for reperfusion A) With a Door-to-Needle time of <30 Minutes OR B) Initial EMS FMC to PCI of the transfer for PCI patient <120 Minutes.",{"$f":"COUNTIFS(Data!$BJ:$BJ,\"1\",Data!$AY:$AY,\"1\")","v":0},{"$f":"COUNTIFS(Data!$BO:$BO,\"1\",Data!$AY:$AY,\"1\")","v":0},{"$f":"B9-C9","v":0},{"$f":"COUNTIFS(Data!$BY:$BY,\"1\",Data!$AY:$AY,\"1\")","v":0},"",{"$f":"COUNTIFS(Data!$BJ:$BJ,\"1\",Data!$AY:$AY,\"2\")","v":0},{"$f":"COUNTIFS(Data!$BO:$BO,\"1\",Data!$AY:$AY,\"2\")","v":0},{"$f":"G9-H9","v":0},{"$f":"COUNTIFS(Data!$BY:$BY,\"1\",Data!$AY:$AY,\"2\")","v":0},"",{"$f":"COUNTIFS(Data!$BJ:$BJ,\"1\",Data!$AY:$AY,\"3\")","v":0},{"$f":"COUNTIFS(Data!$BO:$BO,\"1\",Data!$AY:$AY,\"3\")","v":0},{"$f":"L9-M9","v":0},{"$f":"COUNTIFS(Data!$BY:$BY,\"1\",Data!$AY:$AY,\"3\")","v":0},"",{"$f":"COUNTIFS(Data!$BJ:$BJ,\"1\",Data!$AY:$AY,\"4\")","v":0},{"$f":"COUNTIFS(Data!$BO:$BO,\"1\",Data!$AY:$AY,\"4\")","v":0},{"$f":"Q9-R9","v":0},{"$f":"COUNTIFS(Data!$BY:$BY,\"1\",Data!$AY:$AY,\"4\")","v":0},{"$f":"IF(Q9=0,\"\",R9/Q9)","v":""},{"$f":"SUM(B9,G9,L9,Q9)","v":0},{"$f":"SUM(C9,H9,M9,R9)","v":0},{"$f":"V9-W9","v":0},{"$f":"SUM(E9,J9,O9,T9)","v":0},""]
["Adjusted (exclusions removed)",{"$f":"B9-E9","v":0},{"$f":"C9","v":0},{"$f":"IF(B10=0,\"\",C10/B10)","v":""},null,null,{"$f":"G9-J9","v":0},{"$f":"H9","v":0},{"$f":"IF(G10=0,\"\",H10/G10)","v":""},null,null,{"$f":"L9-O9","v":0},{"$f":"M9","v":0},{"$f":"IF(L10=0,\"\",M10/L10)","v":""},null,null,{"$f":"Q9-T9","v":0},{"$f":"R9","v":0},{"$f":"IF(Q10=0,\"\",R10/Q10)","v":""},null,null,{"$f":"V9-Y9","v":0},{"$f":"W9","v":0},{"$f":"IF(V10=0,\"\",W10/V10)","v":""}]
["Plus Measure: Percentage of 12 Lead ECG's performed on patients in the field with an initial complaint of non-traumatic chest pain, >35 years, within 10 Minutes of EMS First Medical Contact",{"$f":"COUNTIFS(Data!$BF:$BF,\"1\",Data!$AY:$AY,\"1\")","v":0},{"$f":"COUNTIFS(Data!$BG:$BG,\"1\",Data!$AY:$AY,\"1\")","v":0},{"$f":"B11-C11","v":0},{"$f":"COUNTIFS(Data!$BZ:$BZ,\"1\",Data!$AY:$AY,\"1\")","v":0},"",{"$f":"COUNTIFS(Data!$BF:$BF,\"1\",Data!$AY:$AY,\"2\")","v":0},{"$f":"COUNTIFS(Data!$BG:$BG,\"1\",Data!$AY:$AY,\"2\")","v":0},{"$f":"G11-H11","v":0},{"$f":"COUNTIFS(Data!$BZ:$BZ,\"1\",Data!$AY:$AY,\"2\")","v":0},"",{"$f":"COUNTIFS(Data!$BF:$BF,\"1\",Data!$AY:$AY,\"3\")","v":0},{"$f":"COUNTIFS(Data!$BG:$BG,\"1\",Data!$AY:$AY,\"3\")","v":0},{"$f":"L11-M11","v":0},{"$f":"COUNTIFS(Data!$BZ:$BZ,\"1\",Data!$AY:$AY,\"3\")","v":0},"",{"$f":"COUNTIFS(Data!$BF:$BF,\"1\",Data!$AY:$AY,\"4\")","v":0},{"$f":"COUNTIFS(Data!$BG:$BG,\"1\",Data!$AY:$AY,\"4\")","v":0},{"$f":"Q11-R11","v":0},{"$f":"COUNTIFS(Data!$BZ:$BZ,\"1\",Data!$AY:$AY,\"4\")","v":0},{"$f":"IF(Q11=0,\"\",R11/Q11)","v":""},{"$f":"SUM(B11,G11,L11,Q11)","v":0},{"$f":"SUM(C11,H11,M11,R11)","v":0},{"$f":"V11-W11","v":0},{"$f":"SUM(E11,J11,O11,T11)","v":0},""]
["Adjusted (exclusions removed)",{"$f":"B11-E11","v":0},{"$f":"C11","v":0},{"$f":"IF(B12=0,\"\",C12/B12)","v":""},null,null,{"$f":"G11-J11","v":0},{"$f":"H11","v":0},{"$f":"IF(G12=0,\"\",H12/G12)","v":""},null,null,{"$f":"L11-O11","v":0},{"$f":"M11","v":0},{"$f":"IF(L12=0,\"\",M12/L12)","v":""},null,null,{"$f":"Q11-T11","v":0},{"$f":"R11","v":0},{"$f":"IF(Q12=0,\"\",R12/Q12)","v":""},null,null,{"$f":"V11-Y11","v":0},{"$f":"W11","v":0},{"$f":"IF(V12=0,\"\",W12/V12)","v":""}]

{"sheet":"Calucations","index":3,"n_rows":1998,"n_cols":16,"rows_kept":1998,"cut":false,"hidden":true,"merged":[]}
["Denominator AM 1","Denominator AM 2","Denominator AM 3","Denominator AM 4","Denominator AM 5","Denominator Plus Measure","Denominator RM 1","Denominator RM 2","Denominator RM 3","Denominator RM 4","Numerator AM 1","Numerator AM 2","Numerator AM 3","Numerator AM 4","Numerator AM 5","Numerator Plus Measure"]
[{"$f":"IF(AND(Data!#REF!>34,Data!#REF!=\"Chest Pain\",Data!#REF!=\"No\"),1,0)","v":{"$error":"#REF!"}},{"$f":"IF(AND(Data!#REF!>17, Data!#REF!=\"Yes\", Data!#REF!=\"TRUE\", Data!#REF!=\"TRUE\"),1,0)","v":{"$error":"#REF!"}}]
[{"$f":"IF(AND(Data!#REF!>34,Data!#REF!=\"Chest Pain\",Data!#REF!=\"No\"),1,0)","v":{"$error":"#REF!"}},{"$f":"IF(AND(Data!#REF!>17, Data!#REF!=\"Yes\", Data!#REF!=\"TRUE\", Data!#REF!=\"TRUE\"),1,0)","v":{"$error":"#REF!"}}]
[{"$f":"IF(AND(Data!#REF!>34,Data!#REF!=\"Chest Pain\",Data!#REF!=\"No\"),1,0)","v":{"$error":"#REF!"}},{"$f":"IF(AND(Data!#REF!>17, Data!#REF!=\"Yes\", Data!#REF!=\"TRUE\", Data!#REF!=\"TRUE\"),1,0)","v":{"$error":"#REF!"}}]
[{"$f":"IF(AND(Data!C2>34,Data!F2=\"Chest Pain\",Data!G2=\"No\"),1,0)","v":0}]
[{"$f":"IF(AND(Data!C3>34,Data!F3=\"Chest Pain\",Data!G3=\"No\"),1,0)","v":0}]
[{"$f":"IF(AND(Data!C4>34,Data!F4=\"Chest Pain\",Data!G4=\"No\"),1,0)","v":0}]
[{"$f":"IF(AND(Data!C5>34,Data!F5=\"Chest Pain\",Data!G5=\"No\"),1,0)","v":0}]
[{"$f":"IF(AND(Data!C6>34,Data!F6=\"Chest Pain\",Data!G6=\"No\"),1,0)","v":0}]
[{"$f":"IF(AND(Data!C7>34,Data!F7=\"Chest Pain\",Data!G7=\"No\"),1,0)","v":0}]
[{"$f":"IF(AND(Data!C8>34,Data!F8=\"Chest Pain\",Data!G8=\"No\"),1,0)","v":0}]
[{"$f":"IF(AND(Data!C9>34,Data!F9=\"Chest Pain\",Data!G9=\"No\"),1,0)","v":0}]
[{"$f":"IF(AND(Data!C10>34,Data!F10=\"Chest Pain\",Data!G10=\"No\"),1,0)","v":0}]
[{"$f":"IF(AND(Data!C11>34,Data!F11=\"Chest Pain\",Data!G11=\"No\"),1,0)","v":0}]
[{"$f":"IF(AND(Data!C12>34,Data!F12=\"Chest Pain\",Data!G12=\"No\"),1,0)","v":0}]
[{"$f":"IF(AND(Data!C13>34,Data!F13=\"Chest Pain\",Data!G13=\"No\"),1,0)","v":0}]
[{"$f":"IF(AND(Data!C14>34,Data!F14=\"Chest Pain\",Data!G14=\"No\"),1,0)","v":0}]
[{"$f":"IF(AND(Data!C15>34,Data!F15=\"Chest Pain\",Data!G15=\"No\"),1,0)","v":0}]
[{"$f":"IF(AND(Data!C16>34,Data!F16=\"Chest Pain\",Data!G16=\"No\"),1,0)","v":0}]
[{"$f":"IF(AND(Data!C17>34,Data!F17=\"Chest Pain\",Data!G17=\"No\"),1,0)","v":0}]
[{"$f":"IF(AND(Data!C18>34,Data!F18=\"Chest Pain\",Data!G18=\"No\"),1,0)","v":0}]
[{"$f":"IF(AND(Data!C19>34,Data!F19=\"Chest Pain\",Data!G19=\"No\"),1,0)","v":0}]
[{"$f":"IF(AND(Data!C20>34,Data!F20=\"Chest Pain\",Data!G20=\"No\"),1,0)","v":0}]
[{"$f":"IF(AND(Data!C21>34,Data!F21=\"Chest Pain\",Data!G21=\"No\"),1,0)","v":0}]
[{"$f":"IF(AND(Data!C22>34,Data!F22=\"Chest Pain\",Data!G22=\"No\"),1,0)","v":0}]
[{"$f":"IF(AND(Data!C23>34,Data!F23=\"Chest Pain\",Data!G23=\"No\"),1,0)","v":0}]
[{"$f":"IF(AND(Data!C24>34,Data!F24=\"Chest Pain\",Data!G24=\"No\"),1,0)","v":0}]
[{"$f":"IF(AND(Data!C25>34,Data!F25=\"Chest Pain\",Data!G25=\"No\"),1,0)","v":0}]
[{"$f":"IF(AND(Data!C26>34,Data!F26=\"Chest Pain\",Data!G26=\"No\"),1,0)","v":0}]
[{"$f":"IF(AND(Data!C27>34,Data!F27=\"Chest Pain\",Data!G27=\"No\"),1,0)","v":0}]
[{"$f":"IF(AND(Data!C28>34,Data!F28=\"Chest Pain\",Data!G28=\"No\"),1,0)","v":0}]
[{"$f":"IF(AND(Data!C29>34,Data!F29=\"Chest Pain\",Data!G29=\"No\"),1,0)","v":0}]
[{"$f":"IF(AND(Data!C30>34,Data!F30=\"Chest Pain\",Data!G30=\"No\"),1,0)","v":0}]
[{"$f":"IF(AND(Data!C31>34,Data!F31=\"Chest Pain\",Data!G31=\"No\"),1,0)","v":0}]
[{"$f":"IF(AND(Data!C32>34,Data!F32=\"Chest Pain\",Data!G32=\"No\"),1,0)","v":0}]
[{"$f":"IF(AND(Data!C33>34,Data!F33=\"Chest Pain\",Data!G33=\"No\"),1,0)","v":0}]
[{"$f":"IF(AND(Data!C34>34,Data!F34=\"Chest Pain\",Data!G34=\"No\"),1,0)","v":0}]
[{"$f":"IF(AND(Data!C35>34,Data!F35=\"Chest Pain\",Data!G35=\"No\"),1,0)","v":0}]
[{"$f":"IF(AND(Data!C36>34,Data!F36=\"Chest Pain\",Data!G36=\"No\"),1,0)","v":0}]
[{"$f":"IF(AND(Data!C37>34,Data!F37=\"Chest Pain\",Data!G37=\"No\"),1,0)","v":0}]
[{"$f":"IF(AND(Data!C38>34,Data!F38=\"Chest Pain\",Data!G38=\"No\"),1,0)","v":0}]
[{"$f":"IF(AND(Data!C39>34,Data!F39=\"Chest Pain\",Data!G39=\"No\"),1,0)","v":0}]
[{"$f":"IF(AND(Data!C40>34,Data!F40=\"Chest Pain\",Data!G40=\"No\"),1,0)","v":0}]
[{"$f":"IF(AND(Data!C41>34,Data!F41=\"Chest Pain\",Data!G41=\"No\"),1,0)","v":0}]
[{"$f":"IF(AND(Data!C42>34,Data!F42=\"Chest Pain\",Data!G42=\"No\"),1,0)","v":0}]
[{"$f":"IF(AND(Data!C43>34,Data!F43=\"Chest Pain\",Data!G43=\"No\"),1,0)","v":0}]
[{"$f":"IF(AND(Data!C44>34,Data!F44=\"Chest Pain\",Data!G44=\"No\"),1,0)","v":0}]
[{"$f":"IF(AND(Data!C45>34,Data!F45=\"Chest Pain\",Data!G45=\"No\"),1,0)","v":0}]
[{"$f":"IF(AND(Data!C46>34,Data!F46=\"Chest Pain\",Data!G46=\"No\"),1,0)","v":0}]
[{"$f":"IF(AND(Data!C47>34,Data!F47=\"Chest Pain\",Data!G47=\"No\"),1,0)","v":0}]
[{"$f":"IF(AND(Data!C48>34,Data!F48=\"Chest Pain\",Data!G48=\"No\"),1,0)","v":0}]
[{"$f":"IF(AND(Data!C49>34,Data!F49=\"Chest Pain\",Data!G49=\"No\"),1,0)","v":0}]
[{"$f":"IF(AND(Data!C50>34,Data!F50=\"Chest Pain\",Data!G50=\"No\"),1,0)","v":0}]
[{"$f":"IF(AND(Data!C51>34,Data!F51=\"Chest Pain\",Data!G51=\"No\"),1,0)","v":0}]
[{"$f":"IF(AND(Data!C52>34,Data!F52=\"Chest Pain\",Data!G52=\"No\"),1,0)","v":0}]
[{"$f":"IF(AND(Data!C53>34,Data!F53=\"Chest Pain\",Data!G53=\"No\"),1,0)","v":0}]
[{"$f":"IF(AND(Data!C54>34,Data!F54=\"Chest Pain\",Data!G54=\"No\"),1,0)","v":0}]
[{"$f":"IF(AND(Data!C55>34,Data!F55=\"Chest Pain\",Data!G55=\"No\"),1,0)","v":0}]
[{"$f":"IF(AND(Data!C56>34,Data!F56=\"Chest Pain\",Data!G56=\"No\"),1,0)","v":0}]
[{"$f":"IF(AND(Data!C57>34,Data!F57=\"Chest Pain\",Data!G57=\"No\"),1,0)","v":0}]
[{"$f":"IF(AND(Data!C58>34,Data!F58=\"Chest Pain\",Data!G58=\"No\"),1,0)","v":0}]
[{"$f":"IF(AND(Data!C59>34,Data!F59=\"Chest Pain\",Data!G59=\"No\"),1,0)","v":0}]
[{"$f":"IF(AND(Data!C60>34,Data!F60=\"Chest Pain\",Data!G60=\"No\"),1,0)","v":0}]
[{"$f":"IF(AND(Data!C61>34,Data!F61=\"Chest Pain\",Data!G61=\"No\"),1,0)","v":0}]
[{"$f":"IF(AND(Data!C62>34,Data!F62=\"Chest Pain\",Data!G62=\"No\"),1,0)","v":0}]
[{"$f":"IF(AND(Data!C63>34,Data!F63=\"Chest Pain\",Data!G63=\"No\"),1,0)","v":0}]
[{"$f":"IF(AND(Data!C64>34,Data!F64=\"Chest Pain\",Data!G64=\"No\"),1,0)","v":0}]
[{"$f":"IF(AND(Data!C65>34,Data!F65=\"Chest Pain\",Data!G65=\"No\"),1,0)","v":0}]
[{"$f":"IF(AND(Data!C66>34,Data!F66=\"Chest Pain\",Data!G66=\"No\"),1,0)","v":0}]
[{"$f":"IF(AND(Data!C67>34,Data!F67=\"Chest Pain\",Data!G67=\"No\"),1,0)","v":0}]
[{"$f":"IF(AND(Data!C68>34,Data!F68=\"Chest Pain\",Data!G68=\"No\"),1,0)","v":0}]
[{"$f":"IF(AND(Data!C69>34,Data!F69=\"Chest Pain\",Data!G69=\"No\"),1,0)","v":0}]
[{"$f":"IF(AND(Data!C70>34,Data!F70=\"Chest Pain\",Data!G70=\"No\"),1,0)","v":0}]
[{"$f":"IF(AND(Data!C71>34,Data!F71=\"Chest Pain\",Data!G71=\"No\"),1,0)","v":0}]
[{"$f":"IF(AND(Data!C72>34,Data!F72=\"Chest Pain\",Data!G72=\"No\"),1,0)","v":0}]
[{"$f":"IF(AND(Data!C73>34,Data!F73=\"Chest Pain\",Data!G73=\"No\"),1,0)","v":0}]
[{"$f":"IF(AND(Data!C74>34,Data!F74=\"Chest Pain\",Data!G74=\"No\"),1,0)","v":0}]
[{"$f":"IF(AND(Data!C75>34,Data!F75=\"Chest Pain\",Data!G75=\"No\"),1,0)","v":0}]
[{"$f":"IF(AND(Data!C76>34,Data!F76=\"Chest Pain\",Data!G76=\"No\"),1,0)","v":0}]
[{"$f":"IF(AND(Data!C77>34,Data!F77=\"Chest Pain\",Data!G77=\"No\"),1,0)","v":0}]
[{"$f":"IF(AND(Data!C78>34,Data!F78=\"Chest Pain\",Data!G78=\"No\"),1,0)","v":0}]
[{"$f":"IF(AND(Data!C79>34,Data!F79=\"Chest Pain\",Data!G79=\"No\"),1,0)","v":0}]
[{"$f":"IF(AND(Data!C80>34,Data!F80=\"Chest Pain\",Data!G80=\"No\"),1,0)","v":0}]
[{"$f":"IF(AND(Data!C81>34,Data!F81=\"Chest Pain\",Data!G81=\"No\"),1,0)","v":0}]
[{"$f":"IF(AND(Data!C82>34,Data!F82=\"Chest Pain\",Data!G82=\"No\"),1,0)","v":0}]
[{"$f":"IF(AND(Data!C83>34,Data!F83=\"Chest Pain\",Data!G83=\"No\"),1,0)","v":0}]
[{"$f":"IF(AND(Data!C84>34,Data!F84=\"Chest Pain\",Data!G84=\"No\"),1,0)","v":0}]
[{"$f":"IF(AND(Data!C85>34,Data!F85=\"Chest Pain\",Data!G85=\"No\"),1,0)","v":0}]
[{"$f":"IF(AND(Data!C86>34,Data!F86=\"Chest Pain\",Data!G86=\"No\"),1,0)","v":0}]
[{"$f":"IF(AND(Data!C87>34,Data!F87=\"Chest Pain\",Data!G87=\"No\"),1,0)","v":0}]
[{"$f":"IF(AND(Data!C88>34,Data!F88=\"Chest Pain\",Data!G88=\"No\"),1,0)","v":0}]
[{"$f":"IF(AND(Data!C89>34,Data!F89=\"Chest Pain\",Data!G89=\"No\"),1,0)","v":0}]
[{"$f":"IF(AND(Data!C90>34,Data!F90=\"Chest Pain\",Data!G90=\"No\"),1,0)","v":0}]
[{"$f":"IF(AND(Data!C91>34,Data!F91=\"Chest Pain\",Data!G91=\"No\"),1,0)","v":0}]
[{"$f":"IF(AND(Data!C92>34,Data!F92=\"Chest Pain\",Data!G92=\"No\"),1,0)","v":0}]
[{"$f":"IF(AND(Data!C93>34,Data!F93=\"Chest Pain\",Data!G93=\"No\"),1,0)","v":0}]
[{"$f":"IF(AND(Data!C94>34,Data!F94=\"Chest Pain\",Data!G94=\"No\"),1,0)","v":0}]
[{"$f":"IF(AND(Data!C95>34,Data!F95=\"Chest Pain\",Data!G95=\"No\"),1,0)","v":0}]
[{"$f":"IF(AND(Data!C96>34,Data!F96=\"Chest Pain\",Data!G96=\"No\"),1,0)","v":0}]
[{"$f":"IF(AND(Data!C97>34,Data!F97=\"Chest Pain\",Data!G97=\"No\"),1,0)","v":0}]
[{"$f":"IF(AND(Data!C98>34,Data!F98=\"Chest Pain\",Data!G98=\"No\"),1,0)","v":0}]
[{"$f":"IF(AND(Data!C99>34,Data!F99=\"Chest Pain\",Data!G99=\"No\"),1,0)","v":0}]
[{"$f":"IF(AND(Data!C100>34,Data!F100=\"Chest Pain\",Data!G100=\"No\"),1,0)","v":0}]
[{"$f":"IF(AND(Data!C101>34,Data!F101=\"Chest Pain\",Data!G101=\"No\"),1,0)","v":0}]
[{"$f":"IF(AND(Data!C102>34,Data!F102=\"Chest Pain\",Data!G102=\"No\"),1,0)","v":0}]
[{"$f":"IF(AND(Data!C103>34,Data!F103=\"Chest Pain\",Data!G103=\"No\"),1,0)","v":0}]
[{"$f":"IF(AND(Data!C104>34,Data!F104=\"Chest Pain\",Data!G104=\"No\"),1,0)","v":0}]
[{"$f":"IF(AND(Data!C105>34,Data!F105=\"Chest Pain\",Data!G105=\"No\"),1,0)","v":0}]
[{"$f":"IF(AND(Data!C106>34,Data!F106=\"Chest Pain\",Data!G106=\"No\"),1,0)","v":0}]
[{"$f":"IF(AND(Data!C107>34,Data!F107=\"Chest Pain\",Data!G107=\"No\"),1,0)","v":0}]
[{"$f":"IF(AND(Data!C108>34,Data!F108=\"Chest Pain\",Data!G108=\"No\"),1,0)","v":0}]
[{"$f":"IF(AND(Data!C109>34,Data!F109=\"Chest Pain\",Data!G109=\"No\"),1,0)","v":0}]
[{"$f":"IF(AND(Data!C110>34,Data!F110=\"Chest Pain\",Data!G110=\"No\"),1,0)","v":0}]
[{"$f":"IF(AND(Data!C111>34,Data!F111=\"Chest Pain\",Data!G111=\"No\"),1,0)","v":0}]
[{"$f":"IF(AND(Data!C112>34,Data!F112=\"Chest Pain\",Data!G112=\"No\"),1,0)","v":0}]
[{"$f":"IF(AND(Data!C113>34,Data!F113=\"Chest Pain\",Data!G113=\"No\"),1,0)","v":0}]
[{"$f":"IF(AND(Data!C114>34,Data!F114=\"Chest Pain\",Data!G114=\"No\"),1,0)","v":0}]
[{"$f":"IF(AND(Data!C115>34,Data!F115=\"Chest Pain\",Data!G115=\"No\"),1,0)","v":0}]
[{"$f":"IF(AND(Data!C116>34,Data!F116=\"Chest Pain\",Data!G116=\"No\"),1,0)","v":0}]
[{"$f":"IF(AND(Data!C117>34,Data!F117=\"Chest Pain\",Data!G117=\"No\"),1,0)","v":0}]
[{"$f":"IF(AND(Data!C118>34,Data!F118=\"Chest Pain\",Data!G118=\"No\"),1,0)","v":0}]
[{"$f":"IF(AND(Data!C119>34,Data!F119=\"Chest Pain\",Data!G119=\"No\"),1,0)","v":0}]
[{"$f":"IF(AND(Data!C120>34,Data!F120=\"Chest Pain\",Data!G120=\"No\"),1,0)","v":0}]
[{"$f":"IF(AND(Data!C121>34,Data!F121=\"Chest Pain\",Data!G121=\"No\"),1,0)","v":0}]
[{"$f":"IF(AND(Data!C122>34,Data!F122=\"Chest Pain\",Data!G122=\"No\"),1,0)","v":0}]
[{"$f":"IF(AND(Data!C123>34,Data!F123=\"Chest Pain\",Data!G123=\"No\"),1,0)","v":0}]
[{"$f":"IF(AND(Data!C124>34,Data!F124=\"Chest Pain\",Data!G124=\"No\"),1,0)","v":0}]
[{"$f":"IF(AND(Data!C125>34,Data!F125=\"Chest Pain\",Data!G125=\"No\"),1,0)","v":0}]
[{"$f":"IF(AND(Data!C126>34,Data!F126=\"Chest Pain\",Data!G126=\"No\"),1,0)","v":0}]
[{"$f":"IF(AND(Data!C127>34,Data!F127=\"Chest Pain\",Data!G127=\"No\"),1,0)","v":0}]
[{"$f":"IF(AND(Data!C128>34,Data!F128=\"Chest Pain\",Data!G128=\"No\"),1,0)","v":0}]
[{"$f":"IF(AND(Data!C129>34,Data!F129=\"Chest Pain\",Data!G129=\"No\"),1,0)","v":0}]
[{"$f":"IF(AND(Data!C130>34,Data!F130=\"Chest Pain\",Data!G130=\"No\"),1,0)","v":0}]
[{"$f":"IF(AND(Data!C131>34,Data!F131=\"Chest Pain\",Data!G131=\"No\"),1,0)","v":0}]
[{"$f":"IF(AND(Data!C132>34,Data!F132=\"Chest Pain\",Data!G132=\"No\"),1,0)","v":0}]
[{"$f":"IF(AND(Data!C133>34,Data!F133=\"Chest Pain\",Data!G133=\"No\"),1,0)","v":0}]
[{"$f":"IF(AND(Data!C134>34,Data!F134=\"Chest Pain\",Data!G134=\"No\"),1,0)","v":0}]
[{"$f":"IF(AND(Data!C135>34,Data!F135=\"Chest Pain\",Data!G135=\"No\"),1,0)","v":0}]
[{"$f":"IF(AND(Data!C136>34,Data!F136=\"Chest Pain\",Data!G136=\"No\"),1,0)","v":0}]
[{"$f":"IF(AND(Data!C137>34,Data!F137=\"Chest Pain\",Data!G137=\"No\"),1,0)","v":0}]
[{"$f":"IF(AND(Data!C138>34,Data!F138=\"Chest Pain\",Data!G138=\"No\"),1,0)","v":0}]
[{"$f":"IF(AND(Data!C139>34,Data!F139=\"Chest Pain\",Data!G139=\"No\"),1,0)","v":0}]
[{"$f":"IF(AND(Data!C140>34,Data!F140=\"Chest Pain\",Data!G140=\"No\"),1,0)","v":0}]
[{"$f":"IF(AND(Data!C141>34,Data!F141=\"Chest Pain\",Data!G141=\"No\"),1,0)","v":0}]
[{"$f":"IF(AND(Data!C142>34,Data!F142=\"Chest Pain\",Data!G142=\"No\"),1,0)","v":0}]
[{"$f":"IF(AND(Data!C143>34,Data!F143=\"Chest Pain\",Data!G143=\"No\"),1,0)","v":0}]
[{"$f":"IF(AND(Data!C144>34,Data!F144=\"Chest Pain\",Data!G144=\"No\"),1,0)","v":0}]
[{"$f":"IF(AND(Data!C145>34,Data!F145=\"Chest Pain\",Data!G145=\"No\"),1,0)","v":0}]
[{"$f":"IF(AND(Data!C146>34,Data!F146=\"Chest Pain\",Data!G146=\"No\"),1,0)","v":0}]
[{"$f":"IF(AND(Data!C147>34,Data!F147=\"Chest Pain\",Data!G147=\"No\"),1,0)","v":0}]
[{"$f":"IF(AND(Data!C148>34,Data!F148=\"Chest Pain\",Data!G148=\"No\"),1,0)","v":0}]
[{"$f":"IF(AND(Data!C149>34,Data!F149=\"Chest Pain\",Data!G149=\"No\"),1,0)","v":0}]
[{"$f":"IF(AND(Data!C150>34,Data!F150=\"Chest Pain\",Data!G150=\"No\"),1,0)","v":0}]
[{"$f":"IF(AND(Data!C151>34,Data!F151=\"Chest Pain\",Data!G151=\"No\"),1,0)","v":0}]
[{"$f":"IF(AND(Data!C152>34,Data!F152=\"Chest Pain\",Data!G152=\"No\"),1,0)","v":0}]
[{"$f":"IF(AND(Data!C153>34,Data!F153=\"Chest Pain\",Data!G153=\"No\"),1,0)","v":0}]
[{"$f":"IF(AND(Data!C154>34,Data!F154=\"Chest Pain\",Data!G154=\"No\"),1,0)","v":0}]
[{"$f":"IF(AND(Data!C155>34,Data!F155=\"Chest Pain\",Data!G155=\"No\"),1,0)","v":0}]
[{"$f":"IF(AND(Data!C156>34,Data!F156=\"Chest Pain\",Data!G156=\"No\"),1,0)","v":0}]
[{"$f":"IF(AND(Data!C157>34,Data!F157=\"Chest Pain\",Data!G157=\"No\"),1,0)","v":0}]
[{"$f":"IF(AND(Data!C158>34,Data!F158=\"Chest Pain\",Data!G158=\"No\"),1,0)","v":0}]
[{"$f":"IF(AND(Data!C159>34,Data!F159=\"Chest Pain\",Data!G159=\"No\"),1,0)","v":0}]
[{"$f":"IF(AND(Data!C160>34,Data!F160=\"Chest Pain\",Data!G160=\"No\"),1,0)","v":0}]
[{"$f":"IF(AND(Data!C161>34,Data!F161=\"Chest Pain\",Data!G161=\"No\"),1,0)","v":0}]
[{"$f":"IF(AND(Data!C162>34,Data!F162=\"Chest Pain\",Data!G162=\"No\"),1,0)","v":0}]
[{"$f":"IF(AND(Data!C163>34,Data!F163=\"Chest Pain\",Data!G163=\"No\"),1,0)","v":0}]
[{"$f":"IF(AND(Data!C164>34,Data!F164=\"Chest Pain\",Data!G164=\"No\"),1,0)","v":0}]
[{"$f":"IF(AND(Data!C165>34,Data!F165=\"Chest Pain\",Data!G165=\"No\"),1,0)","v":0}]
[{"$f":"IF(AND(Data!C166>34,Data!F166=\"Chest Pain\",Data!G166=\"No\"),1,0)","v":0}]
[{"$f":"IF(AND(Data!C167>34,Data!F167=\"Chest Pain\",Data!G167=\"No\"),1,0)","v":0}]
[{"$f":"IF(AND(Data!C168>34,Data!F168=\"Chest Pain\",Data!G168=\"No\"),1,0)","v":0}]
[{"$f":"IF(AND(Data!C169>34,Data!F169=\"Chest Pain\",Data!G169=\"No\"),1,0)","v":0}]
[{"$f":"IF(AND(Data!C170>34,Data!F170=\"Chest Pain\",Data!G170=\"No\"),1,0)","v":0}]
[{"$f":"IF(AND(Data!C171>34,Data!F171=\"Chest Pain\",Data!G171=\"No\"),1,0)","v":0}]
[{"$f":"IF(AND(Data!C172>34,Data!F172=\"Chest Pain\",Data!G172=\"No\"),1,0)","v":0}]
[{"$f":"IF(AND(Data!C173>34,Data!F173=\"Chest Pain\",Data!G173=\"No\"),1,0)","v":0}]
[{"$f":"IF(AND(Data!C174>34,Data!F174=\"Chest Pain\",Data!G174=\"No\"),1,0)","v":0}]
[{"$f":"IF(AND(Data!C175>34,Data!F175=\"Chest Pain\",Data!G175=\"No\"),1,0)","v":0}]
[{"$f":"IF(AND(Data!C176>34,Data!F176=\"Chest Pain\",Data!G176=\"No\"),1,0)","v":0}]
[{"$f":"IF(AND(Data!C177>34,Data!F177=\"Chest Pain\",Data!G177=\"No\"),1,0)","v":0}]
[{"$f":"IF(AND(Data!C178>34,Data!F178=\"Chest Pain\",Data!G178=\"No\"),1,0)","v":0}]
[{"$f":"IF(AND(Data!C179>34,Data!F179=\"Chest Pain\",Data!G179=\"No\"),1,0)","v":0}]
[{"$f":"IF(AND(Data!C180>34,Data!F180=\"Chest Pain\",Data!G180=\"No\"),1,0)","v":0}]
[{"$f":"IF(AND(Data!C181>34,Data!F181=\"Chest Pain\",Data!G181=\"No\"),1,0)","v":0}]
[{"$f":"IF(AND(Data!C182>34,Data!F182=\"Chest Pain\",Data!G182=\"No\"),1,0)","v":0}]
[{"$f":"IF(AND(Data!#REF!>34,Data!#REF!=\"Chest Pain\",Data!#REF!=\"No\"),1,0)","v":{"$error":"#REF!"}}]
[{"$f":"IF(AND(Data!C183>34,Data!F183=\"Chest Pain\",Data!G183=\"No\"),1,0)","v":0}]
[{"$f":"IF(AND(Data!C184>34,Data!F184=\"Chest Pain\",Data!G184=\"No\"),1,0)","v":0}]
[{"$f":"IF(AND(Data!C185>34,Data!F185=\"Chest Pain\",Data!G185=\"No\"),1,0)","v":0}]
[{"$f":"IF(AND(Data!C186>34,Data!F186=\"Chest Pain\",Data!G186=\"No\"),1,0)","v":0}]
[{"$f":"IF(AND(Data!C187>34,Data!F187=\"Chest Pain\",Data!G187=\"No\"),1,0)","v":0}]
[{"$f":"IF(AND(Data!C188>34,Data!F188=\"Chest Pain\",Data!G188=\"No\"),1,0)","v":0}]
[{"$f":"IF(AND(Data!C189>34,Data!F189=\"Chest Pain\",Data!G189=\"No\"),1,0)","v":0}]
[{"$f":"IF(AND(Data!C190>34,Data!F190=\"Chest Pain\",Data!G190=\"No\"),1,0)","v":0}]
[{"$f":"IF(AND(Data!C191>34,Data!F191=\"Chest Pain\",Data!G191=\"No\"),1,0)","v":0}]
[{"$f":"IF(AND(Data!C192>34,Data!F192=\"Chest Pain\",Data!G192=\"No\"),1,0)","v":0}]
[{"$f":"IF(AND(Data!C193>34,Data!F193=\"Chest Pain\",Data!G193=\"No\"),1,0)","v":0}]
[{"$f":"IF(AND(Data!C194>34,Data!F194=\"Chest Pain\",Data!G194=\"No\"),1,0)","v":0}]
[{"$f":"IF(AND(Data!C195>34,Data!F195=\"Chest Pain\",Data!G195=\"No\"),1,0)","v":0}]
[{"$f":"IF(AND(Data!C196>34,Data!F196=\"Chest Pain\",Data!G196=\"No\"),1,0)","v":0}]
[{"$f":"IF(AND(Data!C197>34,Data!F197=\"Chest Pain\",Data!G197=\"No\"),1,0)","v":0}]
[{"$f":"IF(AND(Data!C198>34,Data!F198=\"Chest Pain\",Data!G198=\"No\"),1,0)","v":0}]
[{"$f":"IF(AND(Data!C199>34,Data!F199=\"Chest Pain\",Data!G199=\"No\"),1,0)","v":0}]
[{"$f":"IF(AND(Data!C200>34,Data!F200=\"Chest Pain\",Data!G200=\"No\"),1,0)","v":0}]
[{"$f":"IF(AND(Data!C201>34,Data!F201=\"Chest Pain\",Data!G201=\"No\"),1,0)","v":0}]
[{"$f":"IF(AND(Data!C202>34,Data!F202=\"Chest Pain\",Data!G202=\"No\"),1,0)","v":0}]
[{"$f":"IF(AND(Data!C203>34,Data!F203=\"Chest Pain\",Data!G203=\"No\"),1,0)","v":0}]
[{"$f":"IF(AND(Data!C204>34,Data!F204=\"Chest Pain\",Data!G204=\"No\"),1,0)","v":0}]
[{"$f":"IF(AND(Data!C205>34,Data!F205=\"Chest Pain\",Data!G205=\"No\"),1,0)","v":0}]
[{"$f":"IF(AND(Data!C206>34,Data!F206=\"Chest Pain\",Data!G206=\"No\"),1,0)","v":0}]
[{"$f":"IF(AND(Data!C207>34,Data!F207=\"Chest Pain\",Data!G207=\"No\"),1,0)","v":0}]
[{"$f":"IF(AND(Data!C208>34,Data!F208=\"Chest Pain\",Data!G208=\"No\"),1,0)","v":0}]
[{"$f":"IF(AND(Data!C209>34,Data!F209=\"Chest Pain\",Data!G209=\"No\"),1,0)","v":0}]
[{"$f":"IF(AND(Data!C210>34,Data!F210=\"Chest Pain\",Data!G210=\"No\"),1,0)","v":0}]
[{"$f":"IF(AND(Data!C211>34,Data!F211=\"Chest Pain\",Data!G211=\"No\"),1,0)","v":0}]
[{"$f":"IF(AND(Data!C212>34,Data!F212=\"Chest Pain\",Data!G212=\"No\"),1,0)","v":0}]
[{"$f":"IF(AND(Data!C213>34,Data!F213=\"Chest Pain\",Data!G213=\"No\"),1,0)","v":0}]
[{"$f":"IF(AND(Data!C214>34,Data!F214=\"Chest Pain\",Data!G214=\"No\"),1,0)","v":0}]
[{"$f":"IF(AND(Data!C215>34,Data!F215=\"Chest Pain\",Data!G215=\"No\"),1,0)","v":0}]
[{"$f":"IF(AND(Data!C216>34,Data!F216=\"Chest Pain\",Data!G216=\"No\"),1,0)","v":0}]
[{"$f":"IF(AND(Data!C217>34,Data!F217=\"Chest Pain\",Data!G217=\"No\"),1,0)","v":0}]
[{"$f":"IF(AND(Data!C218>34,Data!F218=\"Chest Pain\",Data!G218=\"No\"),1,0)","v":0}]
[{"$f":"IF(AND(Data!C219>34,Data!F219=\"Chest Pain\",Data!G219=\"No\"),1,0)","v":0}]
[{"$f":"IF(AND(Data!C220>34,Data!F220=\"Chest Pain\",Data!G220=\"No\"),1,0)","v":0}]
[{"$f":"IF(AND(Data!C221>34,Data!F221=\"Chest Pain\",Data!G221=\"No\"),1,0)","v":0}]
[{"$f":"IF(AND(Data!C222>34,Data!F222=\"Chest Pain\",Data!G222=\"No\"),1,0)","v":0}]
[{"$f":"IF(AND(Data!C223>34,Data!F223=\"Chest Pain\",Data!G223=\"No\"),1,0)","v":0}]
[{"$f":"IF(AND(Data!C224>34,Data!F224=\"Chest Pain\",Data!G224=\"No\"),1,0)","v":0}]
[{"$f":"IF(AND(Data!C225>34,Data!F225=\"Chest Pain\",Data!G225=\"No\"),1,0)","v":0}]
[{"$f":"IF(AND(Data!C226>34,Data!F226=\"Chest Pain\",Data!G226=\"No\"),1,0)","v":0}]
[{"$f":"IF(AND(Data!C227>34,Data!F227=\"Chest Pain\",Data!G227=\"No\"),1,0)","v":0}]
[{"$f":"IF(AND(Data!C228>34,Data!F228=\"Chest Pain\",Data!G228=\"No\"),1,0)","v":0}]
[{"$f":"IF(AND(Data!C229>34,Data!F229=\"Chest Pain\",Data!G229=\"No\"),1,0)","v":0}]
[{"$f":"IF(AND(Data!C230>34,Data!F230=\"Chest Pain\",Data!G230=\"No\"),1,0)","v":0}]
[{"$f":"IF(AND(Data!C231>34,Data!F231=\"Chest Pain\",Data!G231=\"No\"),1,0)","v":0}]
[{"$f":"IF(AND(Data!C232>34,Data!F232=\"Chest Pain\",Data!G232=\"No\"),1,0)","v":0}]
[{"$f":"IF(AND(Data!C233>34,Data!F233=\"Chest Pain\",Data!G233=\"No\"),1,0)","v":0}]
[{"$f":"IF(AND(Data!C234>34,Data!F234=\"Chest Pain\",Data!G234=\"No\"),1,0)","v":0}]
[{"$f":"IF(AND(Data!C235>34,Data!F235=\"Chest Pain\",Data!G235=\"No\"),1,0)","v":0}]
[{"$f":"IF(AND(Data!C236>34,Data!F236=\"Chest Pain\",Data!G236=\"No\"),1,0)","v":0}]
[{"$f":"IF(AND(Data!C237>34,Data!F237=\"Chest Pain\",Data!G237=\"No\"),1,0)","v":0}]
[{"$f":"IF(AND(Data!C238>34,Data!F238=\"Chest Pain\",Data!G238=\"No\"),1,0)","v":0}]
[{"$f":"IF(AND(Data!C239>34,Data!F239=\"Chest Pain\",Data!G239=\"No\"),1,0)","v":0}]
[{"$f":"IF(AND(Data!C240>34,Data!F240=\"Chest Pain\",Data!G240=\"No\"),1,0)","v":0}]
[{"$f":"IF(AND(Data!C241>34,Data!F241=\"Chest Pain\",Data!G241=\"No\"),1,0)","v":0}]
[{"$f":"IF(AND(Data!C242>34,Data!F242=\"Chest Pain\",Data!G242=\"No\"),1,0)","v":0}]
[{"$f":"IF(AND(Data!C243>34,Data!F243=\"Chest Pain\",Data!G243=\"No\"),1,0)","v":0}]
[{"$f":"IF(AND(Data!C244>34,Data!F244=\"Chest Pain\",Data!G244=\"No\"),1,0)","v":0}]
[{"$f":"IF(AND(Data!C245>34,Data!F245=\"Chest Pain\",Data!G245=\"No\"),1,0)","v":0}]
[{"$f":"IF(AND(Data!C246>34,Data!F246=\"Chest Pain\",Data!G246=\"No\"),1,0)","v":0}]
[{"$f":"IF(AND(Data!C247>34,Data!F247=\"Chest Pain\",Data!G247=\"No\"),1,0)","v":0}]
[{"$f":"IF(AND(Data!C248>34,Data!F248=\"Chest Pain\",Data!G248=\"No\"),1,0)","v":0}]
[{"$f":"IF(AND(Data!C249>34,Data!F249=\"Chest Pain\",Data!G249=\"No\"),1,0)","v":0}]
[{"$f":"IF(AND(Data!C250>34,Data!F250=\"Chest Pain\",Data!G250=\"No\"),1,0)","v":0}]
[{"$f":"IF(AND(Data!C251>34,Data!F251=\"Chest Pain\",Data!G251=\"No\"),1,0)","v":0}]
[{"$f":"IF(AND(Data!C252>34,Data!F252=\"Chest Pain\",Data!G252=\"No\"),1,0)","v":0}]
[{"$f":"IF(AND(Data!C253>34,Data!F253=\"Chest Pain\",Data!G253=\"No\"),1,0)","v":0}]
[{"$f":"IF(AND(Data!C254>34,Data!F254=\"Chest Pain\",Data!G254=\"No\"),1,0)","v":0}]
[{"$f":"IF(AND(Data!C255>34,Data!F255=\"Chest Pain\",Data!G255=\"No\"),1,0)","v":0}]
[{"$f":"IF(AND(Data!C256>34,Data!F256=\"Chest Pain\",Data!G256=\"No\"),1,0)","v":0}]
[{"$f":"IF(AND(Data!C257>34,Data!F257=\"Chest Pain\",Data!G257=\"No\"),1,0)","v":0}]
[{"$f":"IF(AND(Data!C258>34,Data!F258=\"Chest Pain\",Data!G258=\"No\"),1,0)","v":0}]
[{"$f":"IF(AND(Data!C259>34,Data!F259=\"Chest Pain\",Data!G259=\"No\"),1,0)","v":0}]
[{"$f":"IF(AND(Data!C260>34,Data!F260=\"Chest Pain\",Data!G260=\"No\"),1,0)","v":0}]
[{"$f":"IF(AND(Data!C261>34,Data!F261=\"Chest Pain\",Data!G261=\"No\"),1,0)","v":0}]
[{"$f":"IF(AND(Data!C262>34,Data!F262=\"Chest Pain\",Data!G262=\"No\"),1,0)","v":0}]
[{"$f":"IF(AND(Data!C263>34,Data!F263=\"Chest Pain\",Data!G263=\"No\"),1,0)","v":0}]
[{"$f":"IF(AND(Data!C264>34,Data!F264=\"Chest Pain\",Data!G264=\"No\"),1,0)","v":0}]
[{"$f":"IF(AND(Data!C265>34,Data!F265=\"Chest Pain\",Data!G265=\"No\"),1,0)","v":0}]
[{"$f":"IF(AND(Data!C266>34,Data!F266=\"Chest Pain\",Data!G266=\"No\"),1,0)","v":0}]
[{"$f":"IF(AND(Data!C267>34,Data!F267=\"Chest Pain\",Data!G267=\"No\"),1,0)","v":0}]
[{"$f":"IF(AND(Data!C268>34,Data!F268=\"Chest Pain\",Data!G268=\"No\"),1,0)","v":0}]
[{"$f":"IF(AND(Data!C269>34,Data!F269=\"Chest Pain\",Data!G269=\"No\"),1,0)","v":0}]
[{"$f":"IF(AND(Data!C270>34,Data!F270=\"Chest Pain\",Data!G270=\"No\"),1,0)","v":0}]
[{"$f":"IF(AND(Data!C271>34,Data!F271=\"Chest Pain\",Data!G271=\"No\"),1,0)","v":0}]
[{"$f":"IF(AND(Data!C272>34,Data!F272=\"Chest Pain\",Data!G272=\"No\"),1,0)","v":0}]
[{"$f":"IF(AND(Data!C273>34,Data!F273=\"Chest Pain\",Data!G273=\"No\"),1,0)","v":0}]
[{"$f":"IF(AND(Data!C274>34,Data!F274=\"Chest Pain\",Data!G274=\"No\"),1,0)","v":0}]
[{"$f":"IF(AND(Data!C275>34,Data!F275=\"Chest Pain\",Data!G275=\"No\"),1,0)","v":0}]
[{"$f":"IF(AND(Data!C276>34,Data!F276=\"Chest Pain\",Data!G276=\"No\"),1,0)","v":0}]
[{"$f":"IF(AND(Data!C277>34,Data!F277=\"Chest Pain\",Data!G277=\"No\"),1,0)","v":0}]
[{"$f":"IF(AND(Data!C278>34,Data!F278=\"Chest Pain\",Data!G278=\"No\"),1,0)","v":0}]
[{"$f":"IF(AND(Data!C279>34,Data!F279=\"Chest Pain\",Data!G279=\"No\"),1,0)","v":0}]
[{"$f":"IF(AND(Data!C280>34,Data!F280=\"Chest Pain\",Data!G280=\"No\"),1,0)","v":0}]
[{"$f":"IF(AND(Data!C281>34,Data!F281=\"Chest Pain\",Data!G281=\"No\"),1,0)","v":0}]
[{"$f":"IF(AND(Data!C282>34,Data!F282=\"Chest Pain\",Data!G282=\"No\"),1,0)","v":0}]
[{"$f":"IF(AND(Data!C283>34,Data!F283=\"Chest Pain\",Data!G283=\"No\"),1,0)","v":0}]
[{"$f":"IF(AND(Data!C284>34,Data!F284=\"Chest Pain\",Data!G284=\"No\"),1,0)","v":0}]
[{"$f":"IF(AND(Data!C285>34,Data!F285=\"Chest Pain\",Data!G285=\"No\"),1,0)","v":0}]
[{"$f":"IF(AND(Data!C286>34,Data!F286=\"Chest Pain\",Data!G286=\"No\"),1,0)","v":0}]
[{"$f":"IF(AND(Data!C287>34,Data!F287=\"Chest Pain\",Data!G287=\"No\"),1,0)","v":0}]
[{"$f":"IF(AND(Data!C288>34,Data!F288=\"Chest Pain\",Data!G288=\"No\"),1,0)","v":0}]
[{"$f":"IF(AND(Data!C289>34,Data!F289=\"Chest Pain\",Data!G289=\"No\"),1,0)","v":0}]
[{"$f":"IF(AND(Data!C290>34,Data!F290=\"Chest Pain\",Data!G290=\"No\"),1,0)","v":0}]
[{"$f":"IF(AND(Data!C291>34,Data!F291=\"Chest Pain\",Data!G291=\"No\"),1,0)","v":0}]
[{"$f":"IF(AND(Data!C292>34,Data!F292=\"Chest Pain\",Data!G292=\"No\"),1,0)","v":0}]
[{"$f":"IF(AND(Data!C293>34,Data!F293=\"Chest Pain\",Data!G293=\"No\"),1,0)","v":0}]
[{"$f":"IF(AND(Data!C294>34,Data!F294=\"Chest Pain\",Data!G294=\"No\"),1,0)","v":0}]
[{"$f":"IF(AND(Data!C295>34,Data!F295=\"Chest Pain\",Data!G295=\"No\"),1,0)","v":0}]
[{"$f":"IF(AND(Data!C296>34,Data!F296=\"Chest Pain\",Data!G296=\"No\"),1,0)","v":0}]
[{"$f":"IF(AND(Data!C297>34,Data!F297=\"Chest Pain\",Data!G297=\"No\"),1,0)","v":0}]
[{"$f":"IF(AND(Data!C298>34,Data!F298=\"Chest Pain\",Data!G298=\"No\"),1,0)","v":0}]
[{"$f":"IF(AND(Data!C299>34,Data!F299=\"Chest Pain\",Data!G299=\"No\"),1,0)","v":0}]
[{"$f":"IF(AND(Data!C300>34,Data!F300=\"Chest Pain\",Data!G300=\"No\"),1,0)","v":0}]
[{"$f":"IF(AND(Data!C301>34,Data!F301=\"Chest Pain\",Data!G301=\"No\"),1,0)","v":0}]
[{"$f":"IF(AND(Data!C302>34,Data!F302=\"Chest Pain\",Data!G302=\"No\"),1,0)","v":0}]
[{"$f":"IF(AND(Data!C303>34,Data!F303=\"Chest Pain\",Data!G303=\"No\"),1,0)","v":0}]
[{"$f":"IF(AND(Data!C304>34,Data!F304=\"Chest Pain\",Data!G304=\"No\"),1,0)","v":0}]
[{"$f":"IF(AND(Data!C305>34,Data!F305=\"Chest Pain\",Data!G305=\"No\"),1,0)","v":0}]
[{"$f":"IF(AND(Data!C306>34,Data!F306=\"Chest Pain\",Data!G306=\"No\"),1,0)","v":0}]
[{"$f":"IF(AND(Data!C307>34,Data!F307=\"Chest Pain\",Data!G307=\"No\"),1,0)","v":0}]
[{"$f":"IF(AND(Data!C308>34,Data!F308=\"Chest Pain\",Data!G308=\"No\"),1,0)","v":0}]
[{"$f":"IF(AND(Data!C309>34,Data!F309=\"Chest Pain\",Data!G309=\"No\"),1,0)","v":0}]
[{"$f":"IF(AND(Data!C310>34,Data!F310=\"Chest Pain\",Data!G310=\"No\"),1,0)","v":0}]
[{"$f":"IF(AND(Data!C311>34,Data!F311=\"Chest Pain\",Data!G311=\"No\"),1,0)","v":0}]
[{"$f":"IF(AND(Data!C312>34,Data!F312=\"Chest Pain\",Data!G312=\"No\"),1,0)","v":0}]
[{"$f":"IF(AND(Data!C313>34,Data!F313=\"Chest Pain\",Data!G313=\"No\"),1,0)","v":0}]
[{"$f":"IF(AND(Data!C314>34,Data!F314=\"Chest Pain\",Data!G314=\"No\"),1,0)","v":0}]
[{"$f":"IF(AND(Data!C315>34,Data!F315=\"Chest Pain\",Data!G315=\"No\"),1,0)","v":0}]
[{"$f":"IF(AND(Data!C316>34,Data!F316=\"Chest Pain\",Data!G316=\"No\"),1,0)","v":0}]
[{"$f":"IF(AND(Data!C317>34,Data!F317=\"Chest Pain\",Data!G317=\"No\"),1,0)","v":0}]
[{"$f":"IF(AND(Data!C318>34,Data!F318=\"Chest Pain\",Data!G318=\"No\"),1,0)","v":0}]
[{"$f":"IF(AND(Data!C319>34,Data!F319=\"Chest Pain\",Data!G319=\"No\"),1,0)","v":0}]
[{"$f":"IF(AND(Data!C320>34,Data!F320=\"Chest Pain\",Data!G320=\"No\"),1,0)","v":0}]
[{"$f":"IF(AND(Data!C321>34,Data!F321=\"Chest Pain\",Data!G321=\"No\"),1,0)","v":0}]
[{"$f":"IF(AND(Data!C322>34,Data!F322=\"Chest Pain\",Data!G322=\"No\"),1,0)","v":0}]
[{"$f":"IF(AND(Data!C323>34,Data!F323=\"Chest Pain\",Data!G323=\"No\"),1,0)","v":0}]
[{"$f":"IF(AND(Data!C324>34,Data!F324=\"Chest Pain\",Data!G324=\"No\"),1,0)","v":0}]
[{"$f":"IF(AND(Data!C325>34,Data!F325=\"Chest Pain\",Data!G325=\"No\"),1,0)","v":0}]
[{"$f":"IF(AND(Data!C326>34,Data!F326=\"Chest Pain\",Data!G326=\"No\"),1,0)","v":0}]
[{"$f":"IF(AND(Data!C327>34,Data!F327=\"Chest Pain\",Data!G327=\"No\"),1,0)","v":0}]
[{"$f":"IF(AND(Data!C328>34,Data!F328=\"Chest Pain\",Data!G328=\"No\"),1,0)","v":0}]
[{"$f":"IF(AND(Data!C329>34,Data!F329=\"Chest Pain\",Data!G329=\"No\"),1,0)","v":0}]
[{"$f":"IF(AND(Data!C330>34,Data!F330=\"Chest Pain\",Data!G330=\"No\"),1,0)","v":0}]
[{"$f":"IF(AND(Data!C331>34,Data!F331=\"Chest Pain\",Data!G331=\"No\"),1,0)","v":0}]
[{"$f":"IF(AND(Data!C332>34,Data!F332=\"Chest Pain\",Data!G332=\"No\"),1,0)","v":0}]
[{"$f":"IF(AND(Data!C333>34,Data!F333=\"Chest Pain\",Data!G333=\"No\"),1,0)","v":0}]
[{"$f":"IF(AND(Data!C334>34,Data!F334=\"Chest Pain\",Data!G334=\"No\"),1,0)","v":0}]
[{"$f":"IF(AND(Data!C335>34,Data!F335=\"Chest Pain\",Data!G335=\"No\"),1,0)","v":0}]
[{"$f":"IF(AND(Data!C336>34,Data!F336=\"Chest Pain\",Data!G336=\"No\"),1,0)","v":0}]
[{"$f":"IF(AND(Data!C337>34,Data!F337=\"Chest Pain\",Data!G337=\"No\"),1,0)","v":0}]
[{"$f":"IF(AND(Data!C338>34,Data!F338=\"Chest Pain\",Data!G338=\"No\"),1,0)","v":0}]
[{"$f":"IF(AND(Data!C339>34,Data!F339=\"Chest Pain\",Data!G339=\"No\"),1,0)","v":0}]
[{"$f":"IF(AND(Data!C340>34,Data!F340=\"Chest Pain\",Data!G340=\"No\"),1,0)","v":0}]
[{"$f":"IF(AND(Data!C341>34,Data!F341=\"Chest Pain\",Data!G341=\"No\"),1,0)","v":0}]
[{"$f":"IF(AND(Data!C342>34,Data!F342=\"Chest Pain\",Data!G342=\"No\"),1,0)","v":0}]
[{"$f":"IF(AND(Data!C343>34,Data!F343=\"Chest Pain\",Data!G343=\"No\"),1,0)","v":0}]
[{"$f":"IF(AND(Data!C344>34,Data!F344=\"Chest Pain\",Data!G344=\"No\"),1,0)","v":0}]
[{"$f":"IF(AND(Data!C345>34,Data!F345=\"Chest Pain\",Data!G345=\"No\"),1,0)","v":0}]
[{"$f":"IF(AND(Data!C346>34,Data!F346=\"Chest Pain\",Data!G346=\"No\"),1,0)","v":0}]
[{"$f":"IF(AND(Data!C347>34,Data!F347=\"Chest Pain\",Data!G347=\"No\"),1,0)","v":0}]
[{"$f":"IF(AND(Data!C348>34,Data!F348=\"Chest Pain\",Data!G348=\"No\"),1,0)","v":0}]
[{"$f":"IF(AND(Data!C349>34,Data!F349=\"Chest Pain\",Data!G349=\"No\"),1,0)","v":0}]
[{"$f":"IF(AND(Data!C350>34,Data!F350=\"Chest Pain\",Data!G350=\"No\"),1,0)","v":0}]
[{"$f":"IF(AND(Data!C351>34,Data!F351=\"Chest Pain\",Data!G351=\"No\"),1,0)","v":0}]
[{"$f":"IF(AND(Data!C352>34,Data!F352=\"Chest Pain\",Data!G352=\"No\"),1,0)","v":0}]
[{"$f":"IF(AND(Data!C353>34,Data!F353=\"Chest Pain\",Data!G353=\"No\"),1,0)","v":0}]
[{"$f":"IF(AND(Data!C354>34,Data!F354=\"Chest Pain\",Data!G354=\"No\"),1,0)","v":0}]
[{"$f":"IF(AND(Data!C355>34,Data!F355=\"Chest Pain\",Data!G355=\"No\"),1,0)","v":0}]
[{"$f":"IF(AND(Data!C356>34,Data!F356=\"Chest Pain\",Data!G356=\"No\"),1,0)","v":0}]
[{"$f":"IF(AND(Data!C357>34,Data!F357=\"Chest Pain\",Data!G357=\"No\"),1,0)","v":0}]
[{"$f":"IF(AND(Data!C358>34,Data!F358=\"Chest Pain\",Data!G358=\"No\"),1,0)","v":0}]
[{"$f":"IF(AND(Data!C359>34,Data!F359=\"Chest Pain\",Data!G359=\"No\"),1,0)","v":0}]
[{"$f":"IF(AND(Data!C360>34,Data!F360=\"Chest Pain\",Data!G360=\"No\"),1,0)","v":0}]
[{"$f":"IF(AND(Data!C361>34,Data!F361=\"Chest Pain\",Data!G361=\"No\"),1,0)","v":0}]
[{"$f":"IF(AND(Data!C362>34,Data!F362=\"Chest Pain\",Data!G362=\"No\"),1,0)","v":0}]
[{"$f":"IF(AND(Data!C363>34,Data!F363=\"Chest Pain\",Data!G363=\"No\"),1,0)","v":0}]
[{"$f":"IF(AND(Data!C364>34,Data!F364=\"Chest Pain\",Data!G364=\"No\"),1,0)","v":0}]
[{"$f":"IF(AND(Data!C365>34,Data!F365=\"Chest Pain\",Data!G365=\"No\"),1,0)","v":0}]
[{"$f":"IF(AND(Data!C366>34,Data!F366=\"Chest Pain\",Data!G366=\"No\"),1,0)","v":0}]
[{"$f":"IF(AND(Data!C367>34,Data!F367=\"Chest Pain\",Data!G367=\"No\"),1,0)","v":0}]
[{"$f":"IF(AND(Data!C368>34,Data!F368=\"Chest Pain\",Data!G368=\"No\"),1,0)","v":0}]
[{"$f":"IF(AND(Data!C369>34,Data!F369=\"Chest Pain\",Data!G369=\"No\"),1,0)","v":0}]
[{"$f":"IF(AND(Data!C370>34,Data!F370=\"Chest Pain\",Data!G370=\"No\"),1,0)","v":0}]
[{"$f":"IF(AND(Data!C371>34,Data!F371=\"Chest Pain\",Data!G371=\"No\"),1,0)","v":0}]
[{"$f":"IF(AND(Data!C372>34,Data!F372=\"Chest Pain\",Data!G372=\"No\"),1,0)","v":0}]
[{"$f":"IF(AND(Data!C373>34,Data!F373=\"Chest Pain\",Data!G373=\"No\"),1,0)","v":0}]
[{"$f":"IF(AND(Data!C374>34,Data!F374=\"Chest Pain\",Data!G374=\"No\"),1,0)","v":0}]
[{"$f":"IF(AND(Data!C375>34,Data!F375=\"Chest Pain\",Data!G375=\"No\"),1,0)","v":0}]
[{"$f":"IF(AND(Data!C376>34,Data!F376=\"Chest Pain\",Data!G376=\"No\"),1,0)","v":0}]
[{"$f":"IF(AND(Data!C377>34,Data!F377=\"Chest Pain\",Data!G377=\"No\"),1,0)","v":0}]
[{"$f":"IF(AND(Data!C378>34,Data!F378=\"Chest Pain\",Data!G378=\"No\"),1,0)","v":0}]
[{"$f":"IF(AND(Data!C379>34,Data!F379=\"Chest Pain\",Data!G379=\"No\"),1,0)","v":0}]
[{"$f":"IF(AND(Data!C380>34,Data!F380=\"Chest Pain\",Data!G380=\"No\"),1,0)","v":0}]
[{"$f":"IF(AND(Data!C381>34,Data!F381=\"Chest Pain\",Data!G381=\"No\"),1,0)","v":0}]
[{"$f":"IF(AND(Data!C382>34,Data!F382=\"Chest Pain\",Data!G382=\"No\"),1,0)","v":0}]
[{"$f":"IF(AND(Data!C383>34,Data!F383=\"Chest Pain\",Data!G383=\"No\"),1,0)","v":0}]
[{"$f":"IF(AND(Data!C384>34,Data!F384=\"Chest Pain\",Data!G384=\"No\"),1,0)","v":0}]
[{"$f":"IF(AND(Data!C385>34,Data!F385=\"Chest Pain\",Data!G385=\"No\"),1,0)","v":0}]
[{"$f":"IF(AND(Data!C386>34,Data!F386=\"Chest Pain\",Data!G386=\"No\"),1,0)","v":0}]
[{"$f":"IF(AND(Data!C387>34,Data!F387=\"Chest Pain\",Data!G387=\"No\"),1,0)","v":0}]
[{"$f":"IF(AND(Data!C388>34,Data!F388=\"Chest Pain\",Data!G388=\"No\"),1,0)","v":0}]
[{"$f":"IF(AND(Data!C389>34,Data!F389=\"Chest Pain\",Data!G389=\"No\"),1,0)","v":0}]
[{"$f":"IF(AND(Data!C390>34,Data!F390=\"Chest Pain\",Data!G390=\"No\"),1,0)","v":0}]
[{"$f":"IF(AND(Data!C391>34,Data!F391=\"Chest Pain\",Data!G391=\"No\"),1,0)","v":0}]
[{"$f":"IF(AND(Data!C392>34,Data!F392=\"Chest Pain\",Data!G392=\"No\"),1,0)","v":0}]
[{"$f":"IF(AND(Data!C393>34,Data!F393=\"Chest Pain\",Data!G393=\"No\"),1,0)","v":0}]
[{"$f":"IF(AND(Data!C394>34,Data!F394=\"Chest Pain\",Data!G394=\"No\"),1,0)","v":0}]
[{"$f":"IF(AND(Data!C395>34,Data!F395=\"Chest Pain\",Data!G395=\"No\"),1,0)","v":0}]
[{"$f":"IF(AND(Data!C396>34,Data!F396=\"Chest Pain\",Data!G396=\"No\"),1,0)","v":0}]
[{"$f":"IF(AND(Data!C397>34,Data!F397=\"Chest Pain\",Data!G397=\"No\"),1,0)","v":0}]
[{"$f":"IF(AND(Data!C398>34,Data!F398=\"Chest Pain\",Data!G398=\"No\"),1,0)","v":0}]
[{"$f":"IF(AND(Data!C399>34,Data!F399=\"Chest Pain\",Data!G399=\"No\"),1,0)","v":0}]
[{"$f":"IF(AND(Data!C400>34,Data!F400=\"Chest Pain\",Data!G400=\"No\"),1,0)","v":0}]
[{"$f":"IF(AND(Data!C401>34,Data!F401=\"Chest Pain\",Data!G401=\"No\"),1,0)","v":0}]
[{"$f":"IF(AND(Data!C402>34,Data!F402=\"Chest Pain\",Data!G402=\"No\"),1,0)","v":0}]
[{"$f":"IF(AND(Data!C403>34,Data!F403=\"Chest Pain\",Data!G403=\"No\"),1,0)","v":0}]
[{"$f":"IF(AND(Data!C404>34,Data!F404=\"Chest Pain\",Data!G404=\"No\"),1,0)","v":0}]
[{"$f":"IF(AND(Data!C405>34,Data!F405=\"Chest Pain\",Data!G405=\"No\"),1,0)","v":0}]
[{"$f":"IF(AND(Data!C406>34,Data!F406=\"Chest Pain\",Data!G406=\"No\"),1,0)","v":0}]
[{"$f":"IF(AND(Data!C407>34,Data!F407=\"Chest Pain\",Data!G407=\"No\"),1,0)","v":0}]
[{"$f":"IF(AND(Data!C408>34,Data!F408=\"Chest Pain\",Data!G408=\"No\"),1,0)","v":0}]
[{"$f":"IF(AND(Data!C409>34,Data!F409=\"Chest Pain\",Data!G409=\"No\"),1,0)","v":0}]
[{"$f":"IF(AND(Data!C410>34,Data!F410=\"Chest Pain\",Data!G410=\"No\"),1,0)","v":0}]
[{"$f":"IF(AND(Data!C411>34,Data!F411=\"Chest Pain\",Data!G411=\"No\"),1,0)","v":0}]
[{"$f":"IF(AND(Data!C412>34,Data!F412=\"Chest Pain\",Data!G412=\"No\"),1,0)","v":0}]
[{"$f":"IF(AND(Data!C413>34,Data!F413=\"Chest Pain\",Data!G413=\"No\"),1,0)","v":0}]
[{"$f":"IF(AND(Data!C414>34,Data!F414=\"Chest Pain\",Data!G414=\"No\"),1,0)","v":0}]
[{"$f":"IF(AND(Data!C415>34,Data!F415=\"Chest Pain\",Data!G415=\"No\"),1,0)","v":0}]
[{"$f":"IF(AND(Data!C416>34,Data!F416=\"Chest Pain\",Data!G416=\"No\"),1,0)","v":0}]
[{"$f":"IF(AND(Data!C417>34,Data!F417=\"Chest Pain\",Data!G417=\"No\"),1,0)","v":0}]
[{"$f":"IF(AND(Data!C418>34,Data!F418=\"Chest Pain\",Data!G418=\"No\"),1,0)","v":0}]
[{"$f":"IF(AND(Data!C419>34,Data!F419=\"Chest Pain\",Data!G419=\"No\"),1,0)","v":0}]
[{"$f":"IF(AND(Data!C420>34,Data!F420=\"Chest Pain\",Data!G420=\"No\"),1,0)","v":0}]
[{"$f":"IF(AND(Data!C421>34,Data!F421=\"Chest Pain\",Data!G421=\"No\"),1,0)","v":0}]
[{"$f":"IF(AND(Data!C422>34,Data!F422=\"Chest Pain\",Data!G422=\"No\"),1,0)","v":0}]
[{"$f":"IF(AND(Data!C423>34,Data!F423=\"Chest Pain\",Data!G423=\"No\"),1,0)","v":0}]
[{"$f":"IF(AND(Data!C424>34,Data!F424=\"Chest Pain\",Data!G424=\"No\"),1,0)","v":0}]
[{"$f":"IF(AND(Data!C425>34,Data!F425=\"Chest Pain\",Data!G425=\"No\"),1,0)","v":0}]
[{"$f":"IF(AND(Data!C426>34,Data!F426=\"Chest Pain\",Data!G426=\"No\"),1,0)","v":0}]
[{"$f":"IF(AND(Data!C427>34,Data!F427=\"Chest Pain\",Data!G427=\"No\"),1,0)","v":0}]
[{"$f":"IF(AND(Data!C428>34,Data!F428=\"Chest Pain\",Data!G428=\"No\"),1,0)","v":0}]
[{"$f":"IF(AND(Data!C429>34,Data!F429=\"Chest Pain\",Data!G429=\"No\"),1,0)","v":0}]
[{"$f":"IF(AND(Data!C430>34,Data!F430=\"Chest Pain\",Data!G430=\"No\"),1,0)","v":0}]
[{"$f":"IF(AND(Data!C431>34,Data!F431=\"Chest Pain\",Data!G431=\"No\"),1,0)","v":0}]
[{"$f":"IF(AND(Data!C432>34,Data!F432=\"Chest Pain\",Data!G432=\"No\"),1,0)","v":0}]
[{"$f":"IF(AND(Data!C433>34,Data!F433=\"Chest Pain\",Data!G433=\"No\"),1,0)","v":0}]
[{"$f":"IF(AND(Data!C434>34,Data!F434=\"Chest Pain\",Data!G434=\"No\"),1,0)","v":0}]
[{"$f":"IF(AND(Data!C435>34,Data!F435=\"Chest Pain\",Data!G435=\"No\"),1,0)","v":0}]
[{"$f":"IF(AND(Data!C436>34,Data!F436=\"Chest Pain\",Data!G436=\"No\"),1,0)","v":0}]
[{"$f":"IF(AND(Data!C437>34,Data!F437=\"Chest Pain\",Data!G437=\"No\"),1,0)","v":0}]
[{"$f":"IF(AND(Data!C438>34,Data!F438=\"Chest Pain\",Data!G438=\"No\"),1,0)","v":0}]
[{"$f":"IF(AND(Data!C439>34,Data!F439=\"Chest Pain\",Data!G439=\"No\"),1,0)","v":0}]
[{"$f":"IF(AND(Data!C440>34,Data!F440=\"Chest Pain\",Data!G440=\"No\"),1,0)","v":0}]
[{"$f":"IF(AND(Data!C441>34,Data!F441=\"Chest Pain\",Data!G441=\"No\"),1,0)","v":0}]
[{"$f":"IF(AND(Data!C442>34,Data!F442=\"Chest Pain\",Data!G442=\"No\"),1,0)","v":0}]
[{"$f":"IF(AND(Data!C443>34,Data!F443=\"Chest Pain\",Data!G443=\"No\"),1,0)","v":0}]
[{"$f":"IF(AND(Data!C444>34,Data!F444=\"Chest Pain\",Data!G444=\"No\"),1,0)","v":0}]
[{"$f":"IF(AND(Data!C445>34,Data!F445=\"Chest Pain\",Data!G445=\"No\"),1,0)","v":0}]
[{"$f":"IF(AND(Data!C446>34,Data!F446=\"Chest Pain\",Data!G446=\"No\"),1,0)","v":0}]
[{"$f":"IF(AND(Data!C447>34,Data!F447=\"Chest Pain\",Data!G447=\"No\"),1,0)","v":0}]
[{"$f":"IF(AND(Data!C448>34,Data!F448=\"Chest Pain\",Data!G448=\"No\"),1,0)","v":0}]
[{"$f":"IF(AND(Data!C449>34,Data!F449=\"Chest Pain\",Data!G449=\"No\"),1,0)","v":0}]
[{"$f":"IF(AND(Data!C450>34,Data!F450=\"Chest Pain\",Data!G450=\"No\"),1,0)","v":0}]
[{"$f":"IF(AND(Data!C451>34,Data!F451=\"Chest Pain\",Data!G451=\"No\"),1,0)","v":0}]
[{"$f":"IF(AND(Data!C452>34,Data!F452=\"Chest Pain\",Data!G452=\"No\"),1,0)","v":0}]
[{"$f":"IF(AND(Data!C453>34,Data!F453=\"Chest Pain\",Data!G453=\"No\"),1,0)","v":0}]
[{"$f":"IF(AND(Data!C454>34,Data!F454=\"Chest Pain\",Data!G454=\"No\"),1,0)","v":0}]
[{"$f":"IF(AND(Data!C455>34,Data!F455=\"Chest Pain\",Data!G455=\"No\"),1,0)","v":0}]
[{"$f":"IF(AND(Data!C456>34,Data!F456=\"Chest Pain\",Data!G456=\"No\"),1,0)","v":0}]
[{"$f":"IF(AND(Data!C457>34,Data!F457=\"Chest Pain\",Data!G457=\"No\"),1,0)","v":0}]
[{"$f":"IF(AND(Data!C458>34,Data!F458=\"Chest Pain\",Data!G458=\"No\"),1,0)","v":0}]
[{"$f":"IF(AND(Data!C459>34,Data!F459=\"Chest Pain\",Data!G459=\"No\"),1,0)","v":0}]
[{"$f":"IF(AND(Data!C460>34,Data!F460=\"Chest Pain\",Data!G460=\"No\"),1,0)","v":0}]
[{"$f":"IF(AND(Data!C461>34,Data!F461=\"Chest Pain\",Data!G461=\"No\"),1,0)","v":0}]
[{"$f":"IF(AND(Data!C462>34,Data!F462=\"Chest Pain\",Data!G462=\"No\"),1,0)","v":0}]
[{"$f":"IF(AND(Data!C463>34,Data!F463=\"Chest Pain\",Data!G463=\"No\"),1,0)","v":0}]
[{"$f":"IF(AND(Data!C464>34,Data!F464=\"Chest Pain\",Data!G464=\"No\"),1,0)","v":0}]
[{"$f":"IF(AND(Data!C465>34,Data!F465=\"Chest Pain\",Data!G465=\"No\"),1,0)","v":0}]
[{"$f":"IF(AND(Data!C466>34,Data!F466=\"Chest Pain\",Data!G466=\"No\"),1,0)","v":0}]
[{"$f":"IF(AND(Data!C467>34,Data!F467=\"Chest Pain\",Data!G467=\"No\"),1,0)","v":0}]
[{"$f":"IF(AND(Data!C468>34,Data!F468=\"Chest Pain\",Data!G468=\"No\"),1,0)","v":0}]
[{"$f":"IF(AND(Data!C469>34,Data!F469=\"Chest Pain\",Data!G469=\"No\"),1,0)","v":0}]
[{"$f":"IF(AND(Data!C470>34,Data!F470=\"Chest Pain\",Data!G470=\"No\"),1,0)","v":0}]
[{"$f":"IF(AND(Data!C471>34,Data!F471=\"Chest Pain\",Data!G471=\"No\"),1,0)","v":0}]
[{"$f":"IF(AND(Data!C472>34,Data!F472=\"Chest Pain\",Data!G472=\"No\"),1,0)","v":0}]
[{"$f":"IF(AND(Data!C473>34,Data!F473=\"Chest Pain\",Data!G473=\"No\"),1,0)","v":0}]
[{"$f":"IF(AND(Data!C474>34,Data!F474=\"Chest Pain\",Data!G474=\"No\"),1,0)","v":0}]
[{"$f":"IF(AND(Data!C475>34,Data!F475=\"Chest Pain\",Data!G475=\"No\"),1,0)","v":0}]
[{"$f":"IF(AND(Data!C476>34,Data!F476=\"Chest Pain\",Data!G476=\"No\"),1,0)","v":0}]
[{"$f":"IF(AND(Data!C477>34,Data!F477=\"Chest Pain\",Data!G477=\"No\"),1,0)","v":0}]
[{"$f":"IF(AND(Data!C478>34,Data!F478=\"Chest Pain\",Data!G478=\"No\"),1,0)","v":0}]
[{"$f":"IF(AND(Data!C479>34,Data!F479=\"Chest Pain\",Data!G479=\"No\"),1,0)","v":0}]
[{"$f":"IF(AND(Data!C480>34,Data!F480=\"Chest Pain\",Data!G480=\"No\"),1,0)","v":0}]
[{"$f":"IF(AND(Data!C481>34,Data!F481=\"Chest Pain\",Data!G481=\"No\"),1,0)","v":0}]
[{"$f":"IF(AND(Data!C482>34,Data!F482=\"Chest Pain\",Data!G482=\"No\"),1,0)","v":0}]
[{"$f":"IF(AND(Data!C483>34,Data!F483=\"Chest Pain\",Data!G483=\"No\"),1,0)","v":0}]
[{"$f":"IF(AND(Data!C484>34,Data!F484=\"Chest Pain\",Data!G484=\"No\"),1,0)","v":0}]
[{"$f":"IF(AND(Data!C485>34,Data!F485=\"Chest Pain\",Data!G485=\"No\"),1,0)","v":0}]
[{"$f":"IF(AND(Data!C486>34,Data!F486=\"Chest Pain\",Data!G486=\"No\"),1,0)","v":0}]
[{"$f":"IF(AND(Data!C487>34,Data!F487=\"Chest Pain\",Data!G487=\"No\"),1,0)","v":0}]
[{"$f":"IF(AND(Data!C488>34,Data!F488=\"Chest Pain\",Data!G488=\"No\"),1,0)","v":0}]
[{"$f":"IF(AND(Data!C489>34,Data!F489=\"Chest Pain\",Data!G489=\"No\"),1,0)","v":0}]
[{"$f":"IF(AND(Data!C490>34,Data!F490=\"Chest Pain\",Data!G490=\"No\"),1,0)","v":0}]
[{"$f":"IF(AND(Data!C491>34,Data!F491=\"Chest Pain\",Data!G491=\"No\"),1,0)","v":0}]
[{"$f":"IF(AND(Data!C492>34,Data!F492=\"Chest Pain\",Data!G492=\"No\"),1,0)","v":0}]
[{"$f":"IF(AND(Data!C493>34,Data!F493=\"Chest Pain\",Data!G493=\"No\"),1,0)","v":0}]
[{"$f":"IF(AND(Data!C494>34,Data!F494=\"Chest Pain\",Data!G494=\"No\"),1,0)","v":0}]
[{"$f":"IF(AND(Data!C495>34,Data!F495=\"Chest Pain\",Data!G495=\"No\"),1,0)","v":0}]
[{"$f":"IF(AND(Data!C496>34,Data!F496=\"Chest Pain\",Data!G496=\"No\"),1,0)","v":0}]
[{"$f":"IF(AND(Data!C497>34,Data!F497=\"Chest Pain\",Data!G497=\"No\"),1,0)","v":0}]
[{"$f":"IF(AND(Data!C498>34,Data!F498=\"Chest Pain\",Data!G498=\"No\"),1,0)","v":0}]
[{"$f":"IF(AND(Data!C2399>34,Data!F2399=\"Chest Pain\",Data!G2399=\"No\"),1,0)","v":0}]
[{"$f":"IF(AND(Data!C500>34,Data!F500=\"Chest Pain\",Data!G500=\"No\"),1,0)","v":0}]
[{"$f":"IF(AND(Data!C501>34,Data!F501=\"Chest Pain\",Data!G501=\"No\"),1,0)","v":0}]
[{"$f":"IF(AND(Data!C502>34,Data!F502=\"Chest Pain\",Data!G502=\"No\"),1,0)","v":0}]
[{"$f":"IF(AND(Data!C503>34,Data!F503=\"Chest Pain\",Data!G503=\"No\"),1,0)","v":0}]
[{"$f":"IF(AND(Data!C504>34,Data!F504=\"Chest Pain\",Data!G504=\"No\"),1,0)","v":0}]
[{"$f":"IF(AND(Data!C505>34,Data!F505=\"Chest Pain\",Data!G505=\"No\"),1,0)","v":0}]
[{"$f":"IF(AND(Data!C506>34,Data!F506=\"Chest Pain\",Data!G506=\"No\"),1,0)","v":0}]
[{"$f":"IF(AND(Data!C507>34,Data!F507=\"Chest Pain\",Data!G507=\"No\"),1,0)","v":0}]
[{"$f":"IF(AND(Data!C508>34,Data!F508=\"Chest Pain\",Data!G508=\"No\"),1,0)","v":0}]
[{"$f":"IF(AND(Data!C509>34,Data!F509=\"Chest Pain\",Data!G509=\"No\"),1,0)","v":0}]
[{"$f":"IF(AND(Data!C510>34,Data!F510=\"Chest Pain\",Data!G510=\"No\"),1,0)","v":0}]
[{"$f":"IF(AND(Data!C511>34,Data!F511=\"Chest Pain\",Data!G511=\"No\"),1,0)","v":0}]
[{"$f":"IF(AND(Data!C512>34,Data!F512=\"Chest Pain\",Data!G512=\"No\"),1,0)","v":0}]
[{"$f":"IF(AND(Data!C513>34,Data!F513=\"Chest Pain\",Data!G513=\"No\"),1,0)","v":0}]
[{"$f":"IF(AND(Data!C514>34,Data!F514=\"Chest Pain\",Data!G514=\"No\"),1,0)","v":0}]
[{"$f":"IF(AND(Data!C515>34,Data!F515=\"Chest Pain\",Data!G515=\"No\"),1,0)","v":0}]
[{"$f":"IF(AND(Data!C516>34,Data!F516=\"Chest Pain\",Data!G516=\"No\"),1,0)","v":0}]
[{"$f":"IF(AND(Data!C517>34,Data!F517=\"Chest Pain\",Data!G517=\"No\"),1,0)","v":0}]
[{"$f":"IF(AND(Data!C518>34,Data!F518=\"Chest Pain\",Data!G518=\"No\"),1,0)","v":0}]
[{"$f":"IF(AND(Data!C519>34,Data!F519=\"Chest Pain\",Data!G519=\"No\"),1,0)","v":0}]
[{"$f":"IF(AND(Data!C520>34,Data!F520=\"Chest Pain\",Data!G520=\"No\"),1,0)","v":0}]
[{"$f":"IF(AND(Data!C521>34,Data!F521=\"Chest Pain\",Data!G521=\"No\"),1,0)","v":0}]
[{"$f":"IF(AND(Data!C522>34,Data!F522=\"Chest Pain\",Data!G522=\"No\"),1,0)","v":0}]
[{"$f":"IF(AND(Data!C523>34,Data!F523=\"Chest Pain\",Data!G523=\"No\"),1,0)","v":0}]
[{"$f":"IF(AND(Data!C524>34,Data!F524=\"Chest Pain\",Data!G524=\"No\"),1,0)","v":0}]
[{"$f":"IF(AND(Data!C525>34,Data!F525=\"Chest Pain\",Data!G525=\"No\"),1,0)","v":0}]
[{"$f":"IF(AND(Data!C526>34,Data!F526=\"Chest Pain\",Data!G526=\"No\"),1,0)","v":0}]
[{"$f":"IF(AND(Data!C527>34,Data!F527=\"Chest Pain\",Data!G527=\"No\"),1,0)","v":0}]
[{"$f":"IF(AND(Data!C528>34,Data!F528=\"Chest Pain\",Data!G528=\"No\"),1,0)","v":0}]
[{"$f":"IF(AND(Data!C529>34,Data!F529=\"Chest Pain\",Data!G529=\"No\"),1,0)","v":0}]
[{"$f":"IF(AND(Data!C530>34,Data!F530=\"Chest Pain\",Data!G530=\"No\"),1,0)","v":0}]
[{"$f":"IF(AND(Data!C531>34,Data!F531=\"Chest Pain\",Data!G531=\"No\"),1,0)","v":0}]
[{"$f":"IF(AND(Data!C532>34,Data!F532=\"Chest Pain\",Data!G532=\"No\"),1,0)","v":0}]
[{"$f":"IF(AND(Data!C533>34,Data!F533=\"Chest Pain\",Data!G533=\"No\"),1,0)","v":0}]
[{"$f":"IF(AND(Data!C534>34,Data!F534=\"Chest Pain\",Data!G534=\"No\"),1,0)","v":0}]
[{"$f":"IF(AND(Data!C535>34,Data!F535=\"Chest Pain\",Data!G535=\"No\"),1,0)","v":0}]
[{"$f":"IF(AND(Data!C536>34,Data!F536=\"Chest Pain\",Data!G536=\"No\"),1,0)","v":0}]
[{"$f":"IF(AND(Data!C537>34,Data!F537=\"Chest Pain\",Data!G537=\"No\"),1,0)","v":0}]
[{"$f":"IF(AND(Data!C538>34,Data!F538=\"Chest Pain\",Data!G538=\"No\"),1,0)","v":0}]
[{"$f":"IF(AND(Data!C539>34,Data!F539=\"Chest Pain\",Data!G539=\"No\"),1,0)","v":0}]
[{"$f":"IF(AND(Data!C540>34,Data!F540=\"Chest Pain\",Data!G540=\"No\"),1,0)","v":0}]
[{"$f":"IF(AND(Data!C541>34,Data!F541=\"Chest Pain\",Data!G541=\"No\"),1,0)","v":0}]
[{"$f":"IF(AND(Data!C542>34,Data!F542=\"Chest Pain\",Data!G542=\"No\"),1,0)","v":0}]
[{"$f":"IF(AND(Data!C543>34,Data!F543=\"Chest Pain\",Data!G543=\"No\"),1,0)","v":0}]
[{"$f":"IF(AND(Data!C544>34,Data!F544=\"Chest Pain\",Data!G544=\"No\"),1,0)","v":0}]
[{"$f":"IF(AND(Data!C545>34,Data!F545=\"Chest Pain\",Data!G545=\"No\"),1,0)","v":0}]
[{"$f":"IF(AND(Data!C546>34,Data!F546=\"Chest Pain\",Data!G546=\"No\"),1,0)","v":0}]
[{"$f":"IF(AND(Data!C547>34,Data!F547=\"Chest Pain\",Data!G547=\"No\"),1,0)","v":0}]
[{"$f":"IF(AND(Data!C548>34,Data!F548=\"Chest Pain\",Data!G548=\"No\"),1,0)","v":0}]
[{"$f":"IF(AND(Data!C549>34,Data!F549=\"Chest Pain\",Data!G549=\"No\"),1,0)","v":0}]
[{"$f":"IF(AND(Data!C550>34,Data!F550=\"Chest Pain\",Data!G550=\"No\"),1,0)","v":0}]
[{"$f":"IF(AND(Data!C551>34,Data!F551=\"Chest Pain\",Data!G551=\"No\"),1,0)","v":0}]
[{"$f":"IF(AND(Data!C552>34,Data!F552=\"Chest Pain\",Data!G552=\"No\"),1,0)","v":0}]
[{"$f":"IF(AND(Data!C553>34,Data!F553=\"Chest Pain\",Data!G553=\"No\"),1,0)","v":0}]
[{"$f":"IF(AND(Data!C554>34,Data!F554=\"Chest Pain\",Data!G554=\"No\"),1,0)","v":0}]
[{"$f":"IF(AND(Data!C555>34,Data!F555=\"Chest Pain\",Data!G555=\"No\"),1,0)","v":0}]
[{"$f":"IF(AND(Data!C556>34,Data!F556=\"Chest Pain\",Data!G556=\"No\"),1,0)","v":0}]
[{"$f":"IF(AND(Data!C557>34,Data!F557=\"Chest Pain\",Data!G557=\"No\"),1,0)","v":0}]
[{"$f":"IF(AND(Data!C558>34,Data!F558=\"Chest Pain\",Data!G558=\"No\"),1,0)","v":0}]
[{"$f":"IF(AND(Data!C559>34,Data!F559=\"Chest Pain\",Data!G559=\"No\"),1,0)","v":0}]
[{"$f":"IF(AND(Data!C560>34,Data!F560=\"Chest Pain\",Data!G560=\"No\"),1,0)","v":0}]
[{"$f":"IF(AND(Data!C561>34,Data!F561=\"Chest Pain\",Data!G561=\"No\"),1,0)","v":0}]
[{"$f":"IF(AND(Data!C562>34,Data!F562=\"Chest Pain\",Data!G562=\"No\"),1,0)","v":0}]
[{"$f":"IF(AND(Data!C563>34,Data!F563=\"Chest Pain\",Data!G563=\"No\"),1,0)","v":0}]
[{"$f":"IF(AND(Data!C564>34,Data!F564=\"Chest Pain\",Data!G564=\"No\"),1,0)","v":0}]
[{"$f":"IF(AND(Data!C565>34,Data!F565=\"Chest Pain\",Data!G565=\"No\"),1,0)","v":0}]
[{"$f":"IF(AND(Data!C566>34,Data!F566=\"Chest Pain\",Data!G566=\"No\"),1,0)","v":0}]
[{"$f":"IF(AND(Data!C567>34,Data!F567=\"Chest Pain\",Data!G567=\"No\"),1,0)","v":0}]
[{"$f":"IF(AND(Data!C568>34,Data!F568=\"Chest Pain\",Data!G568=\"No\"),1,0)","v":0}]
[{"$f":"IF(AND(Data!C569>34,Data!F569=\"Chest Pain\",Data!G569=\"No\"),1,0)","v":0}]
[{"$f":"IF(AND(Data!C570>34,Data!F570=\"Chest Pain\",Data!G570=\"No\"),1,0)","v":0}]
[{"$f":"IF(AND(Data!C571>34,Data!F571=\"Chest Pain\",Data!G571=\"No\"),1,0)","v":0}]
[{"$f":"IF(AND(Data!C572>34,Data!F572=\"Chest Pain\",Data!G572=\"No\"),1,0)","v":0}]
[{"$f":"IF(AND(Data!C573>34,Data!F573=\"Chest Pain\",Data!G573=\"No\"),1,0)","v":0}]
[{"$f":"IF(AND(Data!C574>34,Data!F574=\"Chest Pain\",Data!G574=\"No\"),1,0)","v":0}]
[{"$f":"IF(AND(Data!C575>34,Data!F575=\"Chest Pain\",Data!G575=\"No\"),1,0)","v":0}]
[{"$f":"IF(AND(Data!C576>34,Data!F576=\"Chest Pain\",Data!G576=\"No\"),1,0)","v":0}]
[{"$f":"IF(AND(Data!C577>34,Data!F577=\"Chest Pain\",Data!G577=\"No\"),1,0)","v":0}]
[{"$f":"IF(AND(Data!C578>34,Data!F578=\"Chest Pain\",Data!G578=\"No\"),1,0)","v":0}]
[{"$f":"IF(AND(Data!C579>34,Data!F579=\"Chest Pain\",Data!G579=\"No\"),1,0)","v":0}]
[{"$f":"IF(AND(Data!C580>34,Data!F580=\"Chest Pain\",Data!G580=\"No\"),1,0)","v":0}]
[{"$f":"IF(AND(Data!C581>34,Data!F581=\"Chest Pain\",Data!G581=\"No\"),1,0)","v":0}]
[{"$f":"IF(AND(Data!C582>34,Data!F582=\"Chest Pain\",Data!G582=\"No\"),1,0)","v":0}]
[{"$f":"IF(AND(Data!C583>34,Data!F583=\"Chest Pain\",Data!G583=\"No\"),1,0)","v":0}]
[{"$f":"IF(AND(Data!C584>34,Data!F584=\"Chest Pain\",Data!G584=\"No\"),1,0)","v":0}]
[{"$f":"IF(AND(Data!C585>34,Data!F585=\"Chest Pain\",Data!G585=\"No\"),1,0)","v":0}]
[{"$f":"IF(AND(Data!C586>34,Data!F586=\"Chest Pain\",Data!G586=\"No\"),1,0)","v":0}]
[{"$f":"IF(AND(Data!C587>34,Data!F587=\"Chest Pain\",Data!G587=\"No\"),1,0)","v":0}]
[{"$f":"IF(AND(Data!C588>34,Data!F588=\"Chest Pain\",Data!G588=\"No\"),1,0)","v":0}]
[{"$f":"IF(AND(Data!C589>34,Data!F589=\"Chest Pain\",Data!G589=\"No\"),1,0)","v":0}]
[{"$f":"IF(AND(Data!C590>34,Data!F590=\"Chest Pain\",Data!G590=\"No\"),1,0)","v":0}]
[{"$f":"IF(AND(Data!C591>34,Data!F591=\"Chest Pain\",Data!G591=\"No\"),1,0)","v":0}]
[{"$f":"IF(AND(Data!C592>34,Data!F592=\"Chest Pain\",Data!G592=\"No\"),1,0)","v":0}]
[{"$f":"IF(AND(Data!C593>34,Data!F593=\"Chest Pain\",Data!G593=\"No\"),1,0)","v":0}]
[{"$f":"IF(AND(Data!C594>34,Data!F594=\"Chest Pain\",Data!G594=\"No\"),1,0)","v":0}]
[{"$f":"IF(AND(Data!C595>34,Data!F595=\"Chest Pain\",Data!G595=\"No\"),1,0)","v":0}]
[{"$f":"IF(AND(Data!C596>34,Data!F596=\"Chest Pain\",Data!G596=\"No\"),1,0)","v":0}]
[{"$f":"IF(AND(Data!C597>34,Data!F597=\"Chest Pain\",Data!G597=\"No\"),1,0)","v":0}]
[{"$f":"IF(AND(Data!C598>34,Data!F598=\"Chest Pain\",Data!G598=\"No\"),1,0)","v":0}]
[{"$f":"IF(AND(Data!C599>34,Data!F599=\"Chest Pain\",Data!G599=\"No\"),1,0)","v":0}]
[{"$f":"IF(AND(Data!C600>34,Data!F600=\"Chest Pain\",Data!G600=\"No\"),1,0)","v":0}]
[{"$f":"IF(AND(Data!C601>34,Data!F601=\"Chest Pain\",Data!G601=\"No\"),1,0)","v":0}]
[{"$f":"IF(AND(Data!C602>34,Data!F602=\"Chest Pain\",Data!G602=\"No\"),1,0)","v":0}]
[{"$f":"IF(AND(Data!C603>34,Data!F603=\"Chest Pain\",Data!G603=\"No\"),1,0)","v":0}]
[{"$f":"IF(AND(Data!C604>34,Data!F604=\"Chest Pain\",Data!G604=\"No\"),1,0)","v":0}]
[{"$f":"IF(AND(Data!C605>34,Data!F605=\"Chest Pain\",Data!G605=\"No\"),1,0)","v":0}]
[{"$f":"IF(AND(Data!C606>34,Data!F606=\"Chest Pain\",Data!G606=\"No\"),1,0)","v":0}]
[{"$f":"IF(AND(Data!C607>34,Data!F607=\"Chest Pain\",Data!G607=\"No\"),1,0)","v":0}]
[{"$f":"IF(AND(Data!C608>34,Data!F608=\"Chest Pain\",Data!G608=\"No\"),1,0)","v":0}]
[{"$f":"IF(AND(Data!C609>34,Data!F609=\"Chest Pain\",Data!G609=\"No\"),1,0)","v":0}]
[{"$f":"IF(AND(Data!C610>34,Data!F610=\"Chest Pain\",Data!G610=\"No\"),1,0)","v":0}]
[{"$f":"IF(AND(Data!C611>34,Data!F611=\"Chest Pain\",Data!G611=\"No\"),1,0)","v":0}]
[{"$f":"IF(AND(Data!C612>34,Data!F612=\"Chest Pain\",Data!G612=\"No\"),1,0)","v":0}]
[{"$f":"IF(AND(Data!C613>34,Data!F613=\"Chest Pain\",Data!G613=\"No\"),1,0)","v":0}]
[{"$f":"IF(AND(Data!C614>34,Data!F614=\"Chest Pain\",Data!G614=\"No\"),1,0)","v":0}]
[{"$f":"IF(AND(Data!C615>34,Data!F615=\"Chest Pain\",Data!G615=\"No\"),1,0)","v":0}]
[{"$f":"IF(AND(Data!C616>34,Data!F616=\"Chest Pain\",Data!G616=\"No\"),1,0)","v":0}]
[{"$f":"IF(AND(Data!C617>34,Data!F617=\"Chest Pain\",Data!G617=\"No\"),1,0)","v":0}]
[{"$f":"IF(AND(Data!C618>34,Data!F618=\"Chest Pain\",Data!G618=\"No\"),1,0)","v":0}]
[{"$f":"IF(AND(Data!C619>34,Data!F619=\"Chest Pain\",Data!G619=\"No\"),1,0)","v":0}]
[{"$f":"IF(AND(Data!C620>34,Data!F620=\"Chest Pain\",Data!G620=\"No\"),1,0)","v":0}]
[{"$f":"IF(AND(Data!C621>34,Data!F621=\"Chest Pain\",Data!G621=\"No\"),1,0)","v":0}]
[{"$f":"IF(AND(Data!C622>34,Data!F622=\"Chest Pain\",Data!G622=\"No\"),1,0)","v":0}]
[{"$f":"IF(AND(Data!C623>34,Data!F623=\"Chest Pain\",Data!G623=\"No\"),1,0)","v":0}]
[{"$f":"IF(AND(Data!C624>34,Data!F624=\"Chest Pain\",Data!G624=\"No\"),1,0)","v":0}]
[{"$f":"IF(AND(Data!C625>34,Data!F625=\"Chest Pain\",Data!G625=\"No\"),1,0)","v":0}]
[{"$f":"IF(AND(Data!C626>34,Data!F626=\"Chest Pain\",Data!G626=\"No\"),1,0)","v":0}]
[{"$f":"IF(AND(Data!C627>34,Data!F627=\"Chest Pain\",Data!G627=\"No\"),1,0)","v":0}]
[{"$f":"IF(AND(Data!C628>34,Data!F628=\"Chest Pain\",Data!G628=\"No\"),1,0)","v":0}]
[{"$f":"IF(AND(Data!C629>34,Data!F629=\"Chest Pain\",Data!G629=\"No\"),1,0)","v":0}]
[{"$f":"IF(AND(Data!C630>34,Data!F630=\"Chest Pain\",Data!G630=\"No\"),1,0)","v":0}]
[{"$f":"IF(AND(Data!C631>34,Data!F631=\"Chest Pain\",Data!G631=\"No\"),1,0)","v":0}]
[{"$f":"IF(AND(Data!C632>34,Data!F632=\"Chest Pain\",Data!G632=\"No\"),1,0)","v":0}]
[{"$f":"IF(AND(Data!C633>34,Data!F633=\"Chest Pain\",Data!G633=\"No\"),1,0)","v":0}]
[{"$f":"IF(AND(Data!C634>34,Data!F634=\"Chest Pain\",Data!G634=\"No\"),1,0)","v":0}]
[{"$f":"IF(AND(Data!C635>34,Data!F635=\"Chest Pain\",Data!G635=\"No\"),1,0)","v":0}]
[{"$f":"IF(AND(Data!C636>34,Data!F636=\"Chest Pain\",Data!G636=\"No\"),1,0)","v":0}]
[{"$f":"IF(AND(Data!C637>34,Data!F637=\"Chest Pain\",Data!G637=\"No\"),1,0)","v":0}]
[{"$f":"IF(AND(Data!C638>34,Data!F638=\"Chest Pain\",Data!G638=\"No\"),1,0)","v":0}]
[{"$f":"IF(AND(Data!C639>34,Data!F639=\"Chest Pain\",Data!G639=\"No\"),1,0)","v":0}]
[{"$f":"IF(AND(Data!C640>34,Data!F640=\"Chest Pain\",Data!G640=\"No\"),1,0)","v":0}]
[{"$f":"IF(AND(Data!C641>34,Data!F641=\"Chest Pain\",Data!G641=\"No\"),1,0)","v":0}]
[{"$f":"IF(AND(Data!C642>34,Data!F642=\"Chest Pain\",Data!G642=\"No\"),1,0)","v":0}]
[{"$f":"IF(AND(Data!C643>34,Data!F643=\"Chest Pain\",Data!G643=\"No\"),1,0)","v":0}]
[{"$f":"IF(AND(Data!C644>34,Data!F644=\"Chest Pain\",Data!G644=\"No\"),1,0)","v":0}]
[{"$f":"IF(AND(Data!C645>34,Data!F645=\"Chest Pain\",Data!G645=\"No\"),1,0)","v":0}]
[{"$f":"IF(AND(Data!C646>34,Data!F646=\"Chest Pain\",Data!G646=\"No\"),1,0)","v":0}]
[{"$f":"IF(AND(Data!C647>34,Data!F647=\"Chest Pain\",Data!G647=\"No\"),1,0)","v":0}]
[{"$f":"IF(AND(Data!C648>34,Data!F648=\"Chest Pain\",Data!G648=\"No\"),1,0)","v":0}]
[{"$f":"IF(AND(Data!C649>34,Data!F649=\"Chest Pain\",Data!G649=\"No\"),1,0)","v":0}]
[{"$f":"IF(AND(Data!C650>34,Data!F650=\"Chest Pain\",Data!G650=\"No\"),1,0)","v":0}]
[{"$f":"IF(AND(Data!C651>34,Data!F651=\"Chest Pain\",Data!G651=\"No\"),1,0)","v":0}]
[{"$f":"IF(AND(Data!C652>34,Data!F652=\"Chest Pain\",Data!G652=\"No\"),1,0)","v":0}]
[{"$f":"IF(AND(Data!C653>34,Data!F653=\"Chest Pain\",Data!G653=\"No\"),1,0)","v":0}]
[{"$f":"IF(AND(Data!C654>34,Data!F654=\"Chest Pain\",Data!G654=\"No\"),1,0)","v":0}]
[{"$f":"IF(AND(Data!C655>34,Data!F655=\"Chest Pain\",Data!G655=\"No\"),1,0)","v":0}]
[{"$f":"IF(AND(Data!C656>34,Data!F656=\"Chest Pain\",Data!G656=\"No\"),1,0)","v":0}]
[{"$f":"IF(AND(Data!C657>34,Data!F657=\"Chest Pain\",Data!G657=\"No\"),1,0)","v":0}]
[{"$f":"IF(AND(Data!C658>34,Data!F658=\"Chest Pain\",Data!G658=\"No\"),1,0)","v":0}]
[{"$f":"IF(AND(Data!C659>34,Data!F659=\"Chest Pain\",Data!G659=\"No\"),1,0)","v":0}]
[{"$f":"IF(AND(Data!C660>34,Data!F660=\"Chest Pain\",Data!G660=\"No\"),1,0)","v":0}]
[{"$f":"IF(AND(Data!C661>34,Data!F661=\"Chest Pain\",Data!G661=\"No\"),1,0)","v":0}]
[{"$f":"IF(AND(Data!C662>34,Data!F662=\"Chest Pain\",Data!G662=\"No\"),1,0)","v":0}]
[{"$f":"IF(AND(Data!C663>34,Data!F663=\"Chest Pain\",Data!G663=\"No\"),1,0)","v":0}]
[{"$f":"IF(AND(Data!C664>34,Data!F664=\"Chest Pain\",Data!G664=\"No\"),1,0)","v":0}]
[{"$f":"IF(AND(Data!C665>34,Data!F665=\"Chest Pain\",Data!G665=\"No\"),1,0)","v":0}]
[{"$f":"IF(AND(Data!C666>34,Data!F666=\"Chest Pain\",Data!G666=\"No\"),1,0)","v":0}]
[{"$f":"IF(AND(Data!C667>34,Data!F667=\"Chest Pain\",Data!G667=\"No\"),1,0)","v":0}]
[{"$f":"IF(AND(Data!C668>34,Data!F668=\"Chest Pain\",Data!G668=\"No\"),1,0)","v":0}]
[{"$f":"IF(AND(Data!C669>34,Data!F669=\"Chest Pain\",Data!G669=\"No\"),1,0)","v":0}]
[{"$f":"IF(AND(Data!C670>34,Data!F670=\"Chest Pain\",Data!G670=\"No\"),1,0)","v":0}]
[{"$f":"IF(AND(Data!C671>34,Data!F671=\"Chest Pain\",Data!G671=\"No\"),1,0)","v":0}]
[{"$f":"IF(AND(Data!C672>34,Data!F672=\"Chest Pain\",Data!G672=\"No\"),1,0)","v":0}]
[{"$f":"IF(AND(Data!C673>34,Data!F673=\"Chest Pain\",Data!G673=\"No\"),1,0)","v":0}]
[{"$f":"IF(AND(Data!C674>34,Data!F674=\"Chest Pain\",Data!G674=\"No\"),1,0)","v":0}]
[{"$f":"IF(AND(Data!C675>34,Data!F675=\"Chest Pain\",Data!G675=\"No\"),1,0)","v":0}]
[{"$f":"IF(AND(Data!C676>34,Data!F676=\"Chest Pain\",Data!G676=\"No\"),1,0)","v":0}]
[{"$f":"IF(AND(Data!C677>34,Data!F677=\"Chest Pain\",Data!G677=\"No\"),1,0)","v":0}]
[{"$f":"IF(AND(Data!C678>34,Data!F678=\"Chest Pain\",Data!G678=\"No\"),1,0)","v":0}]
[{"$f":"IF(AND(Data!C679>34,Data!F679=\"Chest Pain\",Data!G679=\"No\"),1,0)","v":0}]
[{"$f":"IF(AND(Data!C680>34,Data!F680=\"Chest Pain\",Data!G680=\"No\"),1,0)","v":0}]
[{"$f":"IF(AND(Data!C681>34,Data!F681=\"Chest Pain\",Data!G681=\"No\"),1,0)","v":0}]
[{"$f":"IF(AND(Data!C682>34,Data!F682=\"Chest Pain\",Data!G682=\"No\"),1,0)","v":0}]
[{"$f":"IF(AND(Data!C683>34,Data!F683=\"Chest Pain\",Data!G683=\"No\"),1,0)","v":0}]
[{"$f":"IF(AND(Data!C684>34,Data!F684=\"Chest Pain\",Data!G684=\"No\"),1,0)","v":0}]
[{"$f":"IF(AND(Data!C685>34,Data!F685=\"Chest Pain\",Data!G685=\"No\"),1,0)","v":0}]
[{"$f":"IF(AND(Data!C686>34,Data!F686=\"Chest Pain\",Data!G686=\"No\"),1,0)","v":0}]
[{"$f":"IF(AND(Data!C687>34,Data!F687=\"Chest Pain\",Data!G687=\"No\"),1,0)","v":0}]
[{"$f":"IF(AND(Data!C688>34,Data!F688=\"Chest Pain\",Data!G688=\"No\"),1,0)","v":0}]
[{"$f":"IF(AND(Data!C689>34,Data!F689=\"Chest Pain\",Data!G689=\"No\"),1,0)","v":0}]
[{"$f":"IF(AND(Data!C690>34,Data!F690=\"Chest Pain\",Data!G690=\"No\"),1,0)","v":0}]
[{"$f":"IF(AND(Data!C691>34,Data!F691=\"Chest Pain\",Data!G691=\"No\"),1,0)","v":0}]
[{"$f":"IF(AND(Data!C692>34,Data!F692=\"Chest Pain\",Data!G692=\"No\"),1,0)","v":0}]
[{"$f":"IF(AND(Data!C693>34,Data!F693=\"Chest Pain\",Data!G693=\"No\"),1,0)","v":0}]
[{"$f":"IF(AND(Data!C694>34,Data!F694=\"Chest Pain\",Data!G694=\"No\"),1,0)","v":0}]
[{"$f":"IF(AND(Data!C695>34,Data!F695=\"Chest Pain\",Data!G695=\"No\"),1,0)","v":0}]
[{"$f":"IF(AND(Data!C696>34,Data!F696=\"Chest Pain\",Data!G696=\"No\"),1,0)","v":0}]
[{"$f":"IF(AND(Data!C697>34,Data!F697=\"Chest Pain\",Data!G697=\"No\"),1,0)","v":0}]
[{"$f":"IF(AND(Data!C698>34,Data!F698=\"Chest Pain\",Data!G698=\"No\"),1,0)","v":0}]
[{"$f":"IF(AND(Data!C699>34,Data!F699=\"Chest Pain\",Data!G699=\"No\"),1,0)","v":0}]
[{"$f":"IF(AND(Data!C700>34,Data!F700=\"Chest Pain\",Data!G700=\"No\"),1,0)","v":0}]
[{"$f":"IF(AND(Data!C701>34,Data!F701=\"Chest Pain\",Data!G701=\"No\"),1,0)","v":0}]
[{"$f":"IF(AND(Data!C702>34,Data!F702=\"Chest Pain\",Data!G702=\"No\"),1,0)","v":0}]
[{"$f":"IF(AND(Data!C703>34,Data!F703=\"Chest Pain\",Data!G703=\"No\"),1,0)","v":0}]
[{"$f":"IF(AND(Data!C704>34,Data!F704=\"Chest Pain\",Data!G704=\"No\"),1,0)","v":0}]
[{"$f":"IF(AND(Data!C705>34,Data!F705=\"Chest Pain\",Data!G705=\"No\"),1,0)","v":0}]
[{"$f":"IF(AND(Data!C706>34,Data!F706=\"Chest Pain\",Data!G706=\"No\"),1,0)","v":0}]
[{"$f":"IF(AND(Data!C707>34,Data!F707=\"Chest Pain\",Data!G707=\"No\"),1,0)","v":0}]
[{"$f":"IF(AND(Data!C708>34,Data!F708=\"Chest Pain\",Data!G708=\"No\"),1,0)","v":0}]
[{"$f":"IF(AND(Data!C709>34,Data!F709=\"Chest Pain\",Data!G709=\"No\"),1,0)","v":0}]
[{"$f":"IF(AND(Data!C710>34,Data!F710=\"Chest Pain\",Data!G710=\"No\"),1,0)","v":0}]
[{"$f":"IF(AND(Data!C711>34,Data!F711=\"Chest Pain\",Data!G711=\"No\"),1,0)","v":0}]
[{"$f":"IF(AND(Data!C712>34,Data!F712=\"Chest Pain\",Data!G712=\"No\"),1,0)","v":0}]
[{"$f":"IF(AND(Data!C713>34,Data!F713=\"Chest Pain\",Data!G713=\"No\"),1,0)","v":0}]
[{"$f":"IF(AND(Data!C714>34,Data!F714=\"Chest Pain\",Data!G714=\"No\"),1,0)","v":0}]
[{"$f":"IF(AND(Data!C715>34,Data!F715=\"Chest Pain\",Data!G715=\"No\"),1,0)","v":0}]
[{"$f":"IF(AND(Data!C716>34,Data!F716=\"Chest Pain\",Data!G716=\"No\"),1,0)","v":0}]
[{"$f":"IF(AND(Data!C717>34,Data!F717=\"Chest Pain\",Data!G717=\"No\"),1,0)","v":0}]
[{"$f":"IF(AND(Data!C718>34,Data!F718=\"Chest Pain\",Data!G718=\"No\"),1,0)","v":0}]
[{"$f":"IF(AND(Data!C719>34,Data!F719=\"Chest Pain\",Data!G719=\"No\"),1,0)","v":0}]
[{"$f":"IF(AND(Data!C720>34,Data!F720=\"Chest Pain\",Data!G720=\"No\"),1,0)","v":0}]
[{"$f":"IF(AND(Data!C721>34,Data!F721=\"Chest Pain\",Data!G721=\"No\"),1,0)","v":0}]
[{"$f":"IF(AND(Data!C722>34,Data!F722=\"Chest Pain\",Data!G722=\"No\"),1,0)","v":0}]
[{"$f":"IF(AND(Data!C723>34,Data!F723=\"Chest Pain\",Data!G723=\"No\"),1,0)","v":0}]
[{"$f":"IF(AND(Data!C724>34,Data!F724=\"Chest Pain\",Data!G724=\"No\"),1,0)","v":0}]
[{"$f":"IF(AND(Data!C725>34,Data!F725=\"Chest Pain\",Data!G725=\"No\"),1,0)","v":0}]
[{"$f":"IF(AND(Data!C726>34,Data!F726=\"Chest Pain\",Data!G726=\"No\"),1,0)","v":0}]
[{"$f":"IF(AND(Data!C727>34,Data!F727=\"Chest Pain\",Data!G727=\"No\"),1,0)","v":0}]
[{"$f":"IF(AND(Data!C728>34,Data!F728=\"Chest Pain\",Data!G728=\"No\"),1,0)","v":0}]
[{"$f":"IF(AND(Data!C729>34,Data!F729=\"Chest Pain\",Data!G729=\"No\"),1,0)","v":0}]
[{"$f":"IF(AND(Data!C730>34,Data!F730=\"Chest Pain\",Data!G730=\"No\"),1,0)","v":0}]
[{"$f":"IF(AND(Data!C731>34,Data!F731=\"Chest Pain\",Data!G731=\"No\"),1,0)","v":0}]
[{"$f":"IF(AND(Data!C732>34,Data!F732=\"Chest Pain\",Data!G732=\"No\"),1,0)","v":0}]
[{"$f":"IF(AND(Data!C733>34,Data!F733=\"Chest Pain\",Data!G733=\"No\"),1,0)","v":0}]
[{"$f":"IF(AND(Data!C734>34,Data!F734=\"Chest Pain\",Data!G734=\"No\"),1,0)","v":0}]
[{"$f":"IF(AND(Data!C735>34,Data!F735=\"Chest Pain\",Data!G735=\"No\"),1,0)","v":0}]
[{"$f":"IF(AND(Data!C736>34,Data!F736=\"Chest Pain\",Data!G736=\"No\"),1,0)","v":0}]
[{"$f":"IF(AND(Data!C737>34,Data!F737=\"Chest Pain\",Data!G737=\"No\"),1,0)","v":0}]
[{"$f":"IF(AND(Data!C738>34,Data!F738=\"Chest Pain\",Data!G738=\"No\"),1,0)","v":0}]
[{"$f":"IF(AND(Data!C739>34,Data!F739=\"Chest Pain\",Data!G739=\"No\"),1,0)","v":0}]
[{"$f":"IF(AND(Data!C740>34,Data!F740=\"Chest Pain\",Data!G740=\"No\"),1,0)","v":0}]
[{"$f":"IF(AND(Data!C741>34,Data!F741=\"Chest Pain\",Data!G741=\"No\"),1,0)","v":0}]
[{"$f":"IF(AND(Data!C742>34,Data!F742=\"Chest Pain\",Data!G742=\"No\"),1,0)","v":0}]
[{"$f":"IF(AND(Data!C743>34,Data!F743=\"Chest Pain\",Data!G743=\"No\"),1,0)","v":0}]
[{"$f":"IF(AND(Data!C744>34,Data!F744=\"Chest Pain\",Data!G744=\"No\"),1,0)","v":0}]
[{"$f":"IF(AND(Data!C745>34,Data!F745=\"Chest Pain\",Data!G745=\"No\"),1,0)","v":0}]
[{"$f":"IF(AND(Data!C746>34,Data!F746=\"Chest Pain\",Data!G746=\"No\"),1,0)","v":0}]
[{"$f":"IF(AND(Data!C747>34,Data!F747=\"Chest Pain\",Data!G747=\"No\"),1,0)","v":0}]
[{"$f":"IF(AND(Data!C748>34,Data!F748=\"Chest Pain\",Data!G748=\"No\"),1,0)","v":0}]
[{"$f":"IF(AND(Data!C749>34,Data!F749=\"Chest Pain\",Data!G749=\"No\"),1,0)","v":0}]
[{"$f":"IF(AND(Data!C750>34,Data!F750=\"Chest Pain\",Data!G750=\"No\"),1,0)","v":0}]
[{"$f":"IF(AND(Data!C751>34,Data!F751=\"Chest Pain\",Data!G751=\"No\"),1,0)","v":0}]
[{"$f":"IF(AND(Data!C752>34,Data!F752=\"Chest Pain\",Data!G752=\"No\"),1,0)","v":0}]
[{"$f":"IF(AND(Data!C753>34,Data!F753=\"Chest Pain\",Data!G753=\"No\"),1,0)","v":0}]
[{"$f":"IF(AND(Data!C754>34,Data!F754=\"Chest Pain\",Data!G754=\"No\"),1,0)","v":0}]
[{"$f":"IF(AND(Data!C755>34,Data!F755=\"Chest Pain\",Data!G755=\"No\"),1,0)","v":0}]
[{"$f":"IF(AND(Data!C756>34,Data!F756=\"Chest Pain\",Data!G756=\"No\"),1,0)","v":0}]
[{"$f":"IF(AND(Data!C757>34,Data!F757=\"Chest Pain\",Data!G757=\"No\"),1,0)","v":0}]
[{"$f":"IF(AND(Data!C758>34,Data!F758=\"Chest Pain\",Data!G758=\"No\"),1,0)","v":0}]
[{"$f":"IF(AND(Data!C759>34,Data!F759=\"Chest Pain\",Data!G759=\"No\"),1,0)","v":0}]
[{"$f":"IF(AND(Data!C760>34,Data!F760=\"Chest Pain\",Data!G760=\"No\"),1,0)","v":0}]
[{"$f":"IF(AND(Data!C761>34,Data!F761=\"Chest Pain\",Data!G761=\"No\"),1,0)","v":0}]
[{"$f":"IF(AND(Data!C762>34,Data!F762=\"Chest Pain\",Data!G762=\"No\"),1,0)","v":0}]
[{"$f":"IF(AND(Data!C763>34,Data!F763=\"Chest Pain\",Data!G763=\"No\"),1,0)","v":0}]
[{"$f":"IF(AND(Data!C764>34,Data!F764=\"Chest Pain\",Data!G764=\"No\"),1,0)","v":0}]
[{"$f":"IF(AND(Data!C765>34,Data!F765=\"Chest Pain\",Data!G765=\"No\"),1,0)","v":0}]
[{"$f":"IF(AND(Data!C766>34,Data!F766=\"Chest Pain\",Data!G766=\"No\"),1,0)","v":0}]
[{"$f":"IF(AND(Data!C767>34,Data!F767=\"Chest Pain\",Data!G767=\"No\"),1,0)","v":0}]
[{"$f":"IF(AND(Data!C768>34,Data!F768=\"Chest Pain\",Data!G768=\"No\"),1,0)","v":0}]
[{"$f":"IF(AND(Data!C769>34,Data!F769=\"Chest Pain\",Data!G769=\"No\"),1,0)","v":0}]
[{"$f":"IF(AND(Data!C770>34,Data!F770=\"Chest Pain\",Data!G770=\"No\"),1,0)","v":0}]
[{"$f":"IF(AND(Data!C771>34,Data!F771=\"Chest Pain\",Data!G771=\"No\"),1,0)","v":0}]
[{"$f":"IF(AND(Data!C772>34,Data!F772=\"Chest Pain\",Data!G772=\"No\"),1,0)","v":0}]
[{"$f":"IF(AND(Data!C773>34,Data!F773=\"Chest Pain\",Data!G773=\"No\"),1,0)","v":0}]
[{"$f":"IF(AND(Data!C774>34,Data!F774=\"Chest Pain\",Data!G774=\"No\"),1,0)","v":0}]
[{"$f":"IF(AND(Data!C775>34,Data!F775=\"Chest Pain\",Data!G775=\"No\"),1,0)","v":0}]
[{"$f":"IF(AND(Data!C776>34,Data!F776=\"Chest Pain\",Data!G776=\"No\"),1,0)","v":0}]
[{"$f":"IF(AND(Data!C777>34,Data!F777=\"Chest Pain\",Data!G777=\"No\"),1,0)","v":0}]
[{"$f":"IF(AND(Data!C778>34,Data!F778=\"Chest Pain\",Data!G778=\"No\"),1,0)","v":0}]
[{"$f":"IF(AND(Data!C779>34,Data!F779=\"Chest Pain\",Data!G779=\"No\"),1,0)","v":0}]
[{"$f":"IF(AND(Data!C780>34,Data!F780=\"Chest Pain\",Data!G780=\"No\"),1,0)","v":0}]
[{"$f":"IF(AND(Data!C781>34,Data!F781=\"Chest Pain\",Data!G781=\"No\"),1,0)","v":0}]
[{"$f":"IF(AND(Data!C782>34,Data!F782=\"Chest Pain\",Data!G782=\"No\"),1,0)","v":0}]
[{"$f":"IF(AND(Data!C783>34,Data!F783=\"Chest Pain\",Data!G783=\"No\"),1,0)","v":0}]
[{"$f":"IF(AND(Data!C784>34,Data!F784=\"Chest Pain\",Data!G784=\"No\"),1,0)","v":0}]
[{"$f":"IF(AND(Data!C785>34,Data!F785=\"Chest Pain\",Data!G785=\"No\"),1,0)","v":0}]
[{"$f":"IF(AND(Data!C786>34,Data!F786=\"Chest Pain\",Data!G786=\"No\"),1,0)","v":0}]
[{"$f":"IF(AND(Data!C787>34,Data!F787=\"Chest Pain\",Data!G787=\"No\"),1,0)","v":0}]
[{"$f":"IF(AND(Data!C788>34,Data!F788=\"Chest Pain\",Data!G788=\"No\"),1,0)","v":0}]
[{"$f":"IF(AND(Data!C789>34,Data!F789=\"Chest Pain\",Data!G789=\"No\"),1,0)","v":0}]
[{"$f":"IF(AND(Data!C790>34,Data!F790=\"Chest Pain\",Data!G790=\"No\"),1,0)","v":0}]
[{"$f":"IF(AND(Data!C791>34,Data!F791=\"Chest Pain\",Data!G791=\"No\"),1,0)","v":0}]
[{"$f":"IF(AND(Data!C792>34,Data!F792=\"Chest Pain\",Data!G792=\"No\"),1,0)","v":0}]
[{"$f":"IF(AND(Data!C793>34,Data!F793=\"Chest Pain\",Data!G793=\"No\"),1,0)","v":0}]
[{"$f":"IF(AND(Data!C794>34,Data!F794=\"Chest Pain\",Data!G794=\"No\"),1,0)","v":0}]
[{"$f":"IF(AND(Data!C795>34,Data!F795=\"Chest Pain\",Data!G795=\"No\"),1,0)","v":0}]
[{"$f":"IF(AND(Data!C796>34,Data!F796=\"Chest Pain\",Data!G796=\"No\"),1,0)","v":0}]
[{"$f":"IF(AND(Data!C797>34,Data!F797=\"Chest Pain\",Data!G797=\"No\"),1,0)","v":0}]
[{"$f":"IF(AND(Data!C798>34,Data!F798=\"Chest Pain\",Data!G798=\"No\"),1,0)","v":0}]
[{"$f":"IF(AND(Data!C799>34,Data!F799=\"Chest Pain\",Data!G799=\"No\"),1,0)","v":0}]
[{"$f":"IF(AND(Data!C800>34,Data!F800=\"Chest Pain\",Data!G800=\"No\"),1,0)","v":0}]
[{"$f":"IF(AND(Data!C801>34,Data!F801=\"Chest Pain\",Data!G801=\"No\"),1,0)","v":0}]
[{"$f":"IF(AND(Data!C802>34,Data!F802=\"Chest Pain\",Data!G802=\"No\"),1,0)","v":0}]
[{"$f":"IF(AND(Data!C803>34,Data!F803=\"Chest Pain\",Data!G803=\"No\"),1,0)","v":0}]
[{"$f":"IF(AND(Data!C804>34,Data!F804=\"Chest Pain\",Data!G804=\"No\"),1,0)","v":0}]
[{"$f":"IF(AND(Data!C805>34,Data!F805=\"Chest Pain\",Data!G805=\"No\"),1,0)","v":0}]
[{"$f":"IF(AND(Data!C806>34,Data!F806=\"Chest Pain\",Data!G806=\"No\"),1,0)","v":0}]
[{"$f":"IF(AND(Data!C807>34,Data!F807=\"Chest Pain\",Data!G807=\"No\"),1,0)","v":0}]
[{"$f":"IF(AND(Data!C808>34,Data!F808=\"Chest Pain\",Data!G808=\"No\"),1,0)","v":0}]
[{"$f":"IF(AND(Data!C809>34,Data!F809=\"Chest Pain\",Data!G809=\"No\"),1,0)","v":0}]
[{"$f":"IF(AND(Data!C810>34,Data!F810=\"Chest Pain\",Data!G810=\"No\"),1,0)","v":0}]
[{"$f":"IF(AND(Data!C811>34,Data!F811=\"Chest Pain\",Data!G811=\"No\"),1,0)","v":0}]
[{"$f":"IF(AND(Data!C812>34,Data!F812=\"Chest Pain\",Data!G812=\"No\"),1,0)","v":0}]
[{"$f":"IF(AND(Data!C813>34,Data!F813=\"Chest Pain\",Data!G813=\"No\"),1,0)","v":0}]
[{"$f":"IF(AND(Data!C814>34,Data!F814=\"Chest Pain\",Data!G814=\"No\"),1,0)","v":0}]
[{"$f":"IF(AND(Data!C815>34,Data!F815=\"Chest Pain\",Data!G815=\"No\"),1,0)","v":0}]
[{"$f":"IF(AND(Data!C816>34,Data!F816=\"Chest Pain\",Data!G816=\"No\"),1,0)","v":0}]
[{"$f":"IF(AND(Data!C817>34,Data!F817=\"Chest Pain\",Data!G817=\"No\"),1,0)","v":0}]
[{"$f":"IF(AND(Data!C818>34,Data!F818=\"Chest Pain\",Data!G818=\"No\"),1,0)","v":0}]
[{"$f":"IF(AND(Data!C819>34,Data!F819=\"Chest Pain\",Data!G819=\"No\"),1,0)","v":0}]
[{"$f":"IF(AND(Data!C820>34,Data!F820=\"Chest Pain\",Data!G820=\"No\"),1,0)","v":0}]
[{"$f":"IF(AND(Data!C821>34,Data!F821=\"Chest Pain\",Data!G821=\"No\"),1,0)","v":0}]
[{"$f":"IF(AND(Data!C822>34,Data!F822=\"Chest Pain\",Data!G822=\"No\"),1,0)","v":0}]
[{"$f":"IF(AND(Data!C823>34,Data!F823=\"Chest Pain\",Data!G823=\"No\"),1,0)","v":0}]
[{"$f":"IF(AND(Data!C824>34,Data!F824=\"Chest Pain\",Data!G824=\"No\"),1,0)","v":0}]
[{"$f":"IF(AND(Data!C825>34,Data!F825=\"Chest Pain\",Data!G825=\"No\"),1,0)","v":0}]
[{"$f":"IF(AND(Data!C826>34,Data!F826=\"Chest Pain\",Data!G826=\"No\"),1,0)","v":0}]
[{"$f":"IF(AND(Data!C827>34,Data!F827=\"Chest Pain\",Data!G827=\"No\"),1,0)","v":0}]
[{"$f":"IF(AND(Data!C828>34,Data!F828=\"Chest Pain\",Data!G828=\"No\"),1,0)","v":0}]
[{"$f":"IF(AND(Data!C829>34,Data!F829=\"Chest Pain\",Data!G829=\"No\"),1,0)","v":0}]
[{"$f":"IF(AND(Data!C830>34,Data!F830=\"Chest Pain\",Data!G830=\"No\"),1,0)","v":0}]
[{"$f":"IF(AND(Data!C831>34,Data!F831=\"Chest Pain\",Data!G831=\"No\"),1,0)","v":0}]
[{"$f":"IF(AND(Data!C832>34,Data!F832=\"Chest Pain\",Data!G832=\"No\"),1,0)","v":0}]
[{"$f":"IF(AND(Data!C833>34,Data!F833=\"Chest Pain\",Data!G833=\"No\"),1,0)","v":0}]
[{"$f":"IF(AND(Data!C834>34,Data!F834=\"Chest Pain\",Data!G834=\"No\"),1,0)","v":0}]
[{"$f":"IF(AND(Data!C835>34,Data!F835=\"Chest Pain\",Data!G835=\"No\"),1,0)","v":0}]
[{"$f":"IF(AND(Data!C836>34,Data!F836=\"Chest Pain\",Data!G836=\"No\"),1,0)","v":0}]
[{"$f":"IF(AND(Data!C837>34,Data!F837=\"Chest Pain\",Data!G837=\"No\"),1,0)","v":0}]
[{"$f":"IF(AND(Data!C838>34,Data!F838=\"Chest Pain\",Data!G838=\"No\"),1,0)","v":0}]
[{"$f":"IF(AND(Data!C839>34,Data!F839=\"Chest Pain\",Data!G839=\"No\"),1,0)","v":0}]
[{"$f":"IF(AND(Data!C840>34,Data!F840=\"Chest Pain\",Data!G840=\"No\"),1,0)","v":0}]
[{"$f":"IF(AND(Data!C841>34,Data!F841=\"Chest Pain\",Data!G841=\"No\"),1,0)","v":0}]
[{"$f":"IF(AND(Data!C842>34,Data!F842=\"Chest Pain\",Data!G842=\"No\"),1,0)","v":0}]
[{"$f":"IF(AND(Data!C843>34,Data!F843=\"Chest Pain\",Data!G843=\"No\"),1,0)","v":0}]
[{"$f":"IF(AND(Data!C844>34,Data!F844=\"Chest Pain\",Data!G844=\"No\"),1,0)","v":0}]
[{"$f":"IF(AND(Data!C845>34,Data!F845=\"Chest Pain\",Data!G845=\"No\"),1,0)","v":0}]
[{"$f":"IF(AND(Data!C846>34,Data!F846=\"Chest Pain\",Data!G846=\"No\"),1,0)","v":0}]
[{"$f":"IF(AND(Data!C847>34,Data!F847=\"Chest Pain\",Data!G847=\"No\"),1,0)","v":0}]
[{"$f":"IF(AND(Data!C848>34,Data!F848=\"Chest Pain\",Data!G848=\"No\"),1,0)","v":0}]
[{"$f":"IF(AND(Data!C849>34,Data!F849=\"Chest Pain\",Data!G849=\"No\"),1,0)","v":0}]
[{"$f":"IF(AND(Data!C850>34,Data!F850=\"Chest Pain\",Data!G850=\"No\"),1,0)","v":0}]
[{"$f":"IF(AND(Data!C851>34,Data!F851=\"Chest Pain\",Data!G851=\"No\"),1,0)","v":0}]
[{"$f":"IF(AND(Data!C852>34,Data!F852=\"Chest Pain\",Data!G852=\"No\"),1,0)","v":0}]
[{"$f":"IF(AND(Data!C853>34,Data!F853=\"Chest Pain\",Data!G853=\"No\"),1,0)","v":0}]
[{"$f":"IF(AND(Data!C854>34,Data!F854=\"Chest Pain\",Data!G854=\"No\"),1,0)","v":0}]
[{"$f":"IF(AND(Data!C855>34,Data!F855=\"Chest Pain\",Data!G855=\"No\"),1,0)","v":0}]
[{"$f":"IF(AND(Data!C856>34,Data!F856=\"Chest Pain\",Data!G856=\"No\"),1,0)","v":0}]
[{"$f":"IF(AND(Data!C857>34,Data!F857=\"Chest Pain\",Data!G857=\"No\"),1,0)","v":0}]
[{"$f":"IF(AND(Data!C858>34,Data!F858=\"Chest Pain\",Data!G858=\"No\"),1,0)","v":0}]
[{"$f":"IF(AND(Data!C859>34,Data!F859=\"Chest Pain\",Data!G859=\"No\"),1,0)","v":0}]
[{"$f":"IF(AND(Data!C860>34,Data!F860=\"Chest Pain\",Data!G860=\"No\"),1,0)","v":0}]
[{"$f":"IF(AND(Data!C861>34,Data!F861=\"Chest Pain\",Data!G861=\"No\"),1,0)","v":0}]
[{"$f":"IF(AND(Data!C862>34,Data!F862=\"Chest Pain\",Data!G862=\"No\"),1,0)","v":0}]
[{"$f":"IF(AND(Data!C863>34,Data!F863=\"Chest Pain\",Data!G863=\"No\"),1,0)","v":0}]
[{"$f":"IF(AND(Data!C864>34,Data!F864=\"Chest Pain\",Data!G864=\"No\"),1,0)","v":0}]
[{"$f":"IF(AND(Data!C865>34,Data!F865=\"Chest Pain\",Data!G865=\"No\"),1,0)","v":0}]
[{"$f":"IF(AND(Data!C866>34,Data!F866=\"Chest Pain\",Data!G866=\"No\"),1,0)","v":0}]
[{"$f":"IF(AND(Data!C867>34,Data!F867=\"Chest Pain\",Data!G867=\"No\"),1,0)","v":0}]
[{"$f":"IF(AND(Data!C868>34,Data!F868=\"Chest Pain\",Data!G868=\"No\"),1,0)","v":0}]
[{"$f":"IF(AND(Data!C869>34,Data!F869=\"Chest Pain\",Data!G869=\"No\"),1,0)","v":0}]
[{"$f":"IF(AND(Data!C870>34,Data!F870=\"Chest Pain\",Data!G870=\"No\"),1,0)","v":0}]
[{"$f":"IF(AND(Data!C871>34,Data!F871=\"Chest Pain\",Data!G871=\"No\"),1,0)","v":0}]
[{"$f":"IF(AND(Data!C872>34,Data!F872=\"Chest Pain\",Data!G872=\"No\"),1,0)","v":0}]
[{"$f":"IF(AND(Data!C873>34,Data!F873=\"Chest Pain\",Data!G873=\"No\"),1,0)","v":0}]
[{"$f":"IF(AND(Data!C874>34,Data!F874=\"Chest Pain\",Data!G874=\"No\"),1,0)","v":0}]
[{"$f":"IF(AND(Data!C875>34,Data!F875=\"Chest Pain\",Data!G875=\"No\"),1,0)","v":0}]
[{"$f":"IF(AND(Data!C876>34,Data!F876=\"Chest Pain\",Data!G876=\"No\"),1,0)","v":0}]
[{"$f":"IF(AND(Data!C877>34,Data!F877=\"Chest Pain\",Data!G877=\"No\"),1,0)","v":0}]
[{"$f":"IF(AND(Data!C878>34,Data!F878=\"Chest Pain\",Data!G878=\"No\"),1,0)","v":0}]
[{"$f":"IF(AND(Data!C879>34,Data!F879=\"Chest Pain\",Data!G879=\"No\"),1,0)","v":0}]
[{"$f":"IF(AND(Data!C880>34,Data!F880=\"Chest Pain\",Data!G880=\"No\"),1,0)","v":0}]
[{"$f":"IF(AND(Data!C881>34,Data!F881=\"Chest Pain\",Data!G881=\"No\"),1,0)","v":0}]
[{"$f":"IF(AND(Data!C882>34,Data!F882=\"Chest Pain\",Data!G882=\"No\"),1,0)","v":0}]
[{"$f":"IF(AND(Data!C883>34,Data!F883=\"Chest Pain\",Data!G883=\"No\"),1,0)","v":0}]
[{"$f":"IF(AND(Data!C884>34,Data!F884=\"Chest Pain\",Data!G884=\"No\"),1,0)","v":0}]
[{"$f":"IF(AND(Data!C885>34,Data!F885=\"Chest Pain\",Data!G885=\"No\"),1,0)","v":0}]
[{"$f":"IF(AND(Data!C886>34,Data!F886=\"Chest Pain\",Data!G886=\"No\"),1,0)","v":0}]
[{"$f":"IF(AND(Data!C887>34,Data!F887=\"Chest Pain\",Data!G887=\"No\"),1,0)","v":0}]
[{"$f":"IF(AND(Data!C888>34,Data!F888=\"Chest Pain\",Data!G888=\"No\"),1,0)","v":0}]
[{"$f":"IF(AND(Data!C889>34,Data!F889=\"Chest Pain\",Data!G889=\"No\"),1,0)","v":0}]
[{"$f":"IF(AND(Data!C890>34,Data!F890=\"Chest Pain\",Data!G890=\"No\"),1,0)","v":0}]
[{"$f":"IF(AND(Data!C891>34,Data!F891=\"Chest Pain\",Data!G891=\"No\"),1,0)","v":0}]
[{"$f":"IF(AND(Data!C892>34,Data!F892=\"Chest Pain\",Data!G892=\"No\"),1,0)","v":0}]
[{"$f":"IF(AND(Data!C893>34,Data!F893=\"Chest Pain\",Data!G893=\"No\"),1,0)","v":0}]
[{"$f":"IF(AND(Data!C894>34,Data!F894=\"Chest Pain\",Data!G894=\"No\"),1,0)","v":0}]
[{"$f":"IF(AND(Data!C895>34,Data!F895=\"Chest Pain\",Data!G895=\"No\"),1,0)","v":0}]
[{"$f":"IF(AND(Data!C896>34,Data!F896=\"Chest Pain\",Data!G896=\"No\"),1,0)","v":0}]
[{"$f":"IF(AND(Data!C897>34,Data!F897=\"Chest Pain\",Data!G897=\"No\"),1,0)","v":0}]
[{"$f":"IF(AND(Data!C898>34,Data!F898=\"Chest Pain\",Data!G898=\"No\"),1,0)","v":0}]
[{"$f":"IF(AND(Data!C899>34,Data!F899=\"Chest Pain\",Data!G899=\"No\"),1,0)","v":0}]
[{"$f":"IF(AND(Data!C900>34,Data!F900=\"Chest Pain\",Data!G900=\"No\"),1,0)","v":0}]
[{"$f":"IF(AND(Data!C901>34,Data!F901=\"Chest Pain\",Data!G901=\"No\"),1,0)","v":0}]
[{"$f":"IF(AND(Data!C902>34,Data!F902=\"Chest Pain\",Data!G902=\"No\"),1,0)","v":0}]
[{"$f":"IF(AND(Data!C903>34,Data!F903=\"Chest Pain\",Data!G903=\"No\"),1,0)","v":0}]
[{"$f":"IF(AND(Data!C904>34,Data!F904=\"Chest Pain\",Data!G904=\"No\"),1,0)","v":0}]
[{"$f":"IF(AND(Data!C905>34,Data!F905=\"Chest Pain\",Data!G905=\"No\"),1,0)","v":0}]
[{"$f":"IF(AND(Data!C906>34,Data!F906=\"Chest Pain\",Data!G906=\"No\"),1,0)","v":0}]
[{"$f":"IF(AND(Data!C907>34,Data!F907=\"Chest Pain\",Data!G907=\"No\"),1,0)","v":0}]
[{"$f":"IF(AND(Data!C908>34,Data!F908=\"Chest Pain\",Data!G908=\"No\"),1,0)","v":0}]
[{"$f":"IF(AND(Data!C909>34,Data!F909=\"Chest Pain\",Data!G909=\"No\"),1,0)","v":0}]
[{"$f":"IF(AND(Data!C910>34,Data!F910=\"Chest Pain\",Data!G910=\"No\"),1,0)","v":0}]
[{"$f":"IF(AND(Data!C911>34,Data!F911=\"Chest Pain\",Data!G911=\"No\"),1,0)","v":0}]
[{"$f":"IF(AND(Data!C912>34,Data!F912=\"Chest Pain\",Data!G912=\"No\"),1,0)","v":0}]
[{"$f":"IF(AND(Data!C913>34,Data!F913=\"Chest Pain\",Data!G913=\"No\"),1,0)","v":0}]
[{"$f":"IF(AND(Data!C914>34,Data!F914=\"Chest Pain\",Data!G914=\"No\"),1,0)","v":0}]
[{"$f":"IF(AND(Data!C915>34,Data!F915=\"Chest Pain\",Data!G915=\"No\"),1,0)","v":0}]
[{"$f":"IF(AND(Data!C916>34,Data!F916=\"Chest Pain\",Data!G916=\"No\"),1,0)","v":0}]
[{"$f":"IF(AND(Data!C917>34,Data!F917=\"Chest Pain\",Data!G917=\"No\"),1,0)","v":0}]
[{"$f":"IF(AND(Data!C918>34,Data!F918=\"Chest Pain\",Data!G918=\"No\"),1,0)","v":0}]
[{"$f":"IF(AND(Data!C919>34,Data!F919=\"Chest Pain\",Data!G919=\"No\"),1,0)","v":0}]
[{"$f":"IF(AND(Data!C920>34,Data!F920=\"Chest Pain\",Data!G920=\"No\"),1,0)","v":0}]
[{"$f":"IF(AND(Data!C921>34,Data!F921=\"Chest Pain\",Data!G921=\"No\"),1,0)","v":0}]
[{"$f":"IF(AND(Data!C922>34,Data!F922=\"Chest Pain\",Data!G922=\"No\"),1,0)","v":0}]
[{"$f":"IF(AND(Data!C923>34,Data!F923=\"Chest Pain\",Data!G923=\"No\"),1,0)","v":0}]
[{"$f":"IF(AND(Data!C924>34,Data!F924=\"Chest Pain\",Data!G924=\"No\"),1,0)","v":0}]
[{"$f":"IF(AND(Data!C925>34,Data!F925=\"Chest Pain\",Data!G925=\"No\"),1,0)","v":0}]
[{"$f":"IF(AND(Data!C926>34,Data!F926=\"Chest Pain\",Data!G926=\"No\"),1,0)","v":0}]
[{"$f":"IF(AND(Data!C927>34,Data!F927=\"Chest Pain\",Data!G927=\"No\"),1,0)","v":0}]
[{"$f":"IF(AND(Data!C928>34,Data!F928=\"Chest Pain\",Data!G928=\"No\"),1,0)","v":0}]
[{"$f":"IF(AND(Data!C929>34,Data!F929=\"Chest Pain\",Data!G929=\"No\"),1,0)","v":0}]
[{"$f":"IF(AND(Data!C930>34,Data!F930=\"Chest Pain\",Data!G930=\"No\"),1,0)","v":0}]
[{"$f":"IF(AND(Data!C931>34,Data!F931=\"Chest Pain\",Data!G931=\"No\"),1,0)","v":0}]
[{"$f":"IF(AND(Data!C932>34,Data!F932=\"Chest Pain\",Data!G932=\"No\"),1,0)","v":0}]
[{"$f":"IF(AND(Data!C933>34,Data!F933=\"Chest Pain\",Data!G933=\"No\"),1,0)","v":0}]
[{"$f":"IF(AND(Data!C934>34,Data!F934=\"Chest Pain\",Data!G934=\"No\"),1,0)","v":0}]
[{"$f":"IF(AND(Data!C935>34,Data!F935=\"Chest Pain\",Data!G935=\"No\"),1,0)","v":0}]
[{"$f":"IF(AND(Data!C936>34,Data!F936=\"Chest Pain\",Data!G936=\"No\"),1,0)","v":0}]
[{"$f":"IF(AND(Data!C937>34,Data!F937=\"Chest Pain\",Data!G937=\"No\"),1,0)","v":0}]
[{"$f":"IF(AND(Data!C938>34,Data!F938=\"Chest Pain\",Data!G938=\"No\"),1,0)","v":0}]
[{"$f":"IF(AND(Data!C939>34,Data!F939=\"Chest Pain\",Data!G939=\"No\"),1,0)","v":0}]
[{"$f":"IF(AND(Data!C940>34,Data!F940=\"Chest Pain\",Data!G940=\"No\"),1,0)","v":0}]
[{"$f":"IF(AND(Data!C941>34,Data!F941=\"Chest Pain\",Data!G941=\"No\"),1,0)","v":0}]
[{"$f":"IF(AND(Data!C942>34,Data!F942=\"Chest Pain\",Data!G942=\"No\"),1,0)","v":0}]
[{"$f":"IF(AND(Data!C943>34,Data!F943=\"Chest Pain\",Data!G943=\"No\"),1,0)","v":0}]
[{"$f":"IF(AND(Data!C944>34,Data!F944=\"Chest Pain\",Data!G944=\"No\"),1,0)","v":0}]
[{"$f":"IF(AND(Data!C945>34,Data!F945=\"Chest Pain\",Data!G945=\"No\"),1,0)","v":0}]
[{"$f":"IF(AND(Data!C946>34,Data!F946=\"Chest Pain\",Data!G946=\"No\"),1,0)","v":0}]
[{"$f":"IF(AND(Data!C947>34,Data!F947=\"Chest Pain\",Data!G947=\"No\"),1,0)","v":0}]
[{"$f":"IF(AND(Data!C948>34,Data!F948=\"Chest Pain\",Data!G948=\"No\"),1,0)","v":0}]
[{"$f":"IF(AND(Data!C949>34,Data!F949=\"Chest Pain\",Data!G949=\"No\"),1,0)","v":0}]
[{"$f":"IF(AND(Data!C950>34,Data!F950=\"Chest Pain\",Data!G950=\"No\"),1,0)","v":0}]
[{"$f":"IF(AND(Data!C951>34,Data!F951=\"Chest Pain\",Data!G951=\"No\"),1,0)","v":0}]
[{"$f":"IF(AND(Data!C952>34,Data!F952=\"Chest Pain\",Data!G952=\"No\"),1,0)","v":0}]
[{"$f":"IF(AND(Data!C953>34,Data!F953=\"Chest Pain\",Data!G953=\"No\"),1,0)","v":0}]
[{"$f":"IF(AND(Data!C954>34,Data!F954=\"Chest Pain\",Data!G954=\"No\"),1,0)","v":0}]
[{"$f":"IF(AND(Data!C955>34,Data!F955=\"Chest Pain\",Data!G955=\"No\"),1,0)","v":0}]
[{"$f":"IF(AND(Data!C956>34,Data!F956=\"Chest Pain\",Data!G956=\"No\"),1,0)","v":0}]
[{"$f":"IF(AND(Data!C957>34,Data!F957=\"Chest Pain\",Data!G957=\"No\"),1,0)","v":0}]
[{"$f":"IF(AND(Data!C958>34,Data!F958=\"Chest Pain\",Data!G958=\"No\"),1,0)","v":0}]
[{"$f":"IF(AND(Data!C959>34,Data!F959=\"Chest Pain\",Data!G959=\"No\"),1,0)","v":0}]
[{"$f":"IF(AND(Data!C960>34,Data!F960=\"Chest Pain\",Data!G960=\"No\"),1,0)","v":0}]
[{"$f":"IF(AND(Data!C961>34,Data!F961=\"Chest Pain\",Data!G961=\"No\"),1,0)","v":0}]
[{"$f":"IF(AND(Data!C962>34,Data!F962=\"Chest Pain\",Data!G962=\"No\"),1,0)","v":0}]
[{"$f":"IF(AND(Data!C963>34,Data!F963=\"Chest Pain\",Data!G963=\"No\"),1,0)","v":0}]
[{"$f":"IF(AND(Data!C964>34,Data!F964=\"Chest Pain\",Data!G964=\"No\"),1,0)","v":0}]
[{"$f":"IF(AND(Data!C965>34,Data!F965=\"Chest Pain\",Data!G965=\"No\"),1,0)","v":0}]
[{"$f":"IF(AND(Data!C966>34,Data!F966=\"Chest Pain\",Data!G966=\"No\"),1,0)","v":0}]
[{"$f":"IF(AND(Data!C967>34,Data!F967=\"Chest Pain\",Data!G967=\"No\"),1,0)","v":0}]
[{"$f":"IF(AND(Data!C968>34,Data!F968=\"Chest Pain\",Data!G968=\"No\"),1,0)","v":0}]
[{"$f":"IF(AND(Data!C969>34,Data!F969=\"Chest Pain\",Data!G969=\"No\"),1,0)","v":0}]
[{"$f":"IF(AND(Data!C970>34,Data!F970=\"Chest Pain\",Data!G970=\"No\"),1,0)","v":0}]
[{"$f":"IF(AND(Data!C971>34,Data!F971=\"Chest Pain\",Data!G971=\"No\"),1,0)","v":0}]
[{"$f":"IF(AND(Data!C972>34,Data!F972=\"Chest Pain\",Data!G972=\"No\"),1,0)","v":0}]
[{"$f":"IF(AND(Data!C973>34,Data!F973=\"Chest Pain\",Data!G973=\"No\"),1,0)","v":0}]
[{"$f":"IF(AND(Data!C974>34,Data!F974=\"Chest Pain\",Data!G974=\"No\"),1,0)","v":0}]
[{"$f":"IF(AND(Data!C975>34,Data!F975=\"Chest Pain\",Data!G975=\"No\"),1,0)","v":0}]
[{"$f":"IF(AND(Data!C976>34,Data!F976=\"Chest Pain\",Data!G976=\"No\"),1,0)","v":0}]
[{"$f":"IF(AND(Data!C977>34,Data!F977=\"Chest Pain\",Data!G977=\"No\"),1,0)","v":0}]
[{"$f":"IF(AND(Data!C978>34,Data!F978=\"Chest Pain\",Data!G978=\"No\"),1,0)","v":0}]
[{"$f":"IF(AND(Data!C979>34,Data!F979=\"Chest Pain\",Data!G979=\"No\"),1,0)","v":0}]
[{"$f":"IF(AND(Data!C980>34,Data!F980=\"Chest Pain\",Data!G980=\"No\"),1,0)","v":0}]
[{"$f":"IF(AND(Data!C981>34,Data!F981=\"Chest Pain\",Data!G981=\"No\"),1,0)","v":0}]
[{"$f":"IF(AND(Data!C982>34,Data!F982=\"Chest Pain\",Data!G982=\"No\"),1,0)","v":0}]
[{"$f":"IF(AND(Data!C983>34,Data!F983=\"Chest Pain\",Data!G983=\"No\"),1,0)","v":0}]
[{"$f":"IF(AND(Data!C984>34,Data!F984=\"Chest Pain\",Data!G984=\"No\"),1,0)","v":0}]
[{"$f":"IF(AND(Data!C985>34,Data!F985=\"Chest Pain\",Data!G985=\"No\"),1,0)","v":0}]
[{"$f":"IF(AND(Data!C986>34,Data!F986=\"Chest Pain\",Data!G986=\"No\"),1,0)","v":0}]
[{"$f":"IF(AND(Data!C987>34,Data!F987=\"Chest Pain\",Data!G987=\"No\"),1,0)","v":0}]
[{"$f":"IF(AND(Data!C988>34,Data!F988=\"Chest Pain\",Data!G988=\"No\"),1,0)","v":0}]
[{"$f":"IF(AND(Data!C989>34,Data!F989=\"Chest Pain\",Data!G989=\"No\"),1,0)","v":0}]
[{"$f":"IF(AND(Data!C990>34,Data!F990=\"Chest Pain\",Data!G990=\"No\"),1,0)","v":0}]
[{"$f":"IF(AND(Data!C991>34,Data!F991=\"Chest Pain\",Data!G991=\"No\"),1,0)","v":0}]
[{"$f":"IF(AND(Data!C992>34,Data!F992=\"Chest Pain\",Data!G992=\"No\"),1,0)","v":0}]
[{"$f":"IF(AND(Data!C993>34,Data!F993=\"Chest Pain\",Data!G993=\"No\"),1,0)","v":0}]
[{"$f":"IF(AND(Data!C994>34,Data!F994=\"Chest Pain\",Data!G994=\"No\"),1,0)","v":0}]
[{"$f":"IF(AND(Data!C995>34,Data!F995=\"Chest Pain\",Data!G995=\"No\"),1,0)","v":0}]
[{"$f":"IF(AND(Data!C996>34,Data!F996=\"Chest Pain\",Data!G996=\"No\"),1,0)","v":0}]
[{"$f":"IF(AND(Data!C997>34,Data!F997=\"Chest Pain\",Data!G997=\"No\"),1,0)","v":0}]
[{"$f":"IF(AND(Data!C998>34,Data!F998=\"Chest Pain\",Data!G998=\"No\"),1,0)","v":0}]
[{"$f":"IF(AND(Data!C999>34,Data!F999=\"Chest Pain\",Data!G999=\"No\"),1,0)","v":0}]
[{"$f":"IF(AND(Data!C1000>34,Data!F1000=\"Chest Pain\",Data!G1000=\"No\"),1,0)","v":0}]
[{"$f":"IF(AND(Data!C1001>34,Data!F1001=\"Chest Pain\",Data!G1001=\"No\"),1,0)","v":0}]
[{"$f":"IF(AND(Data!C1002>34,Data!F1002=\"Chest Pain\",Data!G1002=\"No\"),1,0)","v":0}]
[{"$f":"IF(AND(Data!C1003>34,Data!F1003=\"Chest Pain\",Data!G1003=\"No\"),1,0)","v":0}]
[{"$f":"IF(AND(Data!C1004>34,Data!F1004=\"Chest Pain\",Data!G1004=\"No\"),1,0)","v":0}]
[{"$f":"IF(AND(Data!C1005>34,Data!F1005=\"Chest Pain\",Data!G1005=\"No\"),1,0)","v":0}]
[{"$f":"IF(AND(Data!C1006>34,Data!F1006=\"Chest Pain\",Data!G1006=\"No\"),1,0)","v":0}]
[{"$f":"IF(AND(Data!C1007>34,Data!F1007=\"Chest Pain\",Data!G1007=\"No\"),1,0)","v":0}]
[{"$f":"IF(AND(Data!C1008>34,Data!F1008=\"Chest Pain\",Data!G1008=\"No\"),1,0)","v":0}]
[{"$f":"IF(AND(Data!C1009>34,Data!F1009=\"Chest Pain\",Data!G1009=\"No\"),1,0)","v":0}]
[{"$f":"IF(AND(Data!C1010>34,Data!F1010=\"Chest Pain\",Data!G1010=\"No\"),1,0)","v":0}]
[{"$f":"IF(AND(Data!C1011>34,Data!F1011=\"Chest Pain\",Data!G1011=\"No\"),1,0)","v":0}]
[{"$f":"IF(AND(Data!C1012>34,Data!F1012=\"Chest Pain\",Data!G1012=\"No\"),1,0)","v":0}]
[{"$f":"IF(AND(Data!C1013>34,Data!F1013=\"Chest Pain\",Data!G1013=\"No\"),1,0)","v":0}]
[{"$f":"IF(AND(Data!C1014>34,Data!F1014=\"Chest Pain\",Data!G1014=\"No\"),1,0)","v":0}]
[{"$f":"IF(AND(Data!C1015>34,Data!F1015=\"Chest Pain\",Data!G1015=\"No\"),1,0)","v":0}]
[{"$f":"IF(AND(Data!C1016>34,Data!F1016=\"Chest Pain\",Data!G1016=\"No\"),1,0)","v":0}]
[{"$f":"IF(AND(Data!C1017>34,Data!F1017=\"Chest Pain\",Data!G1017=\"No\"),1,0)","v":0}]
[{"$f":"IF(AND(Data!C1018>34,Data!F1018=\"Chest Pain\",Data!G1018=\"No\"),1,0)","v":0}]
[{"$f":"IF(AND(Data!C1019>34,Data!F1019=\"Chest Pain\",Data!G1019=\"No\"),1,0)","v":0}]
[{"$f":"IF(AND(Data!C1020>34,Data!F1020=\"Chest Pain\",Data!G1020=\"No\"),1,0)","v":0}]
[{"$f":"IF(AND(Data!C1021>34,Data!F1021=\"Chest Pain\",Data!G1021=\"No\"),1,0)","v":0}]
[{"$f":"IF(AND(Data!C1022>34,Data!F1022=\"Chest Pain\",Data!G1022=\"No\"),1,0)","v":0}]
[{"$f":"IF(AND(Data!C1023>34,Data!F1023=\"Chest Pain\",Data!G1023=\"No\"),1,0)","v":0}]
[{"$f":"IF(AND(Data!C1024>34,Data!F1024=\"Chest Pain\",Data!G1024=\"No\"),1,0)","v":0}]
[{"$f":"IF(AND(Data!C1025>34,Data!F1025=\"Chest Pain\",Data!G1025=\"No\"),1,0)","v":0}]
[{"$f":"IF(AND(Data!C1026>34,Data!F1026=\"Chest Pain\",Data!G1026=\"No\"),1,0)","v":0}]
[{"$f":"IF(AND(Data!C1027>34,Data!F1027=\"Chest Pain\",Data!G1027=\"No\"),1,0)","v":0}]
[{"$f":"IF(AND(Data!C1028>34,Data!F1028=\"Chest Pain\",Data!G1028=\"No\"),1,0)","v":0}]
[{"$f":"IF(AND(Data!C1029>34,Data!F1029=\"Chest Pain\",Data!G1029=\"No\"),1,0)","v":0}]
[{"$f":"IF(AND(Data!C1030>34,Data!F1030=\"Chest Pain\",Data!G1030=\"No\"),1,0)","v":0}]
[{"$f":"IF(AND(Data!C1031>34,Data!F1031=\"Chest Pain\",Data!G1031=\"No\"),1,0)","v":0}]
[{"$f":"IF(AND(Data!C1032>34,Data!F1032=\"Chest Pain\",Data!G1032=\"No\"),1,0)","v":0}]
[{"$f":"IF(AND(Data!C1033>34,Data!F1033=\"Chest Pain\",Data!G1033=\"No\"),1,0)","v":0}]
[{"$f":"IF(AND(Data!C1034>34,Data!F1034=\"Chest Pain\",Data!G1034=\"No\"),1,0)","v":0}]
[{"$f":"IF(AND(Data!C1035>34,Data!F1035=\"Chest Pain\",Data!G1035=\"No\"),1,0)","v":0}]
[{"$f":"IF(AND(Data!C1036>34,Data!F1036=\"Chest Pain\",Data!G1036=\"No\"),1,0)","v":0}]
[{"$f":"IF(AND(Data!C1037>34,Data!F1037=\"Chest Pain\",Data!G1037=\"No\"),1,0)","v":0}]
[{"$f":"IF(AND(Data!C1038>34,Data!F1038=\"Chest Pain\",Data!G1038=\"No\"),1,0)","v":0}]
[{"$f":"IF(AND(Data!C1039>34,Data!F1039=\"Chest Pain\",Data!G1039=\"No\"),1,0)","v":0}]
[{"$f":"IF(AND(Data!C1040>34,Data!F1040=\"Chest Pain\",Data!G1040=\"No\"),1,0)","v":0}]
[{"$f":"IF(AND(Data!C1041>34,Data!F1041=\"Chest Pain\",Data!G1041=\"No\"),1,0)","v":0}]
[{"$f":"IF(AND(Data!C1042>34,Data!F1042=\"Chest Pain\",Data!G1042=\"No\"),1,0)","v":0}]
[{"$f":"IF(AND(Data!C1043>34,Data!F1043=\"Chest Pain\",Data!G1043=\"No\"),1,0)","v":0}]
[{"$f":"IF(AND(Data!C1044>34,Data!F1044=\"Chest Pain\",Data!G1044=\"No\"),1,0)","v":0}]
[{"$f":"IF(AND(Data!C1045>34,Data!F1045=\"Chest Pain\",Data!G1045=\"No\"),1,0)","v":0}]
[{"$f":"IF(AND(Data!C1046>34,Data!F1046=\"Chest Pain\",Data!G1046=\"No\"),1,0)","v":0}]
[{"$f":"IF(AND(Data!C1047>34,Data!F1047=\"Chest Pain\",Data!G1047=\"No\"),1,0)","v":0}]
[{"$f":"IF(AND(Data!C1048>34,Data!F1048=\"Chest Pain\",Data!G1048=\"No\"),1,0)","v":0}]
[{"$f":"IF(AND(Data!C1049>34,Data!F1049=\"Chest Pain\",Data!G1049=\"No\"),1,0)","v":0}]
[{"$f":"IF(AND(Data!C1050>34,Data!F1050=\"Chest Pain\",Data!G1050=\"No\"),1,0)","v":0}]
[{"$f":"IF(AND(Data!C1051>34,Data!F1051=\"Chest Pain\",Data!G1051=\"No\"),1,0)","v":0}]
[{"$f":"IF(AND(Data!C1052>34,Data!F1052=\"Chest Pain\",Data!G1052=\"No\"),1,0)","v":0}]
[{"$f":"IF(AND(Data!C1053>34,Data!F1053=\"Chest Pain\",Data!G1053=\"No\"),1,0)","v":0}]
[{"$f":"IF(AND(Data!C1054>34,Data!F1054=\"Chest Pain\",Data!G1054=\"No\"),1,0)","v":0}]
[{"$f":"IF(AND(Data!C1055>34,Data!F1055=\"Chest Pain\",Data!G1055=\"No\"),1,0)","v":0}]
[{"$f":"IF(AND(Data!C1056>34,Data!F1056=\"Chest Pain\",Data!G1056=\"No\"),1,0)","v":0}]
[{"$f":"IF(AND(Data!C1057>34,Data!F1057=\"Chest Pain\",Data!G1057=\"No\"),1,0)","v":0}]
[{"$f":"IF(AND(Data!C1058>34,Data!F1058=\"Chest Pain\",Data!G1058=\"No\"),1,0)","v":0}]
[{"$f":"IF(AND(Data!C1059>34,Data!F1059=\"Chest Pain\",Data!G1059=\"No\"),1,0)","v":0}]
[{"$f":"IF(AND(Data!C1060>34,Data!F1060=\"Chest Pain\",Data!G1060=\"No\"),1,0)","v":0}]
[{"$f":"IF(AND(Data!C1061>34,Data!F1061=\"Chest Pain\",Data!G1061=\"No\"),1,0)","v":0}]
[{"$f":"IF(AND(Data!C1062>34,Data!F1062=\"Chest Pain\",Data!G1062=\"No\"),1,0)","v":0}]
[{"$f":"IF(AND(Data!C1063>34,Data!F1063=\"Chest Pain\",Data!G1063=\"No\"),1,0)","v":0}]
[{"$f":"IF(AND(Data!C1064>34,Data!F1064=\"Chest Pain\",Data!G1064=\"No\"),1,0)","v":0}]
[{"$f":"IF(AND(Data!C1065>34,Data!F1065=\"Chest Pain\",Data!G1065=\"No\"),1,0)","v":0}]
[{"$f":"IF(AND(Data!C1066>34,Data!F1066=\"Chest Pain\",Data!G1066=\"No\"),1,0)","v":0}]
[{"$f":"IF(AND(Data!C1067>34,Data!F1067=\"Chest Pain\",Data!G1067=\"No\"),1,0)","v":0}]
[{"$f":"IF(AND(Data!C1068>34,Data!F1068=\"Chest Pain\",Data!G1068=\"No\"),1,0)","v":0}]
[{"$f":"IF(AND(Data!C1069>34,Data!F1069=\"Chest Pain\",Data!G1069=\"No\"),1,0)","v":0}]
[{"$f":"IF(AND(Data!C1070>34,Data!F1070=\"Chest Pain\",Data!G1070=\"No\"),1,0)","v":0}]
[{"$f":"IF(AND(Data!C1071>34,Data!F1071=\"Chest Pain\",Data!G1071=\"No\"),1,0)","v":0}]
[{"$f":"IF(AND(Data!C1072>34,Data!F1072=\"Chest Pain\",Data!G1072=\"No\"),1,0)","v":0}]
[{"$f":"IF(AND(Data!C1073>34,Data!F1073=\"Chest Pain\",Data!G1073=\"No\"),1,0)","v":0}]
[{"$f":"IF(AND(Data!C1074>34,Data!F1074=\"Chest Pain\",Data!G1074=\"No\"),1,0)","v":0}]
[{"$f":"IF(AND(Data!C1075>34,Data!F1075=\"Chest Pain\",Data!G1075=\"No\"),1,0)","v":0}]
[{"$f":"IF(AND(Data!C1076>34,Data!F1076=\"Chest Pain\",Data!G1076=\"No\"),1,0)","v":0}]
[{"$f":"IF(AND(Data!C1077>34,Data!F1077=\"Chest Pain\",Data!G1077=\"No\"),1,0)","v":0}]
[{"$f":"IF(AND(Data!C1078>34,Data!F1078=\"Chest Pain\",Data!G1078=\"No\"),1,0)","v":0}]
[{"$f":"IF(AND(Data!C1079>34,Data!F1079=\"Chest Pain\",Data!G1079=\"No\"),1,0)","v":0}]
[{"$f":"IF(AND(Data!C1080>34,Data!F1080=\"Chest Pain\",Data!G1080=\"No\"),1,0)","v":0}]
[{"$f":"IF(AND(Data!C1081>34,Data!F1081=\"Chest Pain\",Data!G1081=\"No\"),1,0)","v":0}]
[{"$f":"IF(AND(Data!C1082>34,Data!F1082=\"Chest Pain\",Data!G1082=\"No\"),1,0)","v":0}]
[{"$f":"IF(AND(Data!C1083>34,Data!F1083=\"Chest Pain\",Data!G1083=\"No\"),1,0)","v":0}]
[{"$f":"IF(AND(Data!C1084>34,Data!F1084=\"Chest Pain\",Data!G1084=\"No\"),1,0)","v":0}]
[{"$f":"IF(AND(Data!C1085>34,Data!F1085=\"Chest Pain\",Data!G1085=\"No\"),1,0)","v":0}]
[{"$f":"IF(AND(Data!C1086>34,Data!F1086=\"Chest Pain\",Data!G1086=\"No\"),1,0)","v":0}]
[{"$f":"IF(AND(Data!C1087>34,Data!F1087=\"Chest Pain\",Data!G1087=\"No\"),1,0)","v":0}]
[{"$f":"IF(AND(Data!C1088>34,Data!F1088=\"Chest Pain\",Data!G1088=\"No\"),1,0)","v":0}]
[{"$f":"IF(AND(Data!C1089>34,Data!F1089=\"Chest Pain\",Data!G1089=\"No\"),1,0)","v":0}]
[{"$f":"IF(AND(Data!C1090>34,Data!F1090=\"Chest Pain\",Data!G1090=\"No\"),1,0)","v":0}]
[{"$f":"IF(AND(Data!C1091>34,Data!F1091=\"Chest Pain\",Data!G1091=\"No\"),1,0)","v":0}]
[{"$f":"IF(AND(Data!C1092>34,Data!F1092=\"Chest Pain\",Data!G1092=\"No\"),1,0)","v":0}]
[{"$f":"IF(AND(Data!C1093>34,Data!F1093=\"Chest Pain\",Data!G1093=\"No\"),1,0)","v":0}]
[{"$f":"IF(AND(Data!C1094>34,Data!F1094=\"Chest Pain\",Data!G1094=\"No\"),1,0)","v":0}]
[{"$f":"IF(AND(Data!C1095>34,Data!F1095=\"Chest Pain\",Data!G1095=\"No\"),1,0)","v":0}]
[{"$f":"IF(AND(Data!C1096>34,Data!F1096=\"Chest Pain\",Data!G1096=\"No\"),1,0)","v":0}]
[{"$f":"IF(AND(Data!C1097>34,Data!F1097=\"Chest Pain\",Data!G1097=\"No\"),1,0)","v":0}]
[{"$f":"IF(AND(Data!C1098>34,Data!F1098=\"Chest Pain\",Data!G1098=\"No\"),1,0)","v":0}]
[{"$f":"IF(AND(Data!C1099>34,Data!F1099=\"Chest Pain\",Data!G1099=\"No\"),1,0)","v":0}]
[{"$f":"IF(AND(Data!C1100>34,Data!F1100=\"Chest Pain\",Data!G1100=\"No\"),1,0)","v":0}]
[{"$f":"IF(AND(Data!C1101>34,Data!F1101=\"Chest Pain\",Data!G1101=\"No\"),1,0)","v":0}]
[{"$f":"IF(AND(Data!C1102>34,Data!F1102=\"Chest Pain\",Data!G1102=\"No\"),1,0)","v":0}]
[{"$f":"IF(AND(Data!C1103>34,Data!F1103=\"Chest Pain\",Data!G1103=\"No\"),1,0)","v":0}]
[{"$f":"IF(AND(Data!C1104>34,Data!F1104=\"Chest Pain\",Data!G1104=\"No\"),1,0)","v":0}]
[{"$f":"IF(AND(Data!C1105>34,Data!F1105=\"Chest Pain\",Data!G1105=\"No\"),1,0)","v":0}]
[{"$f":"IF(AND(Data!C1106>34,Data!F1106=\"Chest Pain\",Data!G1106=\"No\"),1,0)","v":0}]
[{"$f":"IF(AND(Data!C1107>34,Data!F1107=\"Chest Pain\",Data!G1107=\"No\"),1,0)","v":0}]
[{"$f":"IF(AND(Data!C1108>34,Data!F1108=\"Chest Pain\",Data!G1108=\"No\"),1,0)","v":0}]
[{"$f":"IF(AND(Data!C1109>34,Data!F1109=\"Chest Pain\",Data!G1109=\"No\"),1,0)","v":0}]
[{"$f":"IF(AND(Data!C1110>34,Data!F1110=\"Chest Pain\",Data!G1110=\"No\"),1,0)","v":0}]
[{"$f":"IF(AND(Data!C1111>34,Data!F1111=\"Chest Pain\",Data!G1111=\"No\"),1,0)","v":0}]
[{"$f":"IF(AND(Data!C1112>34,Data!F1112=\"Chest Pain\",Data!G1112=\"No\"),1,0)","v":0}]
[{"$f":"IF(AND(Data!C1113>34,Data!F1113=\"Chest Pain\",Data!G1113=\"No\"),1,0)","v":0}]
[{"$f":"IF(AND(Data!C1114>34,Data!F1114=\"Chest Pain\",Data!G1114=\"No\"),1,0)","v":0}]
[{"$f":"IF(AND(Data!C1115>34,Data!F1115=\"Chest Pain\",Data!G1115=\"No\"),1,0)","v":0}]
[{"$f":"IF(AND(Data!C1116>34,Data!F1116=\"Chest Pain\",Data!G1116=\"No\"),1,0)","v":0}]
[{"$f":"IF(AND(Data!C1117>34,Data!F1117=\"Chest Pain\",Data!G1117=\"No\"),1,0)","v":0}]
[{"$f":"IF(AND(Data!C1118>34,Data!F1118=\"Chest Pain\",Data!G1118=\"No\"),1,0)","v":0}]
[{"$f":"IF(AND(Data!C1119>34,Data!F1119=\"Chest Pain\",Data!G1119=\"No\"),1,0)","v":0}]
[{"$f":"IF(AND(Data!C1120>34,Data!F1120=\"Chest Pain\",Data!G1120=\"No\"),1,0)","v":0}]
[{"$f":"IF(AND(Data!C1121>34,Data!F1121=\"Chest Pain\",Data!G1121=\"No\"),1,0)","v":0}]
[{"$f":"IF(AND(Data!C1122>34,Data!F1122=\"Chest Pain\",Data!G1122=\"No\"),1,0)","v":0}]
[{"$f":"IF(AND(Data!C1123>34,Data!F1123=\"Chest Pain\",Data!G1123=\"No\"),1,0)","v":0}]
[{"$f":"IF(AND(Data!C1124>34,Data!F1124=\"Chest Pain\",Data!G1124=\"No\"),1,0)","v":0}]
[{"$f":"IF(AND(Data!C1125>34,Data!F1125=\"Chest Pain\",Data!G1125=\"No\"),1,0)","v":0}]
[{"$f":"IF(AND(Data!C1126>34,Data!F1126=\"Chest Pain\",Data!G1126=\"No\"),1,0)","v":0}]
[{"$f":"IF(AND(Data!C1127>34,Data!F1127=\"Chest Pain\",Data!G1127=\"No\"),1,0)","v":0}]
[{"$f":"IF(AND(Data!C1128>34,Data!F1128=\"Chest Pain\",Data!G1128=\"No\"),1,0)","v":0}]
[{"$f":"IF(AND(Data!C1129>34,Data!F1129=\"Chest Pain\",Data!G1129=\"No\"),1,0)","v":0}]
[{"$f":"IF(AND(Data!C1130>34,Data!F1130=\"Chest Pain\",Data!G1130=\"No\"),1,0)","v":0}]
[{"$f":"IF(AND(Data!C1131>34,Data!F1131=\"Chest Pain\",Data!G1131=\"No\"),1,0)","v":0}]
[{"$f":"IF(AND(Data!C1132>34,Data!F1132=\"Chest Pain\",Data!G1132=\"No\"),1,0)","v":0}]
[{"$f":"IF(AND(Data!C1133>34,Data!F1133=\"Chest Pain\",Data!G1133=\"No\"),1,0)","v":0}]
[{"$f":"IF(AND(Data!C1134>34,Data!F1134=\"Chest Pain\",Data!G1134=\"No\"),1,0)","v":0}]
[{"$f":"IF(AND(Data!C1135>34,Data!F1135=\"Chest Pain\",Data!G1135=\"No\"),1,0)","v":0}]
[{"$f":"IF(AND(Data!C1136>34,Data!F1136=\"Chest Pain\",Data!G1136=\"No\"),1,0)","v":0}]
[{"$f":"IF(AND(Data!C1137>34,Data!F1137=\"Chest Pain\",Data!G1137=\"No\"),1,0)","v":0}]
[{"$f":"IF(AND(Data!C1138>34,Data!F1138=\"Chest Pain\",Data!G1138=\"No\"),1,0)","v":0}]
[{"$f":"IF(AND(Data!C1139>34,Data!F1139=\"Chest Pain\",Data!G1139=\"No\"),1,0)","v":0}]
[{"$f":"IF(AND(Data!C1140>34,Data!F1140=\"Chest Pain\",Data!G1140=\"No\"),1,0)","v":0}]
[{"$f":"IF(AND(Data!C1141>34,Data!F1141=\"Chest Pain\",Data!G1141=\"No\"),1,0)","v":0}]
[{"$f":"IF(AND(Data!C1142>34,Data!F1142=\"Chest Pain\",Data!G1142=\"No\"),1,0)","v":0}]
[{"$f":"IF(AND(Data!C1143>34,Data!F1143=\"Chest Pain\",Data!G1143=\"No\"),1,0)","v":0}]
[{"$f":"IF(AND(Data!C1144>34,Data!F1144=\"Chest Pain\",Data!G1144=\"No\"),1,0)","v":0}]
[{"$f":"IF(AND(Data!C1145>34,Data!F1145=\"Chest Pain\",Data!G1145=\"No\"),1,0)","v":0}]
[{"$f":"IF(AND(Data!C1146>34,Data!F1146=\"Chest Pain\",Data!G1146=\"No\"),1,0)","v":0}]
[{"$f":"IF(AND(Data!C1147>34,Data!F1147=\"Chest Pain\",Data!G1147=\"No\"),1,0)","v":0}]
[{"$f":"IF(AND(Data!C1148>34,Data!F1148=\"Chest Pain\",Data!G1148=\"No\"),1,0)","v":0}]
[{"$f":"IF(AND(Data!C1149>34,Data!F1149=\"Chest Pain\",Data!G1149=\"No\"),1,0)","v":0}]
[{"$f":"IF(AND(Data!C1150>34,Data!F1150=\"Chest Pain\",Data!G1150=\"No\"),1,0)","v":0}]
[{"$f":"IF(AND(Data!C1151>34,Data!F1151=\"Chest Pain\",Data!G1151=\"No\"),1,0)","v":0}]
[{"$f":"IF(AND(Data!C1152>34,Data!F1152=\"Chest Pain\",Data!G1152=\"No\"),1,0)","v":0}]
[{"$f":"IF(AND(Data!C1153>34,Data!F1153=\"Chest Pain\",Data!G1153=\"No\"),1,0)","v":0}]
[{"$f":"IF(AND(Data!C1154>34,Data!F1154=\"Chest Pain\",Data!G1154=\"No\"),1,0)","v":0}]
[{"$f":"IF(AND(Data!C1155>34,Data!F1155=\"Chest Pain\",Data!G1155=\"No\"),1,0)","v":0}]
[{"$f":"IF(AND(Data!C1156>34,Data!F1156=\"Chest Pain\",Data!G1156=\"No\"),1,0)","v":0}]
[{"$f":"IF(AND(Data!C1157>34,Data!F1157=\"Chest Pain\",Data!G1157=\"No\"),1,0)","v":0}]
[{"$f":"IF(AND(Data!C1158>34,Data!F1158=\"Chest Pain\",Data!G1158=\"No\"),1,0)","v":0}]
[{"$f":"IF(AND(Data!C1159>34,Data!F1159=\"Chest Pain\",Data!G1159=\"No\"),1,0)","v":0}]
[{"$f":"IF(AND(Data!C1160>34,Data!F1160=\"Chest Pain\",Data!G1160=\"No\"),1,0)","v":0}]
[{"$f":"IF(AND(Data!C1161>34,Data!F1161=\"Chest Pain\",Data!G1161=\"No\"),1,0)","v":0}]
[{"$f":"IF(AND(Data!C1162>34,Data!F1162=\"Chest Pain\",Data!G1162=\"No\"),1,0)","v":0}]
[{"$f":"IF(AND(Data!C1163>34,Data!F1163=\"Chest Pain\",Data!G1163=\"No\"),1,0)","v":0}]
[{"$f":"IF(AND(Data!C1164>34,Data!F1164=\"Chest Pain\",Data!G1164=\"No\"),1,0)","v":0}]
[{"$f":"IF(AND(Data!C1165>34,Data!F1165=\"Chest Pain\",Data!G1165=\"No\"),1,0)","v":0}]
[{"$f":"IF(AND(Data!C1166>34,Data!F1166=\"Chest Pain\",Data!G1166=\"No\"),1,0)","v":0}]
[{"$f":"IF(AND(Data!C1167>34,Data!F1167=\"Chest Pain\",Data!G1167=\"No\"),1,0)","v":0}]
[{"$f":"IF(AND(Data!C1168>34,Data!F1168=\"Chest Pain\",Data!G1168=\"No\"),1,0)","v":0}]
[{"$f":"IF(AND(Data!C1169>34,Data!F1169=\"Chest Pain\",Data!G1169=\"No\"),1,0)","v":0}]
[{"$f":"IF(AND(Data!C1170>34,Data!F1170=\"Chest Pain\",Data!G1170=\"No\"),1,0)","v":0}]
[{"$f":"IF(AND(Data!C1171>34,Data!F1171=\"Chest Pain\",Data!G1171=\"No\"),1,0)","v":0}]
[{"$f":"IF(AND(Data!C1172>34,Data!F1172=\"Chest Pain\",Data!G1172=\"No\"),1,0)","v":0}]
[{"$f":"IF(AND(Data!C1173>34,Data!F1173=\"Chest Pain\",Data!G1173=\"No\"),1,0)","v":0}]
[{"$f":"IF(AND(Data!C1174>34,Data!F1174=\"Chest Pain\",Data!G1174=\"No\"),1,0)","v":0}]
[{"$f":"IF(AND(Data!C1175>34,Data!F1175=\"Chest Pain\",Data!G1175=\"No\"),1,0)","v":0}]
[{"$f":"IF(AND(Data!C1176>34,Data!F1176=\"Chest Pain\",Data!G1176=\"No\"),1,0)","v":0}]
[{"$f":"IF(AND(Data!C1177>34,Data!F1177=\"Chest Pain\",Data!G1177=\"No\"),1,0)","v":0}]
[{"$f":"IF(AND(Data!C1178>34,Data!F1178=\"Chest Pain\",Data!G1178=\"No\"),1,0)","v":0}]
[{"$f":"IF(AND(Data!C1179>34,Data!F1179=\"Chest Pain\",Data!G1179=\"No\"),1,0)","v":0}]
[{"$f":"IF(AND(Data!C1180>34,Data!F1180=\"Chest Pain\",Data!G1180=\"No\"),1,0)","v":0}]
[{"$f":"IF(AND(Data!C1181>34,Data!F1181=\"Chest Pain\",Data!G1181=\"No\"),1,0)","v":0}]
[{"$f":"IF(AND(Data!C1182>34,Data!F1182=\"Chest Pain\",Data!G1182=\"No\"),1,0)","v":0}]
[{"$f":"IF(AND(Data!C1183>34,Data!F1183=\"Chest Pain\",Data!G1183=\"No\"),1,0)","v":0}]
[{"$f":"IF(AND(Data!C1184>34,Data!F1184=\"Chest Pain\",Data!G1184=\"No\"),1,0)","v":0}]
[{"$f":"IF(AND(Data!C1185>34,Data!F1185=\"Chest Pain\",Data!G1185=\"No\"),1,0)","v":0}]
[{"$f":"IF(AND(Data!C1186>34,Data!F1186=\"Chest Pain\",Data!G1186=\"No\"),1,0)","v":0}]
[{"$f":"IF(AND(Data!C1187>34,Data!F1187=\"Chest Pain\",Data!G1187=\"No\"),1,0)","v":0}]
[{"$f":"IF(AND(Data!C1188>34,Data!F1188=\"Chest Pain\",Data!G1188=\"No\"),1,0)","v":0}]
[{"$f":"IF(AND(Data!C1189>34,Data!F1189=\"Chest Pain\",Data!G1189=\"No\"),1,0)","v":0}]
[{"$f":"IF(AND(Data!C1190>34,Data!F1190=\"Chest Pain\",Data!G1190=\"No\"),1,0)","v":0}]
[{"$f":"IF(AND(Data!C1191>34,Data!F1191=\"Chest Pain\",Data!G1191=\"No\"),1,0)","v":0}]
[{"$f":"IF(AND(Data!C1192>34,Data!F1192=\"Chest Pain\",Data!G1192=\"No\"),1,0)","v":0}]
[{"$f":"IF(AND(Data!C1193>34,Data!F1193=\"Chest Pain\",Data!G1193=\"No\"),1,0)","v":0}]
[{"$f":"IF(AND(Data!C1194>34,Data!F1194=\"Chest Pain\",Data!G1194=\"No\"),1,0)","v":0}]
[{"$f":"IF(AND(Data!C1195>34,Data!F1195=\"Chest Pain\",Data!G1195=\"No\"),1,0)","v":0}]
[{"$f":"IF(AND(Data!C1196>34,Data!F1196=\"Chest Pain\",Data!G1196=\"No\"),1,0)","v":0}]
[{"$f":"IF(AND(Data!C1197>34,Data!F1197=\"Chest Pain\",Data!G1197=\"No\"),1,0)","v":0}]
[{"$f":"IF(AND(Data!C1198>34,Data!F1198=\"Chest Pain\",Data!G1198=\"No\"),1,0)","v":0}]
[{"$f":"IF(AND(Data!C1199>34,Data!F1199=\"Chest Pain\",Data!G1199=\"No\"),1,0)","v":0}]
[{"$f":"IF(AND(Data!C1200>34,Data!F1200=\"Chest Pain\",Data!G1200=\"No\"),1,0)","v":0}]
[{"$f":"IF(AND(Data!C1201>34,Data!F1201=\"Chest Pain\",Data!G1201=\"No\"),1,0)","v":0}]
[{"$f":"IF(AND(Data!C1202>34,Data!F1202=\"Chest Pain\",Data!G1202=\"No\"),1,0)","v":0}]
[{"$f":"IF(AND(Data!C1203>34,Data!F1203=\"Chest Pain\",Data!G1203=\"No\"),1,0)","v":0}]
[{"$f":"IF(AND(Data!C1204>34,Data!F1204=\"Chest Pain\",Data!G1204=\"No\"),1,0)","v":0}]
[{"$f":"IF(AND(Data!C1205>34,Data!F1205=\"Chest Pain\",Data!G1205=\"No\"),1,0)","v":0}]
[{"$f":"IF(AND(Data!C1206>34,Data!F1206=\"Chest Pain\",Data!G1206=\"No\"),1,0)","v":0}]
[{"$f":"IF(AND(Data!C1207>34,Data!F1207=\"Chest Pain\",Data!G1207=\"No\"),1,0)","v":0}]
[{"$f":"IF(AND(Data!C1208>34,Data!F1208=\"Chest Pain\",Data!G1208=\"No\"),1,0)","v":0}]
[{"$f":"IF(AND(Data!C1209>34,Data!F1209=\"Chest Pain\",Data!G1209=\"No\"),1,0)","v":0}]
[{"$f":"IF(AND(Data!C1210>34,Data!F1210=\"Chest Pain\",Data!G1210=\"No\"),1,0)","v":0}]
[{"$f":"IF(AND(Data!C1211>34,Data!F1211=\"Chest Pain\",Data!G1211=\"No\"),1,0)","v":0}]
[{"$f":"IF(AND(Data!C1212>34,Data!F1212=\"Chest Pain\",Data!G1212=\"No\"),1,0)","v":0}]
[{"$f":"IF(AND(Data!C1213>34,Data!F1213=\"Chest Pain\",Data!G1213=\"No\"),1,0)","v":0}]
[{"$f":"IF(AND(Data!C1214>34,Data!F1214=\"Chest Pain\",Data!G1214=\"No\"),1,0)","v":0}]
[{"$f":"IF(AND(Data!C1215>34,Data!F1215=\"Chest Pain\",Data!G1215=\"No\"),1,0)","v":0}]
[{"$f":"IF(AND(Data!C1216>34,Data!F1216=\"Chest Pain\",Data!G1216=\"No\"),1,0)","v":0}]
[{"$f":"IF(AND(Data!C1217>34,Data!F1217=\"Chest Pain\",Data!G1217=\"No\"),1,0)","v":0}]
[{"$f":"IF(AND(Data!C1218>34,Data!F1218=\"Chest Pain\",Data!G1218=\"No\"),1,0)","v":0}]
[{"$f":"IF(AND(Data!C1219>34,Data!F1219=\"Chest Pain\",Data!G1219=\"No\"),1,0)","v":0}]
[{"$f":"IF(AND(Data!C1220>34,Data!F1220=\"Chest Pain\",Data!G1220=\"No\"),1,0)","v":0}]
[{"$f":"IF(AND(Data!C1221>34,Data!F1221=\"Chest Pain\",Data!G1221=\"No\"),1,0)","v":0}]
[{"$f":"IF(AND(Data!C1222>34,Data!F1222=\"Chest Pain\",Data!G1222=\"No\"),1,0)","v":0}]
[{"$f":"IF(AND(Data!C1223>34,Data!F1223=\"Chest Pain\",Data!G1223=\"No\"),1,0)","v":0}]
[{"$f":"IF(AND(Data!C1224>34,Data!F1224=\"Chest Pain\",Data!G1224=\"No\"),1,0)","v":0}]
[{"$f":"IF(AND(Data!C1225>34,Data!F1225=\"Chest Pain\",Data!G1225=\"No\"),1,0)","v":0}]
[{"$f":"IF(AND(Data!C1226>34,Data!F1226=\"Chest Pain\",Data!G1226=\"No\"),1,0)","v":0}]
[{"$f":"IF(AND(Data!C1227>34,Data!F1227=\"Chest Pain\",Data!G1227=\"No\"),1,0)","v":0}]
[{"$f":"IF(AND(Data!C1228>34,Data!F1228=\"Chest Pain\",Data!G1228=\"No\"),1,0)","v":0}]
[{"$f":"IF(AND(Data!C1229>34,Data!F1229=\"Chest Pain\",Data!G1229=\"No\"),1,0)","v":0}]
[{"$f":"IF(AND(Data!C1230>34,Data!F1230=\"Chest Pain\",Data!G1230=\"No\"),1,0)","v":0}]
[{"$f":"IF(AND(Data!C1231>34,Data!F1231=\"Chest Pain\",Data!G1231=\"No\"),1,0)","v":0}]
[{"$f":"IF(AND(Data!C1232>34,Data!F1232=\"Chest Pain\",Data!G1232=\"No\"),1,0)","v":0}]
[{"$f":"IF(AND(Data!C1233>34,Data!F1233=\"Chest Pain\",Data!G1233=\"No\"),1,0)","v":0}]
[{"$f":"IF(AND(Data!C1234>34,Data!F1234=\"Chest Pain\",Data!G1234=\"No\"),1,0)","v":0}]
[{"$f":"IF(AND(Data!C1235>34,Data!F1235=\"Chest Pain\",Data!G1235=\"No\"),1,0)","v":0}]
[{"$f":"IF(AND(Data!C1236>34,Data!F1236=\"Chest Pain\",Data!G1236=\"No\"),1,0)","v":0}]
[{"$f":"IF(AND(Data!C1237>34,Data!F1237=\"Chest Pain\",Data!G1237=\"No\"),1,0)","v":0}]
[{"$f":"IF(AND(Data!C1238>34,Data!F1238=\"Chest Pain\",Data!G1238=\"No\"),1,0)","v":0}]
[{"$f":"IF(AND(Data!C1239>34,Data!F1239=\"Chest Pain\",Data!G1239=\"No\"),1,0)","v":0}]
[{"$f":"IF(AND(Data!C1240>34,Data!F1240=\"Chest Pain\",Data!G1240=\"No\"),1,0)","v":0}]
[{"$f":"IF(AND(Data!C1241>34,Data!F1241=\"Chest Pain\",Data!G1241=\"No\"),1,0)","v":0}]
[{"$f":"IF(AND(Data!C1242>34,Data!F1242=\"Chest Pain\",Data!G1242=\"No\"),1,0)","v":0}]
[{"$f":"IF(AND(Data!C1243>34,Data!F1243=\"Chest Pain\",Data!G1243=\"No\"),1,0)","v":0}]
[{"$f":"IF(AND(Data!C1244>34,Data!F1244=\"Chest Pain\",Data!G1244=\"No\"),1,0)","v":0}]
[{"$f":"IF(AND(Data!C1245>34,Data!F1245=\"Chest Pain\",Data!G1245=\"No\"),1,0)","v":0}]
[{"$f":"IF(AND(Data!C1246>34,Data!F1246=\"Chest Pain\",Data!G1246=\"No\"),1,0)","v":0}]
[{"$f":"IF(AND(Data!C1247>34,Data!F1247=\"Chest Pain\",Data!G1247=\"No\"),1,0)","v":0}]
[{"$f":"IF(AND(Data!C1248>34,Data!F1248=\"Chest Pain\",Data!G1248=\"No\"),1,0)","v":0}]
[{"$f":"IF(AND(Data!C1249>34,Data!F1249=\"Chest Pain\",Data!G1249=\"No\"),1,0)","v":0}]
[{"$f":"IF(AND(Data!C1250>34,Data!F1250=\"Chest Pain\",Data!G1250=\"No\"),1,0)","v":0}]
[{"$f":"IF(AND(Data!C1251>34,Data!F1251=\"Chest Pain\",Data!G1251=\"No\"),1,0)","v":0}]
[{"$f":"IF(AND(Data!C1252>34,Data!F1252=\"Chest Pain\",Data!G1252=\"No\"),1,0)","v":0}]
[{"$f":"IF(AND(Data!C1253>34,Data!F1253=\"Chest Pain\",Data!G1253=\"No\"),1,0)","v":0}]
[{"$f":"IF(AND(Data!C1254>34,Data!F1254=\"Chest Pain\",Data!G1254=\"No\"),1,0)","v":0}]
[{"$f":"IF(AND(Data!C1255>34,Data!F1255=\"Chest Pain\",Data!G1255=\"No\"),1,0)","v":0}]
[{"$f":"IF(AND(Data!C1256>34,Data!F1256=\"Chest Pain\",Data!G1256=\"No\"),1,0)","v":0}]
[{"$f":"IF(AND(Data!C1257>34,Data!F1257=\"Chest Pain\",Data!G1257=\"No\"),1,0)","v":0}]
[{"$f":"IF(AND(Data!C1258>34,Data!F1258=\"Chest Pain\",Data!G1258=\"No\"),1,0)","v":0}]
[{"$f":"IF(AND(Data!C1259>34,Data!F1259=\"Chest Pain\",Data!G1259=\"No\"),1,0)","v":0}]
[{"$f":"IF(AND(Data!C1260>34,Data!F1260=\"Chest Pain\",Data!G1260=\"No\"),1,0)","v":0}]
[{"$f":"IF(AND(Data!C1261>34,Data!F1261=\"Chest Pain\",Data!G1261=\"No\"),1,0)","v":0}]
[{"$f":"IF(AND(Data!C1262>34,Data!F1262=\"Chest Pain\",Data!G1262=\"No\"),1,0)","v":0}]
[{"$f":"IF(AND(Data!C1263>34,Data!F1263=\"Chest Pain\",Data!G1263=\"No\"),1,0)","v":0}]
[{"$f":"IF(AND(Data!C1264>34,Data!F1264=\"Chest Pain\",Data!G1264=\"No\"),1,0)","v":0}]
[{"$f":"IF(AND(Data!C1265>34,Data!F1265=\"Chest Pain\",Data!G1265=\"No\"),1,0)","v":0}]
[{"$f":"IF(AND(Data!C1266>34,Data!F1266=\"Chest Pain\",Data!G1266=\"No\"),1,0)","v":0}]
[{"$f":"IF(AND(Data!C1267>34,Data!F1267=\"Chest Pain\",Data!G1267=\"No\"),1,0)","v":0}]
[{"$f":"IF(AND(Data!C1268>34,Data!F1268=\"Chest Pain\",Data!G1268=\"No\"),1,0)","v":0}]
[{"$f":"IF(AND(Data!C1269>34,Data!F1269=\"Chest Pain\",Data!G1269=\"No\"),1,0)","v":0}]
[{"$f":"IF(AND(Data!C1270>34,Data!F1270=\"Chest Pain\",Data!G1270=\"No\"),1,0)","v":0}]
[{"$f":"IF(AND(Data!C1271>34,Data!F1271=\"Chest Pain\",Data!G1271=\"No\"),1,0)","v":0}]
[{"$f":"IF(AND(Data!C1272>34,Data!F1272=\"Chest Pain\",Data!G1272=\"No\"),1,0)","v":0}]
[{"$f":"IF(AND(Data!C1273>34,Data!F1273=\"Chest Pain\",Data!G1273=\"No\"),1,0)","v":0}]
[{"$f":"IF(AND(Data!C1274>34,Data!F1274=\"Chest Pain\",Data!G1274=\"No\"),1,0)","v":0}]
[{"$f":"IF(AND(Data!C1275>34,Data!F1275=\"Chest Pain\",Data!G1275=\"No\"),1,0)","v":0}]
[{"$f":"IF(AND(Data!C1276>34,Data!F1276=\"Chest Pain\",Data!G1276=\"No\"),1,0)","v":0}]
[{"$f":"IF(AND(Data!C1277>34,Data!F1277=\"Chest Pain\",Data!G1277=\"No\"),1,0)","v":0}]
[{"$f":"IF(AND(Data!C1278>34,Data!F1278=\"Chest Pain\",Data!G1278=\"No\"),1,0)","v":0}]
[{"$f":"IF(AND(Data!C1279>34,Data!F1279=\"Chest Pain\",Data!G1279=\"No\"),1,0)","v":0}]
[{"$f":"IF(AND(Data!C1280>34,Data!F1280=\"Chest Pain\",Data!G1280=\"No\"),1,0)","v":0}]
[{"$f":"IF(AND(Data!C1281>34,Data!F1281=\"Chest Pain\",Data!G1281=\"No\"),1,0)","v":0}]
[{"$f":"IF(AND(Data!C1282>34,Data!F1282=\"Chest Pain\",Data!G1282=\"No\"),1,0)","v":0}]
[{"$f":"IF(AND(Data!C1283>34,Data!F1283=\"Chest Pain\",Data!G1283=\"No\"),1,0)","v":0}]
[{"$f":"IF(AND(Data!C1284>34,Data!F1284=\"Chest Pain\",Data!G1284=\"No\"),1,0)","v":0}]
[{"$f":"IF(AND(Data!C1285>34,Data!F1285=\"Chest Pain\",Data!G1285=\"No\"),1,0)","v":0}]
[{"$f":"IF(AND(Data!C1286>34,Data!F1286=\"Chest Pain\",Data!G1286=\"No\"),1,0)","v":0}]
[{"$f":"IF(AND(Data!C1287>34,Data!F1287=\"Chest Pain\",Data!G1287=\"No\"),1,0)","v":0}]
[{"$f":"IF(AND(Data!C1288>34,Data!F1288=\"Chest Pain\",Data!G1288=\"No\"),1,0)","v":0}]
[{"$f":"IF(AND(Data!C1289>34,Data!F1289=\"Chest Pain\",Data!G1289=\"No\"),1,0)","v":0}]
[{"$f":"IF(AND(Data!C1290>34,Data!F1290=\"Chest Pain\",Data!G1290=\"No\"),1,0)","v":0}]
[{"$f":"IF(AND(Data!C1291>34,Data!F1291=\"Chest Pain\",Data!G1291=\"No\"),1,0)","v":0}]
[{"$f":"IF(AND(Data!C1292>34,Data!F1292=\"Chest Pain\",Data!G1292=\"No\"),1,0)","v":0}]
[{"$f":"IF(AND(Data!C1293>34,Data!F1293=\"Chest Pain\",Data!G1293=\"No\"),1,0)","v":0}]
[{"$f":"IF(AND(Data!C1294>34,Data!F1294=\"Chest Pain\",Data!G1294=\"No\"),1,0)","v":0}]
[{"$f":"IF(AND(Data!C1295>34,Data!F1295=\"Chest Pain\",Data!G1295=\"No\"),1,0)","v":0}]
[{"$f":"IF(AND(Data!C1296>34,Data!F1296=\"Chest Pain\",Data!G1296=\"No\"),1,0)","v":0}]
[{"$f":"IF(AND(Data!C1297>34,Data!F1297=\"Chest Pain\",Data!G1297=\"No\"),1,0)","v":0}]
[{"$f":"IF(AND(Data!C1298>34,Data!F1298=\"Chest Pain\",Data!G1298=\"No\"),1,0)","v":0}]
[{"$f":"IF(AND(Data!C1299>34,Data!F1299=\"Chest Pain\",Data!G1299=\"No\"),1,0)","v":0}]
[{"$f":"IF(AND(Data!C1300>34,Data!F1300=\"Chest Pain\",Data!G1300=\"No\"),1,0)","v":0}]
[{"$f":"IF(AND(Data!C1301>34,Data!F1301=\"Chest Pain\",Data!G1301=\"No\"),1,0)","v":0}]
[{"$f":"IF(AND(Data!C1302>34,Data!F1302=\"Chest Pain\",Data!G1302=\"No\"),1,0)","v":0}]
[{"$f":"IF(AND(Data!C1303>34,Data!F1303=\"Chest Pain\",Data!G1303=\"No\"),1,0)","v":0}]
[{"$f":"IF(AND(Data!C1304>34,Data!F1304=\"Chest Pain\",Data!G1304=\"No\"),1,0)","v":0}]
[{"$f":"IF(AND(Data!C1305>34,Data!F1305=\"Chest Pain\",Data!G1305=\"No\"),1,0)","v":0}]
[{"$f":"IF(AND(Data!C1306>34,Data!F1306=\"Chest Pain\",Data!G1306=\"No\"),1,0)","v":0}]
[{"$f":"IF(AND(Data!C1307>34,Data!F1307=\"Chest Pain\",Data!G1307=\"No\"),1,0)","v":0}]
[{"$f":"IF(AND(Data!C1308>34,Data!F1308=\"Chest Pain\",Data!G1308=\"No\"),1,0)","v":0}]
[{"$f":"IF(AND(Data!C1309>34,Data!F1309=\"Chest Pain\",Data!G1309=\"No\"),1,0)","v":0}]
[{"$f":"IF(AND(Data!C1310>34,Data!F1310=\"Chest Pain\",Data!G1310=\"No\"),1,0)","v":0}]
[{"$f":"IF(AND(Data!C1311>34,Data!F1311=\"Chest Pain\",Data!G1311=\"No\"),1,0)","v":0}]
[{"$f":"IF(AND(Data!C1312>34,Data!F1312=\"Chest Pain\",Data!G1312=\"No\"),1,0)","v":0}]
[{"$f":"IF(AND(Data!C1313>34,Data!F1313=\"Chest Pain\",Data!G1313=\"No\"),1,0)","v":0}]
[{"$f":"IF(AND(Data!C1314>34,Data!F1314=\"Chest Pain\",Data!G1314=\"No\"),1,0)","v":0}]
[{"$f":"IF(AND(Data!C1315>34,Data!F1315=\"Chest Pain\",Data!G1315=\"No\"),1,0)","v":0}]
[{"$f":"IF(AND(Data!C1316>34,Data!F1316=\"Chest Pain\",Data!G1316=\"No\"),1,0)","v":0}]
[{"$f":"IF(AND(Data!C1317>34,Data!F1317=\"Chest Pain\",Data!G1317=\"No\"),1,0)","v":0}]
[{"$f":"IF(AND(Data!C1318>34,Data!F1318=\"Chest Pain\",Data!G1318=\"No\"),1,0)","v":0}]
[{"$f":"IF(AND(Data!C1319>34,Data!F1319=\"Chest Pain\",Data!G1319=\"No\"),1,0)","v":0}]
[{"$f":"IF(AND(Data!C1320>34,Data!F1320=\"Chest Pain\",Data!G1320=\"No\"),1,0)","v":0}]
[{"$f":"IF(AND(Data!C1321>34,Data!F1321=\"Chest Pain\",Data!G1321=\"No\"),1,0)","v":0}]
[{"$f":"IF(AND(Data!C1322>34,Data!F1322=\"Chest Pain\",Data!G1322=\"No\"),1,0)","v":0}]
[{"$f":"IF(AND(Data!C1323>34,Data!F1323=\"Chest Pain\",Data!G1323=\"No\"),1,0)","v":0}]
[{"$f":"IF(AND(Data!C1324>34,Data!F1324=\"Chest Pain\",Data!G1324=\"No\"),1,0)","v":0}]
[{"$f":"IF(AND(Data!C1325>34,Data!F1325=\"Chest Pain\",Data!G1325=\"No\"),1,0)","v":0}]
[{"$f":"IF(AND(Data!C1326>34,Data!F1326=\"Chest Pain\",Data!G1326=\"No\"),1,0)","v":0}]
[{"$f":"IF(AND(Data!C1327>34,Data!F1327=\"Chest Pain\",Data!G1327=\"No\"),1,0)","v":0}]
[{"$f":"IF(AND(Data!C1328>34,Data!F1328=\"Chest Pain\",Data!G1328=\"No\"),1,0)","v":0}]
[{"$f":"IF(AND(Data!C1329>34,Data!F1329=\"Chest Pain\",Data!G1329=\"No\"),1,0)","v":0}]
[{"$f":"IF(AND(Data!C1330>34,Data!F1330=\"Chest Pain\",Data!G1330=\"No\"),1,0)","v":0}]
[{"$f":"IF(AND(Data!C1331>34,Data!F1331=\"Chest Pain\",Data!G1331=\"No\"),1,0)","v":0}]
[{"$f":"IF(AND(Data!C1332>34,Data!F1332=\"Chest Pain\",Data!G1332=\"No\"),1,0)","v":0}]
[{"$f":"IF(AND(Data!C1333>34,Data!F1333=\"Chest Pain\",Data!G1333=\"No\"),1,0)","v":0}]
[{"$f":"IF(AND(Data!C1334>34,Data!F1334=\"Chest Pain\",Data!G1334=\"No\"),1,0)","v":0}]
[{"$f":"IF(AND(Data!C1335>34,Data!F1335=\"Chest Pain\",Data!G1335=\"No\"),1,0)","v":0}]
[{"$f":"IF(AND(Data!C1336>34,Data!F1336=\"Chest Pain\",Data!G1336=\"No\"),1,0)","v":0}]
[{"$f":"IF(AND(Data!C1337>34,Data!F1337=\"Chest Pain\",Data!G1337=\"No\"),1,0)","v":0}]
[{"$f":"IF(AND(Data!C1338>34,Data!F1338=\"Chest Pain\",Data!G1338=\"No\"),1,0)","v":0}]
[{"$f":"IF(AND(Data!C1339>34,Data!F1339=\"Chest Pain\",Data!G1339=\"No\"),1,0)","v":0}]
[{"$f":"IF(AND(Data!C1340>34,Data!F1340=\"Chest Pain\",Data!G1340=\"No\"),1,0)","v":0}]
[{"$f":"IF(AND(Data!C1341>34,Data!F1341=\"Chest Pain\",Data!G1341=\"No\"),1,0)","v":0}]
[{"$f":"IF(AND(Data!C1342>34,Data!F1342=\"Chest Pain\",Data!G1342=\"No\"),1,0)","v":0}]
[{"$f":"IF(AND(Data!C1343>34,Data!F1343=\"Chest Pain\",Data!G1343=\"No\"),1,0)","v":0}]
[{"$f":"IF(AND(Data!C1344>34,Data!F1344=\"Chest Pain\",Data!G1344=\"No\"),1,0)","v":0}]
[{"$f":"IF(AND(Data!C1345>34,Data!F1345=\"Chest Pain\",Data!G1345=\"No\"),1,0)","v":0}]
[{"$f":"IF(AND(Data!C1346>34,Data!F1346=\"Chest Pain\",Data!G1346=\"No\"),1,0)","v":0}]
[{"$f":"IF(AND(Data!C1347>34,Data!F1347=\"Chest Pain\",Data!G1347=\"No\"),1,0)","v":0}]
[{"$f":"IF(AND(Data!C1348>34,Data!F1348=\"Chest Pain\",Data!G1348=\"No\"),1,0)","v":0}]
[{"$f":"IF(AND(Data!C1349>34,Data!F1349=\"Chest Pain\",Data!G1349=\"No\"),1,0)","v":0}]
[{"$f":"IF(AND(Data!C1350>34,Data!F1350=\"Chest Pain\",Data!G1350=\"No\"),1,0)","v":0}]
[{"$f":"IF(AND(Data!C1351>34,Data!F1351=\"Chest Pain\",Data!G1351=\"No\"),1,0)","v":0}]
[{"$f":"IF(AND(Data!C1352>34,Data!F1352=\"Chest Pain\",Data!G1352=\"No\"),1,0)","v":0}]
[{"$f":"IF(AND(Data!C1353>34,Data!F1353=\"Chest Pain\",Data!G1353=\"No\"),1,0)","v":0}]
[{"$f":"IF(AND(Data!C1354>34,Data!F1354=\"Chest Pain\",Data!G1354=\"No\"),1,0)","v":0}]
[{"$f":"IF(AND(Data!C1355>34,Data!F1355=\"Chest Pain\",Data!G1355=\"No\"),1,0)","v":0}]
[{"$f":"IF(AND(Data!C1356>34,Data!F1356=\"Chest Pain\",Data!G1356=\"No\"),1,0)","v":0}]
[{"$f":"IF(AND(Data!C1357>34,Data!F1357=\"Chest Pain\",Data!G1357=\"No\"),1,0)","v":0}]
[{"$f":"IF(AND(Data!C1358>34,Data!F1358=\"Chest Pain\",Data!G1358=\"No\"),1,0)","v":0}]
[{"$f":"IF(AND(Data!C1359>34,Data!F1359=\"Chest Pain\",Data!G1359=\"No\"),1,0)","v":0}]
[{"$f":"IF(AND(Data!C1360>34,Data!F1360=\"Chest Pain\",Data!G1360=\"No\"),1,0)","v":0}]
[{"$f":"IF(AND(Data!C1361>34,Data!F1361=\"Chest Pain\",Data!G1361=\"No\"),1,0)","v":0}]
[{"$f":"IF(AND(Data!C1362>34,Data!F1362=\"Chest Pain\",Data!G1362=\"No\"),1,0)","v":0}]
[{"$f":"IF(AND(Data!C1363>34,Data!F1363=\"Chest Pain\",Data!G1363=\"No\"),1,0)","v":0}]
[{"$f":"IF(AND(Data!C1364>34,Data!F1364=\"Chest Pain\",Data!G1364=\"No\"),1,0)","v":0}]
[{"$f":"IF(AND(Data!C1365>34,Data!F1365=\"Chest Pain\",Data!G1365=\"No\"),1,0)","v":0}]
[{"$f":"IF(AND(Data!C1366>34,Data!F1366=\"Chest Pain\",Data!G1366=\"No\"),1,0)","v":0}]
[{"$f":"IF(AND(Data!C1367>34,Data!F1367=\"Chest Pain\",Data!G1367=\"No\"),1,0)","v":0}]
[{"$f":"IF(AND(Data!C1368>34,Data!F1368=\"Chest Pain\",Data!G1368=\"No\"),1,0)","v":0}]
[{"$f":"IF(AND(Data!C1369>34,Data!F1369=\"Chest Pain\",Data!G1369=\"No\"),1,0)","v":0}]
[{"$f":"IF(AND(Data!C1370>34,Data!F1370=\"Chest Pain\",Data!G1370=\"No\"),1,0)","v":0}]
[{"$f":"IF(AND(Data!C1371>34,Data!F1371=\"Chest Pain\",Data!G1371=\"No\"),1,0)","v":0}]
[{"$f":"IF(AND(Data!C1372>34,Data!F1372=\"Chest Pain\",Data!G1372=\"No\"),1,0)","v":0}]
[{"$f":"IF(AND(Data!C1373>34,Data!F1373=\"Chest Pain\",Data!G1373=\"No\"),1,0)","v":0}]
[{"$f":"IF(AND(Data!C1374>34,Data!F1374=\"Chest Pain\",Data!G1374=\"No\"),1,0)","v":0}]
[{"$f":"IF(AND(Data!C1375>34,Data!F1375=\"Chest Pain\",Data!G1375=\"No\"),1,0)","v":0}]
[{"$f":"IF(AND(Data!C1376>34,Data!F1376=\"Chest Pain\",Data!G1376=\"No\"),1,0)","v":0}]
[{"$f":"IF(AND(Data!C1377>34,Data!F1377=\"Chest Pain\",Data!G1377=\"No\"),1,0)","v":0}]
[{"$f":"IF(AND(Data!C1378>34,Data!F1378=\"Chest Pain\",Data!G1378=\"No\"),1,0)","v":0}]
[{"$f":"IF(AND(Data!C1379>34,Data!F1379=\"Chest Pain\",Data!G1379=\"No\"),1,0)","v":0}]
[{"$f":"IF(AND(Data!C1380>34,Data!F1380=\"Chest Pain\",Data!G1380=\"No\"),1,0)","v":0}]
[{"$f":"IF(AND(Data!C1381>34,Data!F1381=\"Chest Pain\",Data!G1381=\"No\"),1,0)","v":0}]
[{"$f":"IF(AND(Data!C1382>34,Data!F1382=\"Chest Pain\",Data!G1382=\"No\"),1,0)","v":0}]
[{"$f":"IF(AND(Data!C1383>34,Data!F1383=\"Chest Pain\",Data!G1383=\"No\"),1,0)","v":0}]
[{"$f":"IF(AND(Data!C1384>34,Data!F1384=\"Chest Pain\",Data!G1384=\"No\"),1,0)","v":0}]
[{"$f":"IF(AND(Data!C1385>34,Data!F1385=\"Chest Pain\",Data!G1385=\"No\"),1,0)","v":0}]
[{"$f":"IF(AND(Data!C1386>34,Data!F1386=\"Chest Pain\",Data!G1386=\"No\"),1,0)","v":0}]
[{"$f":"IF(AND(Data!C1387>34,Data!F1387=\"Chest Pain\",Data!G1387=\"No\"),1,0)","v":0}]
[{"$f":"IF(AND(Data!C1388>34,Data!F1388=\"Chest Pain\",Data!G1388=\"No\"),1,0)","v":0}]
[{"$f":"IF(AND(Data!C1389>34,Data!F1389=\"Chest Pain\",Data!G1389=\"No\"),1,0)","v":0}]
[{"$f":"IF(AND(Data!C1390>34,Data!F1390=\"Chest Pain\",Data!G1390=\"No\"),1,0)","v":0}]
[{"$f":"IF(AND(Data!C1391>34,Data!F1391=\"Chest Pain\",Data!G1391=\"No\"),1,0)","v":0}]
[{"$f":"IF(AND(Data!C1392>34,Data!F1392=\"Chest Pain\",Data!G1392=\"No\"),1,0)","v":0}]
[{"$f":"IF(AND(Data!C1393>34,Data!F1393=\"Chest Pain\",Data!G1393=\"No\"),1,0)","v":0}]
[{"$f":"IF(AND(Data!C1394>34,Data!F1394=\"Chest Pain\",Data!G1394=\"No\"),1,0)","v":0}]
[{"$f":"IF(AND(Data!C1395>34,Data!F1395=\"Chest Pain\",Data!G1395=\"No\"),1,0)","v":0}]
[{"$f":"IF(AND(Data!C1396>34,Data!F1396=\"Chest Pain\",Data!G1396=\"No\"),1,0)","v":0}]
[{"$f":"IF(AND(Data!C1397>34,Data!F1397=\"Chest Pain\",Data!G1397=\"No\"),1,0)","v":0}]
[{"$f":"IF(AND(Data!C1398>34,Data!F1398=\"Chest Pain\",Data!G1398=\"No\"),1,0)","v":0}]
[{"$f":"IF(AND(Data!C1399>34,Data!F1399=\"Chest Pain\",Data!G1399=\"No\"),1,0)","v":0}]
[{"$f":"IF(AND(Data!C1400>34,Data!F1400=\"Chest Pain\",Data!G1400=\"No\"),1,0)","v":0}]
[{"$f":"IF(AND(Data!C1401>34,Data!F1401=\"Chest Pain\",Data!G1401=\"No\"),1,0)","v":0}]
[{"$f":"IF(AND(Data!C1402>34,Data!F1402=\"Chest Pain\",Data!G1402=\"No\"),1,0)","v":0}]
[{"$f":"IF(AND(Data!C1403>34,Data!F1403=\"Chest Pain\",Data!G1403=\"No\"),1,0)","v":0}]
[{"$f":"IF(AND(Data!C1404>34,Data!F1404=\"Chest Pain\",Data!G1404=\"No\"),1,0)","v":0}]
[{"$f":"IF(AND(Data!C1405>34,Data!F1405=\"Chest Pain\",Data!G1405=\"No\"),1,0)","v":0}]
[{"$f":"IF(AND(Data!C1406>34,Data!F1406=\"Chest Pain\",Data!G1406=\"No\"),1,0)","v":0}]
[{"$f":"IF(AND(Data!C1407>34,Data!F1407=\"Chest Pain\",Data!G1407=\"No\"),1,0)","v":0}]
[{"$f":"IF(AND(Data!C1408>34,Data!F1408=\"Chest Pain\",Data!G1408=\"No\"),1,0)","v":0}]
[{"$f":"IF(AND(Data!C1409>34,Data!F1409=\"Chest Pain\",Data!G1409=\"No\"),1,0)","v":0}]
[{"$f":"IF(AND(Data!C1410>34,Data!F1410=\"Chest Pain\",Data!G1410=\"No\"),1,0)","v":0}]
[{"$f":"IF(AND(Data!C1411>34,Data!F1411=\"Chest Pain\",Data!G1411=\"No\"),1,0)","v":0}]
[{"$f":"IF(AND(Data!C1412>34,Data!F1412=\"Chest Pain\",Data!G1412=\"No\"),1,0)","v":0}]
[{"$f":"IF(AND(Data!C1413>34,Data!F1413=\"Chest Pain\",Data!G1413=\"No\"),1,0)","v":0}]
[{"$f":"IF(AND(Data!C1414>34,Data!F1414=\"Chest Pain\",Data!G1414=\"No\"),1,0)","v":0}]
[{"$f":"IF(AND(Data!C1415>34,Data!F1415=\"Chest Pain\",Data!G1415=\"No\"),1,0)","v":0}]
[{"$f":"IF(AND(Data!C1416>34,Data!F1416=\"Chest Pain\",Data!G1416=\"No\"),1,0)","v":0}]
[{"$f":"IF(AND(Data!C1417>34,Data!F1417=\"Chest Pain\",Data!G1417=\"No\"),1,0)","v":0}]
[{"$f":"IF(AND(Data!C1418>34,Data!F1418=\"Chest Pain\",Data!G1418=\"No\"),1,0)","v":0}]
[{"$f":"IF(AND(Data!C1419>34,Data!F1419=\"Chest Pain\",Data!G1419=\"No\"),1,0)","v":0}]
[{"$f":"IF(AND(Data!C1420>34,Data!F1420=\"Chest Pain\",Data!G1420=\"No\"),1,0)","v":0}]
[{"$f":"IF(AND(Data!C1421>34,Data!F1421=\"Chest Pain\",Data!G1421=\"No\"),1,0)","v":0}]
[{"$f":"IF(AND(Data!C1422>34,Data!F1422=\"Chest Pain\",Data!G1422=\"No\"),1,0)","v":0}]
[{"$f":"IF(AND(Data!C1423>34,Data!F1423=\"Chest Pain\",Data!G1423=\"No\"),1,0)","v":0}]
[{"$f":"IF(AND(Data!C1424>34,Data!F1424=\"Chest Pain\",Data!G1424=\"No\"),1,0)","v":0}]
[{"$f":"IF(AND(Data!C1425>34,Data!F1425=\"Chest Pain\",Data!G1425=\"No\"),1,0)","v":0}]
[{"$f":"IF(AND(Data!C1426>34,Data!F1426=\"Chest Pain\",Data!G1426=\"No\"),1,0)","v":0}]
[{"$f":"IF(AND(Data!C1427>34,Data!F1427=\"Chest Pain\",Data!G1427=\"No\"),1,0)","v":0}]
[{"$f":"IF(AND(Data!C1428>34,Data!F1428=\"Chest Pain\",Data!G1428=\"No\"),1,0)","v":0}]
[{"$f":"IF(AND(Data!C1429>34,Data!F1429=\"Chest Pain\",Data!G1429=\"No\"),1,0)","v":0}]
[{"$f":"IF(AND(Data!C1430>34,Data!F1430=\"Chest Pain\",Data!G1430=\"No\"),1,0)","v":0}]
[{"$f":"IF(AND(Data!C1431>34,Data!F1431=\"Chest Pain\",Data!G1431=\"No\"),1,0)","v":0}]
[{"$f":"IF(AND(Data!C1432>34,Data!F1432=\"Chest Pain\",Data!G1432=\"No\"),1,0)","v":0}]
[{"$f":"IF(AND(Data!C1433>34,Data!F1433=\"Chest Pain\",Data!G1433=\"No\"),1,0)","v":0}]
[{"$f":"IF(AND(Data!C1434>34,Data!F1434=\"Chest Pain\",Data!G1434=\"No\"),1,0)","v":0}]
[{"$f":"IF(AND(Data!C1435>34,Data!F1435=\"Chest Pain\",Data!G1435=\"No\"),1,0)","v":0}]
[{"$f":"IF(AND(Data!C1436>34,Data!F1436=\"Chest Pain\",Data!G1436=\"No\"),1,0)","v":0}]
[{"$f":"IF(AND(Data!C1437>34,Data!F1437=\"Chest Pain\",Data!G1437=\"No\"),1,0)","v":0}]
[{"$f":"IF(AND(Data!C1438>34,Data!F1438=\"Chest Pain\",Data!G1438=\"No\"),1,0)","v":0}]
[{"$f":"IF(AND(Data!C1439>34,Data!F1439=\"Chest Pain\",Data!G1439=\"No\"),1,0)","v":0}]
[{"$f":"IF(AND(Data!C1440>34,Data!F1440=\"Chest Pain\",Data!G1440=\"No\"),1,0)","v":0}]
[{"$f":"IF(AND(Data!C1441>34,Data!F1441=\"Chest Pain\",Data!G1441=\"No\"),1,0)","v":0}]
[{"$f":"IF(AND(Data!C1442>34,Data!F1442=\"Chest Pain\",Data!G1442=\"No\"),1,0)","v":0}]
[{"$f":"IF(AND(Data!C1443>34,Data!F1443=\"Chest Pain\",Data!G1443=\"No\"),1,0)","v":0}]
[{"$f":"IF(AND(Data!C1444>34,Data!F1444=\"Chest Pain\",Data!G1444=\"No\"),1,0)","v":0}]
[{"$f":"IF(AND(Data!C1445>34,Data!F1445=\"Chest Pain\",Data!G1445=\"No\"),1,0)","v":0}]
[{"$f":"IF(AND(Data!C1446>34,Data!F1446=\"Chest Pain\",Data!G1446=\"No\"),1,0)","v":0}]
[{"$f":"IF(AND(Data!C1447>34,Data!F1447=\"Chest Pain\",Data!G1447=\"No\"),1,0)","v":0}]
[{"$f":"IF(AND(Data!C1448>34,Data!F1448=\"Chest Pain\",Data!G1448=\"No\"),1,0)","v":0}]
[{"$f":"IF(AND(Data!C1449>34,Data!F1449=\"Chest Pain\",Data!G1449=\"No\"),1,0)","v":0}]
[{"$f":"IF(AND(Data!C1450>34,Data!F1450=\"Chest Pain\",Data!G1450=\"No\"),1,0)","v":0}]
[{"$f":"IF(AND(Data!C1451>34,Data!F1451=\"Chest Pain\",Data!G1451=\"No\"),1,0)","v":0}]
[{"$f":"IF(AND(Data!C1452>34,Data!F1452=\"Chest Pain\",Data!G1452=\"No\"),1,0)","v":0}]
[{"$f":"IF(AND(Data!C1453>34,Data!F1453=\"Chest Pain\",Data!G1453=\"No\"),1,0)","v":0}]
[{"$f":"IF(AND(Data!C1454>34,Data!F1454=\"Chest Pain\",Data!G1454=\"No\"),1,0)","v":0}]
[{"$f":"IF(AND(Data!C1455>34,Data!F1455=\"Chest Pain\",Data!G1455=\"No\"),1,0)","v":0}]
[{"$f":"IF(AND(Data!C1456>34,Data!F1456=\"Chest Pain\",Data!G1456=\"No\"),1,0)","v":0}]
[{"$f":"IF(AND(Data!C1457>34,Data!F1457=\"Chest Pain\",Data!G1457=\"No\"),1,0)","v":0}]
[{"$f":"IF(AND(Data!C1458>34,Data!F1458=\"Chest Pain\",Data!G1458=\"No\"),1,0)","v":0}]
[{"$f":"IF(AND(Data!C1459>34,Data!F1459=\"Chest Pain\",Data!G1459=\"No\"),1,0)","v":0}]
[{"$f":"IF(AND(Data!C1460>34,Data!F1460=\"Chest Pain\",Data!G1460=\"No\"),1,0)","v":0}]
[{"$f":"IF(AND(Data!C1461>34,Data!F1461=\"Chest Pain\",Data!G1461=\"No\"),1,0)","v":0}]
[{"$f":"IF(AND(Data!C1462>34,Data!F1462=\"Chest Pain\",Data!G1462=\"No\"),1,0)","v":0}]
[{"$f":"IF(AND(Data!C1463>34,Data!F1463=\"Chest Pain\",Data!G1463=\"No\"),1,0)","v":0}]
[{"$f":"IF(AND(Data!C1464>34,Data!F1464=\"Chest Pain\",Data!G1464=\"No\"),1,0)","v":0}]
[{"$f":"IF(AND(Data!C1465>34,Data!F1465=\"Chest Pain\",Data!G1465=\"No\"),1,0)","v":0}]
[{"$f":"IF(AND(Data!C1466>34,Data!F1466=\"Chest Pain\",Data!G1466=\"No\"),1,0)","v":0}]
[{"$f":"IF(AND(Data!C1467>34,Data!F1467=\"Chest Pain\",Data!G1467=\"No\"),1,0)","v":0}]
[{"$f":"IF(AND(Data!C1468>34,Data!F1468=\"Chest Pain\",Data!G1468=\"No\"),1,0)","v":0}]
[{"$f":"IF(AND(Data!C1469>34,Data!F1469=\"Chest Pain\",Data!G1469=\"No\"),1,0)","v":0}]
[{"$f":"IF(AND(Data!C1470>34,Data!F1470=\"Chest Pain\",Data!G1470=\"No\"),1,0)","v":0}]
[{"$f":"IF(AND(Data!C1471>34,Data!F1471=\"Chest Pain\",Data!G1471=\"No\"),1,0)","v":0}]
[{"$f":"IF(AND(Data!C1472>34,Data!F1472=\"Chest Pain\",Data!G1472=\"No\"),1,0)","v":0}]
[{"$f":"IF(AND(Data!C1473>34,Data!F1473=\"Chest Pain\",Data!G1473=\"No\"),1,0)","v":0}]
[{"$f":"IF(AND(Data!C1474>34,Data!F1474=\"Chest Pain\",Data!G1474=\"No\"),1,0)","v":0}]
[{"$f":"IF(AND(Data!C1475>34,Data!F1475=\"Chest Pain\",Data!G1475=\"No\"),1,0)","v":0}]
[{"$f":"IF(AND(Data!C1476>34,Data!F1476=\"Chest Pain\",Data!G1476=\"No\"),1,0)","v":0}]
[{"$f":"IF(AND(Data!C1477>34,Data!F1477=\"Chest Pain\",Data!G1477=\"No\"),1,0)","v":0}]
[{"$f":"IF(AND(Data!C1478>34,Data!F1478=\"Chest Pain\",Data!G1478=\"No\"),1,0)","v":0}]
[{"$f":"IF(AND(Data!C1479>34,Data!F1479=\"Chest Pain\",Data!G1479=\"No\"),1,0)","v":0}]
[{"$f":"IF(AND(Data!C1480>34,Data!F1480=\"Chest Pain\",Data!G1480=\"No\"),1,0)","v":0}]
[{"$f":"IF(AND(Data!C1481>34,Data!F1481=\"Chest Pain\",Data!G1481=\"No\"),1,0)","v":0}]
[{"$f":"IF(AND(Data!C1482>34,Data!F1482=\"Chest Pain\",Data!G1482=\"No\"),1,0)","v":0}]
[{"$f":"IF(AND(Data!C1483>34,Data!F1483=\"Chest Pain\",Data!G1483=\"No\"),1,0)","v":0}]
[{"$f":"IF(AND(Data!C1484>34,Data!F1484=\"Chest Pain\",Data!G1484=\"No\"),1,0)","v":0}]
[{"$f":"IF(AND(Data!C1485>34,Data!F1485=\"Chest Pain\",Data!G1485=\"No\"),1,0)","v":0}]
[{"$f":"IF(AND(Data!C1486>34,Data!F1486=\"Chest Pain\",Data!G1486=\"No\"),1,0)","v":0}]
[{"$f":"IF(AND(Data!C1487>34,Data!F1487=\"Chest Pain\",Data!G1487=\"No\"),1,0)","v":0}]
[{"$f":"IF(AND(Data!C1488>34,Data!F1488=\"Chest Pain\",Data!G1488=\"No\"),1,0)","v":0}]
[{"$f":"IF(AND(Data!C1489>34,Data!F1489=\"Chest Pain\",Data!G1489=\"No\"),1,0)","v":0}]
[{"$f":"IF(AND(Data!C1490>34,Data!F1490=\"Chest Pain\",Data!G1490=\"No\"),1,0)","v":0}]
[{"$f":"IF(AND(Data!C1491>34,Data!F1491=\"Chest Pain\",Data!G1491=\"No\"),1,0)","v":0}]
[{"$f":"IF(AND(Data!C1492>34,Data!F1492=\"Chest Pain\",Data!G1492=\"No\"),1,0)","v":0}]
[{"$f":"IF(AND(Data!C1493>34,Data!F1493=\"Chest Pain\",Data!G1493=\"No\"),1,0)","v":0}]
[{"$f":"IF(AND(Data!C1494>34,Data!F1494=\"Chest Pain\",Data!G1494=\"No\"),1,0)","v":0}]
[{"$f":"IF(AND(Data!C1495>34,Data!F1495=\"Chest Pain\",Data!G1495=\"No\"),1,0)","v":0}]
[{"$f":"IF(AND(Data!C1496>34,Data!F1496=\"Chest Pain\",Data!G1496=\"No\"),1,0)","v":0}]
[{"$f":"IF(AND(Data!C1497>34,Data!F1497=\"Chest Pain\",Data!G1497=\"No\"),1,0)","v":0}]
[{"$f":"IF(AND(Data!C1498>34,Data!F1498=\"Chest Pain\",Data!G1498=\"No\"),1,0)","v":0}]
[{"$f":"IF(AND(Data!C1499>34,Data!F1499=\"Chest Pain\",Data!G1499=\"No\"),1,0)","v":0}]
[{"$f":"IF(AND(Data!C1500>34,Data!F1500=\"Chest Pain\",Data!G1500=\"No\"),1,0)","v":0}]
[{"$f":"IF(AND(Data!C1501>34,Data!F1501=\"Chest Pain\",Data!G1501=\"No\"),1,0)","v":0}]
[{"$f":"IF(AND(Data!C1502>34,Data!F1502=\"Chest Pain\",Data!G1502=\"No\"),1,0)","v":0}]
[{"$f":"IF(AND(Data!C1503>34,Data!F1503=\"Chest Pain\",Data!G1503=\"No\"),1,0)","v":0}]
[{"$f":"IF(AND(Data!C1504>34,Data!F1504=\"Chest Pain\",Data!G1504=\"No\"),1,0)","v":0}]
[{"$f":"IF(AND(Data!C1505>34,Data!F1505=\"Chest Pain\",Data!G1505=\"No\"),1,0)","v":0}]
[{"$f":"IF(AND(Data!C1506>34,Data!F1506=\"Chest Pain\",Data!G1506=\"No\"),1,0)","v":0}]
[{"$f":"IF(AND(Data!C1507>34,Data!F1507=\"Chest Pain\",Data!G1507=\"No\"),1,0)","v":0}]
[{"$f":"IF(AND(Data!C1508>34,Data!F1508=\"Chest Pain\",Data!G1508=\"No\"),1,0)","v":0}]
[{"$f":"IF(AND(Data!C1509>34,Data!F1509=\"Chest Pain\",Data!G1509=\"No\"),1,0)","v":0}]
[{"$f":"IF(AND(Data!C1510>34,Data!F1510=\"Chest Pain\",Data!G1510=\"No\"),1,0)","v":0}]
[{"$f":"IF(AND(Data!C1511>34,Data!F1511=\"Chest Pain\",Data!G1511=\"No\"),1,0)","v":0}]
[{"$f":"IF(AND(Data!C1512>34,Data!F1512=\"Chest Pain\",Data!G1512=\"No\"),1,0)","v":0}]
[{"$f":"IF(AND(Data!C1513>34,Data!F1513=\"Chest Pain\",Data!G1513=\"No\"),1,0)","v":0}]
[{"$f":"IF(AND(Data!C1514>34,Data!F1514=\"Chest Pain\",Data!G1514=\"No\"),1,0)","v":0}]
[{"$f":"IF(AND(Data!C1515>34,Data!F1515=\"Chest Pain\",Data!G1515=\"No\"),1,0)","v":0}]
[{"$f":"IF(AND(Data!C1516>34,Data!F1516=\"Chest Pain\",Data!G1516=\"No\"),1,0)","v":0}]
[{"$f":"IF(AND(Data!C1517>34,Data!F1517=\"Chest Pain\",Data!G1517=\"No\"),1,0)","v":0}]
[{"$f":"IF(AND(Data!C1518>34,Data!F1518=\"Chest Pain\",Data!G1518=\"No\"),1,0)","v":0}]
[{"$f":"IF(AND(Data!C1519>34,Data!F1519=\"Chest Pain\",Data!G1519=\"No\"),1,0)","v":0}]
[{"$f":"IF(AND(Data!C1520>34,Data!F1520=\"Chest Pain\",Data!G1520=\"No\"),1,0)","v":0}]
[{"$f":"IF(AND(Data!C1521>34,Data!F1521=\"Chest Pain\",Data!G1521=\"No\"),1,0)","v":0}]
[{"$f":"IF(AND(Data!C1522>34,Data!F1522=\"Chest Pain\",Data!G1522=\"No\"),1,0)","v":0}]
[{"$f":"IF(AND(Data!C1523>34,Data!F1523=\"Chest Pain\",Data!G1523=\"No\"),1,0)","v":0}]
[{"$f":"IF(AND(Data!C1524>34,Data!F1524=\"Chest Pain\",Data!G1524=\"No\"),1,0)","v":0}]
[{"$f":"IF(AND(Data!C1525>34,Data!F1525=\"Chest Pain\",Data!G1525=\"No\"),1,0)","v":0}]
[{"$f":"IF(AND(Data!C1526>34,Data!F1526=\"Chest Pain\",Data!G1526=\"No\"),1,0)","v":0}]
[{"$f":"IF(AND(Data!C1527>34,Data!F1527=\"Chest Pain\",Data!G1527=\"No\"),1,0)","v":0}]
[{"$f":"IF(AND(Data!C1528>34,Data!F1528=\"Chest Pain\",Data!G1528=\"No\"),1,0)","v":0}]
[{"$f":"IF(AND(Data!C1529>34,Data!F1529=\"Chest Pain\",Data!G1529=\"No\"),1,0)","v":0}]
[{"$f":"IF(AND(Data!C1530>34,Data!F1530=\"Chest Pain\",Data!G1530=\"No\"),1,0)","v":0}]
[{"$f":"IF(AND(Data!C1531>34,Data!F1531=\"Chest Pain\",Data!G1531=\"No\"),1,0)","v":0}]
[{"$f":"IF(AND(Data!C1532>34,Data!F1532=\"Chest Pain\",Data!G1532=\"No\"),1,0)","v":0}]
[{"$f":"IF(AND(Data!C1533>34,Data!F1533=\"Chest Pain\",Data!G1533=\"No\"),1,0)","v":0}]
[{"$f":"IF(AND(Data!C1534>34,Data!F1534=\"Chest Pain\",Data!G1534=\"No\"),1,0)","v":0}]
[{"$f":"IF(AND(Data!C1535>34,Data!F1535=\"Chest Pain\",Data!G1535=\"No\"),1,0)","v":0}]
[{"$f":"IF(AND(Data!C1536>34,Data!F1536=\"Chest Pain\",Data!G1536=\"No\"),1,0)","v":0}]
[{"$f":"IF(AND(Data!C1537>34,Data!F1537=\"Chest Pain\",Data!G1537=\"No\"),1,0)","v":0}]
[{"$f":"IF(AND(Data!C1538>34,Data!F1538=\"Chest Pain\",Data!G1538=\"No\"),1,0)","v":0}]
[{"$f":"IF(AND(Data!C1539>34,Data!F1539=\"Chest Pain\",Data!G1539=\"No\"),1,0)","v":0}]
[{"$f":"IF(AND(Data!C1540>34,Data!F1540=\"Chest Pain\",Data!G1540=\"No\"),1,0)","v":0}]
[{"$f":"IF(AND(Data!C1541>34,Data!F1541=\"Chest Pain\",Data!G1541=\"No\"),1,0)","v":0}]
[{"$f":"IF(AND(Data!C1542>34,Data!F1542=\"Chest Pain\",Data!G1542=\"No\"),1,0)","v":0}]
[{"$f":"IF(AND(Data!C1543>34,Data!F1543=\"Chest Pain\",Data!G1543=\"No\"),1,0)","v":0}]
[{"$f":"IF(AND(Data!C1544>34,Data!F1544=\"Chest Pain\",Data!G1544=\"No\"),1,0)","v":0}]
[{"$f":"IF(AND(Data!C1545>34,Data!F1545=\"Chest Pain\",Data!G1545=\"No\"),1,0)","v":0}]
[{"$f":"IF(AND(Data!C1546>34,Data!F1546=\"Chest Pain\",Data!G1546=\"No\"),1,0)","v":0}]
[{"$f":"IF(AND(Data!C1547>34,Data!F1547=\"Chest Pain\",Data!G1547=\"No\"),1,0)","v":0}]
[{"$f":"IF(AND(Data!C1548>34,Data!F1548=\"Chest Pain\",Data!G1548=\"No\"),1,0)","v":0}]
[{"$f":"IF(AND(Data!C1549>34,Data!F1549=\"Chest Pain\",Data!G1549=\"No\"),1,0)","v":0}]
[{"$f":"IF(AND(Data!C1550>34,Data!F1550=\"Chest Pain\",Data!G1550=\"No\"),1,0)","v":0}]
[{"$f":"IF(AND(Data!C1551>34,Data!F1551=\"Chest Pain\",Data!G1551=\"No\"),1,0)","v":0}]
[{"$f":"IF(AND(Data!C1552>34,Data!F1552=\"Chest Pain\",Data!G1552=\"No\"),1,0)","v":0}]
[{"$f":"IF(AND(Data!C1553>34,Data!F1553=\"Chest Pain\",Data!G1553=\"No\"),1,0)","v":0}]
[{"$f":"IF(AND(Data!C1554>34,Data!F1554=\"Chest Pain\",Data!G1554=\"No\"),1,0)","v":0}]
[{"$f":"IF(AND(Data!C1555>34,Data!F1555=\"Chest Pain\",Data!G1555=\"No\"),1,0)","v":0}]
[{"$f":"IF(AND(Data!C1556>34,Data!F1556=\"Chest Pain\",Data!G1556=\"No\"),1,0)","v":0}]
[{"$f":"IF(AND(Data!C1557>34,Data!F1557=\"Chest Pain\",Data!G1557=\"No\"),1,0)","v":0}]
[{"$f":"IF(AND(Data!C1558>34,Data!F1558=\"Chest Pain\",Data!G1558=\"No\"),1,0)","v":0}]
[{"$f":"IF(AND(Data!C1559>34,Data!F1559=\"Chest Pain\",Data!G1559=\"No\"),1,0)","v":0}]
[{"$f":"IF(AND(Data!C1560>34,Data!F1560=\"Chest Pain\",Data!G1560=\"No\"),1,0)","v":0}]
[{"$f":"IF(AND(Data!C1561>34,Data!F1561=\"Chest Pain\",Data!G1561=\"No\"),1,0)","v":0}]
[{"$f":"IF(AND(Data!C1562>34,Data!F1562=\"Chest Pain\",Data!G1562=\"No\"),1,0)","v":0}]
[{"$f":"IF(AND(Data!C1563>34,Data!F1563=\"Chest Pain\",Data!G1563=\"No\"),1,0)","v":0}]
[{"$f":"IF(AND(Data!C1564>34,Data!F1564=\"Chest Pain\",Data!G1564=\"No\"),1,0)","v":0}]
[{"$f":"IF(AND(Data!C1565>34,Data!F1565=\"Chest Pain\",Data!G1565=\"No\"),1,0)","v":0}]
[{"$f":"IF(AND(Data!C1566>34,Data!F1566=\"Chest Pain\",Data!G1566=\"No\"),1,0)","v":0}]
[{"$f":"IF(AND(Data!C1567>34,Data!F1567=\"Chest Pain\",Data!G1567=\"No\"),1,0)","v":0}]
[{"$f":"IF(AND(Data!C1568>34,Data!F1568=\"Chest Pain\",Data!G1568=\"No\"),1,0)","v":0}]
[{"$f":"IF(AND(Data!C1569>34,Data!F1569=\"Chest Pain\",Data!G1569=\"No\"),1,0)","v":0}]
[{"$f":"IF(AND(Data!C1570>34,Data!F1570=\"Chest Pain\",Data!G1570=\"No\"),1,0)","v":0}]
[{"$f":"IF(AND(Data!C1571>34,Data!F1571=\"Chest Pain\",Data!G1571=\"No\"),1,0)","v":0}]
[{"$f":"IF(AND(Data!C1572>34,Data!F1572=\"Chest Pain\",Data!G1572=\"No\"),1,0)","v":0}]
[{"$f":"IF(AND(Data!C1573>34,Data!F1573=\"Chest Pain\",Data!G1573=\"No\"),1,0)","v":0}]
[{"$f":"IF(AND(Data!C1574>34,Data!F1574=\"Chest Pain\",Data!G1574=\"No\"),1,0)","v":0}]
[{"$f":"IF(AND(Data!C1575>34,Data!F1575=\"Chest Pain\",Data!G1575=\"No\"),1,0)","v":0}]
[{"$f":"IF(AND(Data!C1576>34,Data!F1576=\"Chest Pain\",Data!G1576=\"No\"),1,0)","v":0}]
[{"$f":"IF(AND(Data!C1577>34,Data!F1577=\"Chest Pain\",Data!G1577=\"No\"),1,0)","v":0}]
[{"$f":"IF(AND(Data!C1578>34,Data!F1578=\"Chest Pain\",Data!G1578=\"No\"),1,0)","v":0}]
[{"$f":"IF(AND(Data!C1579>34,Data!F1579=\"Chest Pain\",Data!G1579=\"No\"),1,0)","v":0}]
[{"$f":"IF(AND(Data!C1580>34,Data!F1580=\"Chest Pain\",Data!G1580=\"No\"),1,0)","v":0}]
[{"$f":"IF(AND(Data!C1581>34,Data!F1581=\"Chest Pain\",Data!G1581=\"No\"),1,0)","v":0}]
[{"$f":"IF(AND(Data!C1582>34,Data!F1582=\"Chest Pain\",Data!G1582=\"No\"),1,0)","v":0}]
[{"$f":"IF(AND(Data!C1583>34,Data!F1583=\"Chest Pain\",Data!G1583=\"No\"),1,0)","v":0}]
[{"$f":"IF(AND(Data!C1584>34,Data!F1584=\"Chest Pain\",Data!G1584=\"No\"),1,0)","v":0}]
[{"$f":"IF(AND(Data!C1585>34,Data!F1585=\"Chest Pain\",Data!G1585=\"No\"),1,0)","v":0}]
[{"$f":"IF(AND(Data!C1586>34,Data!F1586=\"Chest Pain\",Data!G1586=\"No\"),1,0)","v":0}]
[{"$f":"IF(AND(Data!C1587>34,Data!F1587=\"Chest Pain\",Data!G1587=\"No\"),1,0)","v":0}]
[{"$f":"IF(AND(Data!C1588>34,Data!F1588=\"Chest Pain\",Data!G1588=\"No\"),1,0)","v":0}]
[{"$f":"IF(AND(Data!C1589>34,Data!F1589=\"Chest Pain\",Data!G1589=\"No\"),1,0)","v":0}]
[{"$f":"IF(AND(Data!C1590>34,Data!F1590=\"Chest Pain\",Data!G1590=\"No\"),1,0)","v":0}]
[{"$f":"IF(AND(Data!C1591>34,Data!F1591=\"Chest Pain\",Data!G1591=\"No\"),1,0)","v":0}]
[{"$f":"IF(AND(Data!C1592>34,Data!F1592=\"Chest Pain\",Data!G1592=\"No\"),1,0)","v":0}]
[{"$f":"IF(AND(Data!C1593>34,Data!F1593=\"Chest Pain\",Data!G1593=\"No\"),1,0)","v":0}]
[{"$f":"IF(AND(Data!C1594>34,Data!F1594=\"Chest Pain\",Data!G1594=\"No\"),1,0)","v":0}]
[{"$f":"IF(AND(Data!C1595>34,Data!F1595=\"Chest Pain\",Data!G1595=\"No\"),1,0)","v":0}]
[{"$f":"IF(AND(Data!C1596>34,Data!F1596=\"Chest Pain\",Data!G1596=\"No\"),1,0)","v":0}]
[{"$f":"IF(AND(Data!C1597>34,Data!F1597=\"Chest Pain\",Data!G1597=\"No\"),1,0)","v":0}]
[{"$f":"IF(AND(Data!C1598>34,Data!F1598=\"Chest Pain\",Data!G1598=\"No\"),1,0)","v":0}]
[{"$f":"IF(AND(Data!C1599>34,Data!F1599=\"Chest Pain\",Data!G1599=\"No\"),1,0)","v":0}]
[{"$f":"IF(AND(Data!C1600>34,Data!F1600=\"Chest Pain\",Data!G1600=\"No\"),1,0)","v":0}]
[{"$f":"IF(AND(Data!C1601>34,Data!F1601=\"Chest Pain\",Data!G1601=\"No\"),1,0)","v":0}]
[{"$f":"IF(AND(Data!C1602>34,Data!F1602=\"Chest Pain\",Data!G1602=\"No\"),1,0)","v":0}]
[{"$f":"IF(AND(Data!C1603>34,Data!F1603=\"Chest Pain\",Data!G1603=\"No\"),1,0)","v":0}]
[{"$f":"IF(AND(Data!C1604>34,Data!F1604=\"Chest Pain\",Data!G1604=\"No\"),1,0)","v":0}]
[{"$f":"IF(AND(Data!C1605>34,Data!F1605=\"Chest Pain\",Data!G1605=\"No\"),1,0)","v":0}]
[{"$f":"IF(AND(Data!C1606>34,Data!F1606=\"Chest Pain\",Data!G1606=\"No\"),1,0)","v":0}]
[{"$f":"IF(AND(Data!C1607>34,Data!F1607=\"Chest Pain\",Data!G1607=\"No\"),1,0)","v":0}]
[{"$f":"IF(AND(Data!C1608>34,Data!F1608=\"Chest Pain\",Data!G1608=\"No\"),1,0)","v":0}]
[{"$f":"IF(AND(Data!C1609>34,Data!F1609=\"Chest Pain\",Data!G1609=\"No\"),1,0)","v":0}]
[{"$f":"IF(AND(Data!C1610>34,Data!F1610=\"Chest Pain\",Data!G1610=\"No\"),1,0)","v":0}]
[{"$f":"IF(AND(Data!C1611>34,Data!F1611=\"Chest Pain\",Data!G1611=\"No\"),1,0)","v":0}]
[{"$f":"IF(AND(Data!C1612>34,Data!F1612=\"Chest Pain\",Data!G1612=\"No\"),1,0)","v":0}]
[{"$f":"IF(AND(Data!C1613>34,Data!F1613=\"Chest Pain\",Data!G1613=\"No\"),1,0)","v":0}]
[{"$f":"IF(AND(Data!C1614>34,Data!F1614=\"Chest Pain\",Data!G1614=\"No\"),1,0)","v":0}]
[{"$f":"IF(AND(Data!C1615>34,Data!F1615=\"Chest Pain\",Data!G1615=\"No\"),1,0)","v":0}]
[{"$f":"IF(AND(Data!C1616>34,Data!F1616=\"Chest Pain\",Data!G1616=\"No\"),1,0)","v":0}]
[{"$f":"IF(AND(Data!C1617>34,Data!F1617=\"Chest Pain\",Data!G1617=\"No\"),1,0)","v":0}]
[{"$f":"IF(AND(Data!C1618>34,Data!F1618=\"Chest Pain\",Data!G1618=\"No\"),1,0)","v":0}]
[{"$f":"IF(AND(Data!C1619>34,Data!F1619=\"Chest Pain\",Data!G1619=\"No\"),1,0)","v":0}]
[{"$f":"IF(AND(Data!C1620>34,Data!F1620=\"Chest Pain\",Data!G1620=\"No\"),1,0)","v":0}]
[{"$f":"IF(AND(Data!C1621>34,Data!F1621=\"Chest Pain\",Data!G1621=\"No\"),1,0)","v":0}]
[{"$f":"IF(AND(Data!C1622>34,Data!F1622=\"Chest Pain\",Data!G1622=\"No\"),1,0)","v":0}]
[{"$f":"IF(AND(Data!C1623>34,Data!F1623=\"Chest Pain\",Data!G1623=\"No\"),1,0)","v":0}]
[{"$f":"IF(AND(Data!C1624>34,Data!F1624=\"Chest Pain\",Data!G1624=\"No\"),1,0)","v":0}]
[{"$f":"IF(AND(Data!C1625>34,Data!F1625=\"Chest Pain\",Data!G1625=\"No\"),1,0)","v":0}]
[{"$f":"IF(AND(Data!C1626>34,Data!F1626=\"Chest Pain\",Data!G1626=\"No\"),1,0)","v":0}]
[{"$f":"IF(AND(Data!C1627>34,Data!F1627=\"Chest Pain\",Data!G1627=\"No\"),1,0)","v":0}]
[{"$f":"IF(AND(Data!C1628>34,Data!F1628=\"Chest Pain\",Data!G1628=\"No\"),1,0)","v":0}]
[{"$f":"IF(AND(Data!C1629>34,Data!F1629=\"Chest Pain\",Data!G1629=\"No\"),1,0)","v":0}]
[{"$f":"IF(AND(Data!C1630>34,Data!F1630=\"Chest Pain\",Data!G1630=\"No\"),1,0)","v":0}]
[{"$f":"IF(AND(Data!C1631>34,Data!F1631=\"Chest Pain\",Data!G1631=\"No\"),1,0)","v":0}]
[{"$f":"IF(AND(Data!C1632>34,Data!F1632=\"Chest Pain\",Data!G1632=\"No\"),1,0)","v":0}]
[{"$f":"IF(AND(Data!C1633>34,Data!F1633=\"Chest Pain\",Data!G1633=\"No\"),1,0)","v":0}]
[{"$f":"IF(AND(Data!C1634>34,Data!F1634=\"Chest Pain\",Data!G1634=\"No\"),1,0)","v":0}]
[{"$f":"IF(AND(Data!C1635>34,Data!F1635=\"Chest Pain\",Data!G1635=\"No\"),1,0)","v":0}]
[{"$f":"IF(AND(Data!C1636>34,Data!F1636=\"Chest Pain\",Data!G1636=\"No\"),1,0)","v":0}]
[{"$f":"IF(AND(Data!C1637>34,Data!F1637=\"Chest Pain\",Data!G1637=\"No\"),1,0)","v":0}]
[{"$f":"IF(AND(Data!C1638>34,Data!F1638=\"Chest Pain\",Data!G1638=\"No\"),1,0)","v":0}]
[{"$f":"IF(AND(Data!C1639>34,Data!F1639=\"Chest Pain\",Data!G1639=\"No\"),1,0)","v":0}]
[{"$f":"IF(AND(Data!C1640>34,Data!F1640=\"Chest Pain\",Data!G1640=\"No\"),1,0)","v":0}]
[{"$f":"IF(AND(Data!C1641>34,Data!F1641=\"Chest Pain\",Data!G1641=\"No\"),1,0)","v":0}]
[{"$f":"IF(AND(Data!C1642>34,Data!F1642=\"Chest Pain\",Data!G1642=\"No\"),1,0)","v":0}]
[{"$f":"IF(AND(Data!C1643>34,Data!F1643=\"Chest Pain\",Data!G1643=\"No\"),1,0)","v":0}]
[{"$f":"IF(AND(Data!C1644>34,Data!F1644=\"Chest Pain\",Data!G1644=\"No\"),1,0)","v":0}]
[{"$f":"IF(AND(Data!C1645>34,Data!F1645=\"Chest Pain\",Data!G1645=\"No\"),1,0)","v":0}]
[{"$f":"IF(AND(Data!C1646>34,Data!F1646=\"Chest Pain\",Data!G1646=\"No\"),1,0)","v":0}]
[{"$f":"IF(AND(Data!C1647>34,Data!F1647=\"Chest Pain\",Data!G1647=\"No\"),1,0)","v":0}]
[{"$f":"IF(AND(Data!C1648>34,Data!F1648=\"Chest Pain\",Data!G1648=\"No\"),1,0)","v":0}]
[{"$f":"IF(AND(Data!C1649>34,Data!F1649=\"Chest Pain\",Data!G1649=\"No\"),1,0)","v":0}]
[{"$f":"IF(AND(Data!C1650>34,Data!F1650=\"Chest Pain\",Data!G1650=\"No\"),1,0)","v":0}]
[{"$f":"IF(AND(Data!C1651>34,Data!F1651=\"Chest Pain\",Data!G1651=\"No\"),1,0)","v":0}]
[{"$f":"IF(AND(Data!C1652>34,Data!F1652=\"Chest Pain\",Data!G1652=\"No\"),1,0)","v":0}]
[{"$f":"IF(AND(Data!C1653>34,Data!F1653=\"Chest Pain\",Data!G1653=\"No\"),1,0)","v":0}]
[{"$f":"IF(AND(Data!C1654>34,Data!F1654=\"Chest Pain\",Data!G1654=\"No\"),1,0)","v":0}]
[{"$f":"IF(AND(Data!C1655>34,Data!F1655=\"Chest Pain\",Data!G1655=\"No\"),1,0)","v":0}]
[{"$f":"IF(AND(Data!C1656>34,Data!F1656=\"Chest Pain\",Data!G1656=\"No\"),1,0)","v":0}]
[{"$f":"IF(AND(Data!C1657>34,Data!F1657=\"Chest Pain\",Data!G1657=\"No\"),1,0)","v":0}]
[{"$f":"IF(AND(Data!C1658>34,Data!F1658=\"Chest Pain\",Data!G1658=\"No\"),1,0)","v":0}]
[{"$f":"IF(AND(Data!C1659>34,Data!F1659=\"Chest Pain\",Data!G1659=\"No\"),1,0)","v":0}]
[{"$f":"IF(AND(Data!C1660>34,Data!F1660=\"Chest Pain\",Data!G1660=\"No\"),1,0)","v":0}]
[{"$f":"IF(AND(Data!C1661>34,Data!F1661=\"Chest Pain\",Data!G1661=\"No\"),1,0)","v":0}]
[{"$f":"IF(AND(Data!C1662>34,Data!F1662=\"Chest Pain\",Data!G1662=\"No\"),1,0)","v":0}]
[{"$f":"IF(AND(Data!C1663>34,Data!F1663=\"Chest Pain\",Data!G1663=\"No\"),1,0)","v":0}]
[{"$f":"IF(AND(Data!C1664>34,Data!F1664=\"Chest Pain\",Data!G1664=\"No\"),1,0)","v":0}]
[{"$f":"IF(AND(Data!C1665>34,Data!F1665=\"Chest Pain\",Data!G1665=\"No\"),1,0)","v":0}]
[{"$f":"IF(AND(Data!C1666>34,Data!F1666=\"Chest Pain\",Data!G1666=\"No\"),1,0)","v":0}]
[{"$f":"IF(AND(Data!C1667>34,Data!F1667=\"Chest Pain\",Data!G1667=\"No\"),1,0)","v":0}]
[{"$f":"IF(AND(Data!C1668>34,Data!F1668=\"Chest Pain\",Data!G1668=\"No\"),1,0)","v":0}]
[{"$f":"IF(AND(Data!C1669>34,Data!F1669=\"Chest Pain\",Data!G1669=\"No\"),1,0)","v":0}]
[{"$f":"IF(AND(Data!C1670>34,Data!F1670=\"Chest Pain\",Data!G1670=\"No\"),1,0)","v":0}]
[{"$f":"IF(AND(Data!C1671>34,Data!F1671=\"Chest Pain\",Data!G1671=\"No\"),1,0)","v":0}]
[{"$f":"IF(AND(Data!C1672>34,Data!F1672=\"Chest Pain\",Data!G1672=\"No\"),1,0)","v":0}]
[{"$f":"IF(AND(Data!C1673>34,Data!F1673=\"Chest Pain\",Data!G1673=\"No\"),1,0)","v":0}]
[{"$f":"IF(AND(Data!C1674>34,Data!F1674=\"Chest Pain\",Data!G1674=\"No\"),1,0)","v":0}]
[{"$f":"IF(AND(Data!C1675>34,Data!F1675=\"Chest Pain\",Data!G1675=\"No\"),1,0)","v":0}]
[{"$f":"IF(AND(Data!C1676>34,Data!F1676=\"Chest Pain\",Data!G1676=\"No\"),1,0)","v":0}]
[{"$f":"IF(AND(Data!C1677>34,Data!F1677=\"Chest Pain\",Data!G1677=\"No\"),1,0)","v":0}]
[{"$f":"IF(AND(Data!C1678>34,Data!F1678=\"Chest Pain\",Data!G1678=\"No\"),1,0)","v":0}]
[{"$f":"IF(AND(Data!C1679>34,Data!F1679=\"Chest Pain\",Data!G1679=\"No\"),1,0)","v":0}]
[{"$f":"IF(AND(Data!C1680>34,Data!F1680=\"Chest Pain\",Data!G1680=\"No\"),1,0)","v":0}]
[{"$f":"IF(AND(Data!C1681>34,Data!F1681=\"Chest Pain\",Data!G1681=\"No\"),1,0)","v":0}]
[{"$f":"IF(AND(Data!C1682>34,Data!F1682=\"Chest Pain\",Data!G1682=\"No\"),1,0)","v":0}]
[{"$f":"IF(AND(Data!C1683>34,Data!F1683=\"Chest Pain\",Data!G1683=\"No\"),1,0)","v":0}]
[{"$f":"IF(AND(Data!C1684>34,Data!F1684=\"Chest Pain\",Data!G1684=\"No\"),1,0)","v":0}]
[{"$f":"IF(AND(Data!C1685>34,Data!F1685=\"Chest Pain\",Data!G1685=\"No\"),1,0)","v":0}]
[{"$f":"IF(AND(Data!C1686>34,Data!F1686=\"Chest Pain\",Data!G1686=\"No\"),1,0)","v":0}]
[{"$f":"IF(AND(Data!C1687>34,Data!F1687=\"Chest Pain\",Data!G1687=\"No\"),1,0)","v":0}]
[{"$f":"IF(AND(Data!C1688>34,Data!F1688=\"Chest Pain\",Data!G1688=\"No\"),1,0)","v":0}]
[{"$f":"IF(AND(Data!C1689>34,Data!F1689=\"Chest Pain\",Data!G1689=\"No\"),1,0)","v":0}]
[{"$f":"IF(AND(Data!C1690>34,Data!F1690=\"Chest Pain\",Data!G1690=\"No\"),1,0)","v":0}]
[{"$f":"IF(AND(Data!C1691>34,Data!F1691=\"Chest Pain\",Data!G1691=\"No\"),1,0)","v":0}]
[{"$f":"IF(AND(Data!C1692>34,Data!F1692=\"Chest Pain\",Data!G1692=\"No\"),1,0)","v":0}]
[{"$f":"IF(AND(Data!C1693>34,Data!F1693=\"Chest Pain\",Data!G1693=\"No\"),1,0)","v":0}]
[{"$f":"IF(AND(Data!C1694>34,Data!F1694=\"Chest Pain\",Data!G1694=\"No\"),1,0)","v":0}]
[{"$f":"IF(AND(Data!C1695>34,Data!F1695=\"Chest Pain\",Data!G1695=\"No\"),1,0)","v":0}]
[{"$f":"IF(AND(Data!C1696>34,Data!F1696=\"Chest Pain\",Data!G1696=\"No\"),1,0)","v":0}]
[{"$f":"IF(AND(Data!C1697>34,Data!F1697=\"Chest Pain\",Data!G1697=\"No\"),1,0)","v":0}]
[{"$f":"IF(AND(Data!C1698>34,Data!F1698=\"Chest Pain\",Data!G1698=\"No\"),1,0)","v":0}]
[{"$f":"IF(AND(Data!C1699>34,Data!F1699=\"Chest Pain\",Data!G1699=\"No\"),1,0)","v":0}]
[{"$f":"IF(AND(Data!C1700>34,Data!F1700=\"Chest Pain\",Data!G1700=\"No\"),1,0)","v":0}]
[{"$f":"IF(AND(Data!C1701>34,Data!F1701=\"Chest Pain\",Data!G1701=\"No\"),1,0)","v":0}]
[{"$f":"IF(AND(Data!C1702>34,Data!F1702=\"Chest Pain\",Data!G1702=\"No\"),1,0)","v":0}]
[{"$f":"IF(AND(Data!C1703>34,Data!F1703=\"Chest Pain\",Data!G1703=\"No\"),1,0)","v":0}]
[{"$f":"IF(AND(Data!C1704>34,Data!F1704=\"Chest Pain\",Data!G1704=\"No\"),1,0)","v":0}]
[{"$f":"IF(AND(Data!C1705>34,Data!F1705=\"Chest Pain\",Data!G1705=\"No\"),1,0)","v":0}]
[{"$f":"IF(AND(Data!C1706>34,Data!F1706=\"Chest Pain\",Data!G1706=\"No\"),1,0)","v":0}]
[{"$f":"IF(AND(Data!C1707>34,Data!F1707=\"Chest Pain\",Data!G1707=\"No\"),1,0)","v":0}]
[{"$f":"IF(AND(Data!C1708>34,Data!F1708=\"Chest Pain\",Data!G1708=\"No\"),1,0)","v":0}]
[{"$f":"IF(AND(Data!C1709>34,Data!F1709=\"Chest Pain\",Data!G1709=\"No\"),1,0)","v":0}]
[{"$f":"IF(AND(Data!C1710>34,Data!F1710=\"Chest Pain\",Data!G1710=\"No\"),1,0)","v":0}]
[{"$f":"IF(AND(Data!C1711>34,Data!F1711=\"Chest Pain\",Data!G1711=\"No\"),1,0)","v":0}]
[{"$f":"IF(AND(Data!C1712>34,Data!F1712=\"Chest Pain\",Data!G1712=\"No\"),1,0)","v":0}]
[{"$f":"IF(AND(Data!C1713>34,Data!F1713=\"Chest Pain\",Data!G1713=\"No\"),1,0)","v":0}]
[{"$f":"IF(AND(Data!C1714>34,Data!F1714=\"Chest Pain\",Data!G1714=\"No\"),1,0)","v":0}]
[{"$f":"IF(AND(Data!C1715>34,Data!F1715=\"Chest Pain\",Data!G1715=\"No\"),1,0)","v":0}]
[{"$f":"IF(AND(Data!C1716>34,Data!F1716=\"Chest Pain\",Data!G1716=\"No\"),1,0)","v":0}]
[{"$f":"IF(AND(Data!C1717>34,Data!F1717=\"Chest Pain\",Data!G1717=\"No\"),1,0)","v":0}]
[{"$f":"IF(AND(Data!C1718>34,Data!F1718=\"Chest Pain\",Data!G1718=\"No\"),1,0)","v":0}]
[{"$f":"IF(AND(Data!C1719>34,Data!F1719=\"Chest Pain\",Data!G1719=\"No\"),1,0)","v":0}]
[{"$f":"IF(AND(Data!C1720>34,Data!F1720=\"Chest Pain\",Data!G1720=\"No\"),1,0)","v":0}]
[{"$f":"IF(AND(Data!C1721>34,Data!F1721=\"Chest Pain\",Data!G1721=\"No\"),1,0)","v":0}]
[{"$f":"IF(AND(Data!C1722>34,Data!F1722=\"Chest Pain\",Data!G1722=\"No\"),1,0)","v":0}]
[{"$f":"IF(AND(Data!C1723>34,Data!F1723=\"Chest Pain\",Data!G1723=\"No\"),1,0)","v":0}]
[{"$f":"IF(AND(Data!C1724>34,Data!F1724=\"Chest Pain\",Data!G1724=\"No\"),1,0)","v":0}]
[{"$f":"IF(AND(Data!C1725>34,Data!F1725=\"Chest Pain\",Data!G1725=\"No\"),1,0)","v":0}]
[{"$f":"IF(AND(Data!C1726>34,Data!F1726=\"Chest Pain\",Data!G1726=\"No\"),1,0)","v":0}]
[{"$f":"IF(AND(Data!C1727>34,Data!F1727=\"Chest Pain\",Data!G1727=\"No\"),1,0)","v":0}]
[{"$f":"IF(AND(Data!C1728>34,Data!F1728=\"Chest Pain\",Data!G1728=\"No\"),1,0)","v":0}]
[{"$f":"IF(AND(Data!C1729>34,Data!F1729=\"Chest Pain\",Data!G1729=\"No\"),1,0)","v":0}]
[{"$f":"IF(AND(Data!C1730>34,Data!F1730=\"Chest Pain\",Data!G1730=\"No\"),1,0)","v":0}]
[{"$f":"IF(AND(Data!C1731>34,Data!F1731=\"Chest Pain\",Data!G1731=\"No\"),1,0)","v":0}]
[{"$f":"IF(AND(Data!C1732>34,Data!F1732=\"Chest Pain\",Data!G1732=\"No\"),1,0)","v":0}]
[{"$f":"IF(AND(Data!C1733>34,Data!F1733=\"Chest Pain\",Data!G1733=\"No\"),1,0)","v":0}]
[{"$f":"IF(AND(Data!C1734>34,Data!F1734=\"Chest Pain\",Data!G1734=\"No\"),1,0)","v":0}]
[{"$f":"IF(AND(Data!C1735>34,Data!F1735=\"Chest Pain\",Data!G1735=\"No\"),1,0)","v":0}]
[{"$f":"IF(AND(Data!C1736>34,Data!F1736=\"Chest Pain\",Data!G1736=\"No\"),1,0)","v":0}]
[{"$f":"IF(AND(Data!C1737>34,Data!F1737=\"Chest Pain\",Data!G1737=\"No\"),1,0)","v":0}]
[{"$f":"IF(AND(Data!C1738>34,Data!F1738=\"Chest Pain\",Data!G1738=\"No\"),1,0)","v":0}]
[{"$f":"IF(AND(Data!C1739>34,Data!F1739=\"Chest Pain\",Data!G1739=\"No\"),1,0)","v":0}]
[{"$f":"IF(AND(Data!C1740>34,Data!F1740=\"Chest Pain\",Data!G1740=\"No\"),1,0)","v":0}]
[{"$f":"IF(AND(Data!C1741>34,Data!F1741=\"Chest Pain\",Data!G1741=\"No\"),1,0)","v":0}]
[{"$f":"IF(AND(Data!C1742>34,Data!F1742=\"Chest Pain\",Data!G1742=\"No\"),1,0)","v":0}]
[{"$f":"IF(AND(Data!C1743>34,Data!F1743=\"Chest Pain\",Data!G1743=\"No\"),1,0)","v":0}]
[{"$f":"IF(AND(Data!C1744>34,Data!F1744=\"Chest Pain\",Data!G1744=\"No\"),1,0)","v":0}]
[{"$f":"IF(AND(Data!C1745>34,Data!F1745=\"Chest Pain\",Data!G1745=\"No\"),1,0)","v":0}]
[{"$f":"IF(AND(Data!C1746>34,Data!F1746=\"Chest Pain\",Data!G1746=\"No\"),1,0)","v":0}]
[{"$f":"IF(AND(Data!C1747>34,Data!F1747=\"Chest Pain\",Data!G1747=\"No\"),1,0)","v":0}]
[{"$f":"IF(AND(Data!C1748>34,Data!F1748=\"Chest Pain\",Data!G1748=\"No\"),1,0)","v":0}]
[{"$f":"IF(AND(Data!C1749>34,Data!F1749=\"Chest Pain\",Data!G1749=\"No\"),1,0)","v":0}]
[{"$f":"IF(AND(Data!C1750>34,Data!F1750=\"Chest Pain\",Data!G1750=\"No\"),1,0)","v":0}]
[{"$f":"IF(AND(Data!C1751>34,Data!F1751=\"Chest Pain\",Data!G1751=\"No\"),1,0)","v":0}]
[{"$f":"IF(AND(Data!C1752>34,Data!F1752=\"Chest Pain\",Data!G1752=\"No\"),1,0)","v":0}]
[{"$f":"IF(AND(Data!C1753>34,Data!F1753=\"Chest Pain\",Data!G1753=\"No\"),1,0)","v":0}]
[{"$f":"IF(AND(Data!C1754>34,Data!F1754=\"Chest Pain\",Data!G1754=\"No\"),1,0)","v":0}]
[{"$f":"IF(AND(Data!C1755>34,Data!F1755=\"Chest Pain\",Data!G1755=\"No\"),1,0)","v":0}]
[{"$f":"IF(AND(Data!C1756>34,Data!F1756=\"Chest Pain\",Data!G1756=\"No\"),1,0)","v":0}]
[{"$f":"IF(AND(Data!C1757>34,Data!F1757=\"Chest Pain\",Data!G1757=\"No\"),1,0)","v":0}]
[{"$f":"IF(AND(Data!C1758>34,Data!F1758=\"Chest Pain\",Data!G1758=\"No\"),1,0)","v":0}]
[{"$f":"IF(AND(Data!C1759>34,Data!F1759=\"Chest Pain\",Data!G1759=\"No\"),1,0)","v":0}]
[{"$f":"IF(AND(Data!C1760>34,Data!F1760=\"Chest Pain\",Data!G1760=\"No\"),1,0)","v":0}]
[{"$f":"IF(AND(Data!C1761>34,Data!F1761=\"Chest Pain\",Data!G1761=\"No\"),1,0)","v":0}]
[{"$f":"IF(AND(Data!C1762>34,Data!F1762=\"Chest Pain\",Data!G1762=\"No\"),1,0)","v":0}]
[{"$f":"IF(AND(Data!C1763>34,Data!F1763=\"Chest Pain\",Data!G1763=\"No\"),1,0)","v":0}]
[{"$f":"IF(AND(Data!C1764>34,Data!F1764=\"Chest Pain\",Data!G1764=\"No\"),1,0)","v":0}]
[{"$f":"IF(AND(Data!C1765>34,Data!F1765=\"Chest Pain\",Data!G1765=\"No\"),1,0)","v":0}]
[{"$f":"IF(AND(Data!C1766>34,Data!F1766=\"Chest Pain\",Data!G1766=\"No\"),1,0)","v":0}]
[{"$f":"IF(AND(Data!C1767>34,Data!F1767=\"Chest Pain\",Data!G1767=\"No\"),1,0)","v":0}]
[{"$f":"IF(AND(Data!C1768>34,Data!F1768=\"Chest Pain\",Data!G1768=\"No\"),1,0)","v":0}]
[{"$f":"IF(AND(Data!C1769>34,Data!F1769=\"Chest Pain\",Data!G1769=\"No\"),1,0)","v":0}]
[{"$f":"IF(AND(Data!C1770>34,Data!F1770=\"Chest Pain\",Data!G1770=\"No\"),1,0)","v":0}]
[{"$f":"IF(AND(Data!C1771>34,Data!F1771=\"Chest Pain\",Data!G1771=\"No\"),1,0)","v":0}]
[{"$f":"IF(AND(Data!C1772>34,Data!F1772=\"Chest Pain\",Data!G1772=\"No\"),1,0)","v":0}]
[{"$f":"IF(AND(Data!C1773>34,Data!F1773=\"Chest Pain\",Data!G1773=\"No\"),1,0)","v":0}]
[{"$f":"IF(AND(Data!C1774>34,Data!F1774=\"Chest Pain\",Data!G1774=\"No\"),1,0)","v":0}]
[{"$f":"IF(AND(Data!C1775>34,Data!F1775=\"Chest Pain\",Data!G1775=\"No\"),1,0)","v":0}]
[{"$f":"IF(AND(Data!C1776>34,Data!F1776=\"Chest Pain\",Data!G1776=\"No\"),1,0)","v":0}]
[{"$f":"IF(AND(Data!C1777>34,Data!F1777=\"Chest Pain\",Data!G1777=\"No\"),1,0)","v":0}]
[{"$f":"IF(AND(Data!C1778>34,Data!F1778=\"Chest Pain\",Data!G1778=\"No\"),1,0)","v":0}]
[{"$f":"IF(AND(Data!C1779>34,Data!F1779=\"Chest Pain\",Data!G1779=\"No\"),1,0)","v":0}]
[{"$f":"IF(AND(Data!C1780>34,Data!F1780=\"Chest Pain\",Data!G1780=\"No\"),1,0)","v":0}]
[{"$f":"IF(AND(Data!C1781>34,Data!F1781=\"Chest Pain\",Data!G1781=\"No\"),1,0)","v":0}]
[{"$f":"IF(AND(Data!C1782>34,Data!F1782=\"Chest Pain\",Data!G1782=\"No\"),1,0)","v":0}]
[{"$f":"IF(AND(Data!C1783>34,Data!F1783=\"Chest Pain\",Data!G1783=\"No\"),1,0)","v":0}]
[{"$f":"IF(AND(Data!C1784>34,Data!F1784=\"Chest Pain\",Data!G1784=\"No\"),1,0)","v":0}]
[{"$f":"IF(AND(Data!C1785>34,Data!F1785=\"Chest Pain\",Data!G1785=\"No\"),1,0)","v":0}]
[{"$f":"IF(AND(Data!C1786>34,Data!F1786=\"Chest Pain\",Data!G1786=\"No\"),1,0)","v":0}]
[{"$f":"IF(AND(Data!C1787>34,Data!F1787=\"Chest Pain\",Data!G1787=\"No\"),1,0)","v":0}]
[{"$f":"IF(AND(Data!C1788>34,Data!F1788=\"Chest Pain\",Data!G1788=\"No\"),1,0)","v":0}]
[{"$f":"IF(AND(Data!C1789>34,Data!F1789=\"Chest Pain\",Data!G1789=\"No\"),1,0)","v":0}]
[{"$f":"IF(AND(Data!C1790>34,Data!F1790=\"Chest Pain\",Data!G1790=\"No\"),1,0)","v":0}]
[{"$f":"IF(AND(Data!C1791>34,Data!F1791=\"Chest Pain\",Data!G1791=\"No\"),1,0)","v":0}]
[{"$f":"IF(AND(Data!C1792>34,Data!F1792=\"Chest Pain\",Data!G1792=\"No\"),1,0)","v":0}]
[{"$f":"IF(AND(Data!C1793>34,Data!F1793=\"Chest Pain\",Data!G1793=\"No\"),1,0)","v":0}]
[{"$f":"IF(AND(Data!C1794>34,Data!F1794=\"Chest Pain\",Data!G1794=\"No\"),1,0)","v":0}]
[{"$f":"IF(AND(Data!C1795>34,Data!F1795=\"Chest Pain\",Data!G1795=\"No\"),1,0)","v":0}]
[{"$f":"IF(AND(Data!C1796>34,Data!F1796=\"Chest Pain\",Data!G1796=\"No\"),1,0)","v":0}]
[{"$f":"IF(AND(Data!C1797>34,Data!F1797=\"Chest Pain\",Data!G1797=\"No\"),1,0)","v":0}]
[{"$f":"IF(AND(Data!C1798>34,Data!F1798=\"Chest Pain\",Data!G1798=\"No\"),1,0)","v":0}]
[{"$f":"IF(AND(Data!C1799>34,Data!F1799=\"Chest Pain\",Data!G1799=\"No\"),1,0)","v":0}]
[{"$f":"IF(AND(Data!C1800>34,Data!F1800=\"Chest Pain\",Data!G1800=\"No\"),1,0)","v":0}]
[{"$f":"IF(AND(Data!C1801>34,Data!F1801=\"Chest Pain\",Data!G1801=\"No\"),1,0)","v":0}]
[{"$f":"IF(AND(Data!C1802>34,Data!F1802=\"Chest Pain\",Data!G1802=\"No\"),1,0)","v":0}]
[{"$f":"IF(AND(Data!C1803>34,Data!F1803=\"Chest Pain\",Data!G1803=\"No\"),1,0)","v":0}]
[{"$f":"IF(AND(Data!C1804>34,Data!F1804=\"Chest Pain\",Data!G1804=\"No\"),1,0)","v":0}]
[{"$f":"IF(AND(Data!C1805>34,Data!F1805=\"Chest Pain\",Data!G1805=\"No\"),1,0)","v":0}]
[{"$f":"IF(AND(Data!C1806>34,Data!F1806=\"Chest Pain\",Data!G1806=\"No\"),1,0)","v":0}]
[{"$f":"IF(AND(Data!C1807>34,Data!F1807=\"Chest Pain\",Data!G1807=\"No\"),1,0)","v":0}]
[{"$f":"IF(AND(Data!C1808>34,Data!F1808=\"Chest Pain\",Data!G1808=\"No\"),1,0)","v":0}]
[{"$f":"IF(AND(Data!C1809>34,Data!F1809=\"Chest Pain\",Data!G1809=\"No\"),1,0)","v":0}]
[{"$f":"IF(AND(Data!C1810>34,Data!F1810=\"Chest Pain\",Data!G1810=\"No\"),1,0)","v":0}]
[{"$f":"IF(AND(Data!C1811>34,Data!F1811=\"Chest Pain\",Data!G1811=\"No\"),1,0)","v":0}]
[{"$f":"IF(AND(Data!C1812>34,Data!F1812=\"Chest Pain\",Data!G1812=\"No\"),1,0)","v":0}]
[{"$f":"IF(AND(Data!C1813>34,Data!F1813=\"Chest Pain\",Data!G1813=\"No\"),1,0)","v":0}]
[{"$f":"IF(AND(Data!C1814>34,Data!F1814=\"Chest Pain\",Data!G1814=\"No\"),1,0)","v":0}]
[{"$f":"IF(AND(Data!C1815>34,Data!F1815=\"Chest Pain\",Data!G1815=\"No\"),1,0)","v":0}]
[{"$f":"IF(AND(Data!C1816>34,Data!F1816=\"Chest Pain\",Data!G1816=\"No\"),1,0)","v":0}]
[{"$f":"IF(AND(Data!C1817>34,Data!F1817=\"Chest Pain\",Data!G1817=\"No\"),1,0)","v":0}]
[{"$f":"IF(AND(Data!C1818>34,Data!F1818=\"Chest Pain\",Data!G1818=\"No\"),1,0)","v":0}]
[{"$f":"IF(AND(Data!C1819>34,Data!F1819=\"Chest Pain\",Data!G1819=\"No\"),1,0)","v":0}]
[{"$f":"IF(AND(Data!C1820>34,Data!F1820=\"Chest Pain\",Data!G1820=\"No\"),1,0)","v":0}]
[{"$f":"IF(AND(Data!C1821>34,Data!F1821=\"Chest Pain\",Data!G1821=\"No\"),1,0)","v":0}]
[{"$f":"IF(AND(Data!C1822>34,Data!F1822=\"Chest Pain\",Data!G1822=\"No\"),1,0)","v":0}]
[{"$f":"IF(AND(Data!C1823>34,Data!F1823=\"Chest Pain\",Data!G1823=\"No\"),1,0)","v":0}]
[{"$f":"IF(AND(Data!C1824>34,Data!F1824=\"Chest Pain\",Data!G1824=\"No\"),1,0)","v":0}]
[{"$f":"IF(AND(Data!C1825>34,Data!F1825=\"Chest Pain\",Data!G1825=\"No\"),1,0)","v":0}]
[{"$f":"IF(AND(Data!C1826>34,Data!F1826=\"Chest Pain\",Data!G1826=\"No\"),1,0)","v":0}]
[{"$f":"IF(AND(Data!C1827>34,Data!F1827=\"Chest Pain\",Data!G1827=\"No\"),1,0)","v":0}]
[{"$f":"IF(AND(Data!C1828>34,Data!F1828=\"Chest Pain\",Data!G1828=\"No\"),1,0)","v":0}]
[{"$f":"IF(AND(Data!C1829>34,Data!F1829=\"Chest Pain\",Data!G1829=\"No\"),1,0)","v":0}]
[{"$f":"IF(AND(Data!C1830>34,Data!F1830=\"Chest Pain\",Data!G1830=\"No\"),1,0)","v":0}]
[{"$f":"IF(AND(Data!C1831>34,Data!F1831=\"Chest Pain\",Data!G1831=\"No\"),1,0)","v":0}]
[{"$f":"IF(AND(Data!C1832>34,Data!F1832=\"Chest Pain\",Data!G1832=\"No\"),1,0)","v":0}]
[{"$f":"IF(AND(Data!C1833>34,Data!F1833=\"Chest Pain\",Data!G1833=\"No\"),1,0)","v":0}]
[{"$f":"IF(AND(Data!C1834>34,Data!F1834=\"Chest Pain\",Data!G1834=\"No\"),1,0)","v":0}]
[{"$f":"IF(AND(Data!C1835>34,Data!F1835=\"Chest Pain\",Data!G1835=\"No\"),1,0)","v":0}]
[{"$f":"IF(AND(Data!C1836>34,Data!F1836=\"Chest Pain\",Data!G1836=\"No\"),1,0)","v":0}]
[{"$f":"IF(AND(Data!C1837>34,Data!F1837=\"Chest Pain\",Data!G1837=\"No\"),1,0)","v":0}]
[{"$f":"IF(AND(Data!C1838>34,Data!F1838=\"Chest Pain\",Data!G1838=\"No\"),1,0)","v":0}]
[{"$f":"IF(AND(Data!C1839>34,Data!F1839=\"Chest Pain\",Data!G1839=\"No\"),1,0)","v":0}]
[{"$f":"IF(AND(Data!C1840>34,Data!F1840=\"Chest Pain\",Data!G1840=\"No\"),1,0)","v":0}]
[{"$f":"IF(AND(Data!C1841>34,Data!F1841=\"Chest Pain\",Data!G1841=\"No\"),1,0)","v":0}]
[{"$f":"IF(AND(Data!C1842>34,Data!F1842=\"Chest Pain\",Data!G1842=\"No\"),1,0)","v":0}]
[{"$f":"IF(AND(Data!C1843>34,Data!F1843=\"Chest Pain\",Data!G1843=\"No\"),1,0)","v":0}]
[{"$f":"IF(AND(Data!C1844>34,Data!F1844=\"Chest Pain\",Data!G1844=\"No\"),1,0)","v":0}]
[{"$f":"IF(AND(Data!C1845>34,Data!F1845=\"Chest Pain\",Data!G1845=\"No\"),1,0)","v":0}]
[{"$f":"IF(AND(Data!C1846>34,Data!F1846=\"Chest Pain\",Data!G1846=\"No\"),1,0)","v":0}]
[{"$f":"IF(AND(Data!C1847>34,Data!F1847=\"Chest Pain\",Data!G1847=\"No\"),1,0)","v":0}]
[{"$f":"IF(AND(Data!C1848>34,Data!F1848=\"Chest Pain\",Data!G1848=\"No\"),1,0)","v":0}]
[{"$f":"IF(AND(Data!C1849>34,Data!F1849=\"Chest Pain\",Data!G1849=\"No\"),1,0)","v":0}]
[{"$f":"IF(AND(Data!C1850>34,Data!F1850=\"Chest Pain\",Data!G1850=\"No\"),1,0)","v":0}]
[{"$f":"IF(AND(Data!C1851>34,Data!F1851=\"Chest Pain\",Data!G1851=\"No\"),1,0)","v":0}]
[{"$f":"IF(AND(Data!C1852>34,Data!F1852=\"Chest Pain\",Data!G1852=\"No\"),1,0)","v":0}]
[{"$f":"IF(AND(Data!C1853>34,Data!F1853=\"Chest Pain\",Data!G1853=\"No\"),1,0)","v":0}]
[{"$f":"IF(AND(Data!C1854>34,Data!F1854=\"Chest Pain\",Data!G1854=\"No\"),1,0)","v":0}]
[{"$f":"IF(AND(Data!C1855>34,Data!F1855=\"Chest Pain\",Data!G1855=\"No\"),1,0)","v":0}]
[{"$f":"IF(AND(Data!C1856>34,Data!F1856=\"Chest Pain\",Data!G1856=\"No\"),1,0)","v":0}]
[{"$f":"IF(AND(Data!C1857>34,Data!F1857=\"Chest Pain\",Data!G1857=\"No\"),1,0)","v":0}]
[{"$f":"IF(AND(Data!C1858>34,Data!F1858=\"Chest Pain\",Data!G1858=\"No\"),1,0)","v":0}]
[{"$f":"IF(AND(Data!C1859>34,Data!F1859=\"Chest Pain\",Data!G1859=\"No\"),1,0)","v":0}]
[{"$f":"IF(AND(Data!C1860>34,Data!F1860=\"Chest Pain\",Data!G1860=\"No\"),1,0)","v":0}]
[{"$f":"IF(AND(Data!C1861>34,Data!F1861=\"Chest Pain\",Data!G1861=\"No\"),1,0)","v":0}]
[{"$f":"IF(AND(Data!C1862>34,Data!F1862=\"Chest Pain\",Data!G1862=\"No\"),1,0)","v":0}]
[{"$f":"IF(AND(Data!C1863>34,Data!F1863=\"Chest Pain\",Data!G1863=\"No\"),1,0)","v":0}]
[{"$f":"IF(AND(Data!C1864>34,Data!F1864=\"Chest Pain\",Data!G1864=\"No\"),1,0)","v":0}]
[{"$f":"IF(AND(Data!C1865>34,Data!F1865=\"Chest Pain\",Data!G1865=\"No\"),1,0)","v":0}]
[{"$f":"IF(AND(Data!C1866>34,Data!F1866=\"Chest Pain\",Data!G1866=\"No\"),1,0)","v":0}]
[{"$f":"IF(AND(Data!C1867>34,Data!F1867=\"Chest Pain\",Data!G1867=\"No\"),1,0)","v":0}]
[{"$f":"IF(AND(Data!C1868>34,Data!F1868=\"Chest Pain\",Data!G1868=\"No\"),1,0)","v":0}]
[{"$f":"IF(AND(Data!C1869>34,Data!F1869=\"Chest Pain\",Data!G1869=\"No\"),1,0)","v":0}]
[{"$f":"IF(AND(Data!C1870>34,Data!F1870=\"Chest Pain\",Data!G1870=\"No\"),1,0)","v":0}]
[{"$f":"IF(AND(Data!C1871>34,Data!F1871=\"Chest Pain\",Data!G1871=\"No\"),1,0)","v":0}]
[{"$f":"IF(AND(Data!C1872>34,Data!F1872=\"Chest Pain\",Data!G1872=\"No\"),1,0)","v":0}]
[{"$f":"IF(AND(Data!C1873>34,Data!F1873=\"Chest Pain\",Data!G1873=\"No\"),1,0)","v":0}]
[{"$f":"IF(AND(Data!C1874>34,Data!F1874=\"Chest Pain\",Data!G1874=\"No\"),1,0)","v":0}]
[{"$f":"IF(AND(Data!C1875>34,Data!F1875=\"Chest Pain\",Data!G1875=\"No\"),1,0)","v":0}]
[{"$f":"IF(AND(Data!C1876>34,Data!F1876=\"Chest Pain\",Data!G1876=\"No\"),1,0)","v":0}]
[{"$f":"IF(AND(Data!C1877>34,Data!F1877=\"Chest Pain\",Data!G1877=\"No\"),1,0)","v":0}]
[{"$f":"IF(AND(Data!C1878>34,Data!F1878=\"Chest Pain\",Data!G1878=\"No\"),1,0)","v":0}]
[{"$f":"IF(AND(Data!C1879>34,Data!F1879=\"Chest Pain\",Data!G1879=\"No\"),1,0)","v":0}]
[{"$f":"IF(AND(Data!C1880>34,Data!F1880=\"Chest Pain\",Data!G1880=\"No\"),1,0)","v":0}]
[{"$f":"IF(AND(Data!C1881>34,Data!F1881=\"Chest Pain\",Data!G1881=\"No\"),1,0)","v":0}]
[{"$f":"IF(AND(Data!C1882>34,Data!F1882=\"Chest Pain\",Data!G1882=\"No\"),1,0)","v":0}]
[{"$f":"IF(AND(Data!C1883>34,Data!F1883=\"Chest Pain\",Data!G1883=\"No\"),1,0)","v":0}]
[{"$f":"IF(AND(Data!C1884>34,Data!F1884=\"Chest Pain\",Data!G1884=\"No\"),1,0)","v":0}]
[{"$f":"IF(AND(Data!C1885>34,Data!F1885=\"Chest Pain\",Data!G1885=\"No\"),1,0)","v":0}]
[{"$f":"IF(AND(Data!C1886>34,Data!F1886=\"Chest Pain\",Data!G1886=\"No\"),1,0)","v":0}]
[{"$f":"IF(AND(Data!C1887>34,Data!F1887=\"Chest Pain\",Data!G1887=\"No\"),1,0)","v":0}]
[{"$f":"IF(AND(Data!C1888>34,Data!F1888=\"Chest Pain\",Data!G1888=\"No\"),1,0)","v":0}]
[{"$f":"IF(AND(Data!C1889>34,Data!F1889=\"Chest Pain\",Data!G1889=\"No\"),1,0)","v":0}]
[{"$f":"IF(AND(Data!C1890>34,Data!F1890=\"Chest Pain\",Data!G1890=\"No\"),1,0)","v":0}]
[{"$f":"IF(AND(Data!C1891>34,Data!F1891=\"Chest Pain\",Data!G1891=\"No\"),1,0)","v":0}]
[{"$f":"IF(AND(Data!C1892>34,Data!F1892=\"Chest Pain\",Data!G1892=\"No\"),1,0)","v":0}]
[{"$f":"IF(AND(Data!C1893>34,Data!F1893=\"Chest Pain\",Data!G1893=\"No\"),1,0)","v":0}]
[{"$f":"IF(AND(Data!C1894>34,Data!F1894=\"Chest Pain\",Data!G1894=\"No\"),1,0)","v":0}]
[{"$f":"IF(AND(Data!C1895>34,Data!F1895=\"Chest Pain\",Data!G1895=\"No\"),1,0)","v":0}]
[{"$f":"IF(AND(Data!C1896>34,Data!F1896=\"Chest Pain\",Data!G1896=\"No\"),1,0)","v":0}]
[{"$f":"IF(AND(Data!C1897>34,Data!F1897=\"Chest Pain\",Data!G1897=\"No\"),1,0)","v":0}]
[{"$f":"IF(AND(Data!C1898>34,Data!F1898=\"Chest Pain\",Data!G1898=\"No\"),1,0)","v":0}]
[{"$f":"IF(AND(Data!C1899>34,Data!F1899=\"Chest Pain\",Data!G1899=\"No\"),1,0)","v":0}]
[{"$f":"IF(AND(Data!C1900>34,Data!F1900=\"Chest Pain\",Data!G1900=\"No\"),1,0)","v":0}]
[{"$f":"IF(AND(Data!C1901>34,Data!F1901=\"Chest Pain\",Data!G1901=\"No\"),1,0)","v":0}]
[{"$f":"IF(AND(Data!C1902>34,Data!F1902=\"Chest Pain\",Data!G1902=\"No\"),1,0)","v":0}]
[{"$f":"IF(AND(Data!C1903>34,Data!F1903=\"Chest Pain\",Data!G1903=\"No\"),1,0)","v":0}]
[{"$f":"IF(AND(Data!C1904>34,Data!F1904=\"Chest Pain\",Data!G1904=\"No\"),1,0)","v":0}]
[{"$f":"IF(AND(Data!C1905>34,Data!F1905=\"Chest Pain\",Data!G1905=\"No\"),1,0)","v":0}]
[{"$f":"IF(AND(Data!C1906>34,Data!F1906=\"Chest Pain\",Data!G1906=\"No\"),1,0)","v":0}]
[{"$f":"IF(AND(Data!C1907>34,Data!F1907=\"Chest Pain\",Data!G1907=\"No\"),1,0)","v":0}]
[{"$f":"IF(AND(Data!C1908>34,Data!F1908=\"Chest Pain\",Data!G1908=\"No\"),1,0)","v":0}]
[{"$f":"IF(AND(Data!C1909>34,Data!F1909=\"Chest Pain\",Data!G1909=\"No\"),1,0)","v":0}]
[{"$f":"IF(AND(Data!C1910>34,Data!F1910=\"Chest Pain\",Data!G1910=\"No\"),1,0)","v":0}]
[{"$f":"IF(AND(Data!C1911>34,Data!F1911=\"Chest Pain\",Data!G1911=\"No\"),1,0)","v":0}]
[{"$f":"IF(AND(Data!C1912>34,Data!F1912=\"Chest Pain\",Data!G1912=\"No\"),1,0)","v":0}]
[{"$f":"IF(AND(Data!C1913>34,Data!F1913=\"Chest Pain\",Data!G1913=\"No\"),1,0)","v":0}]
[{"$f":"IF(AND(Data!C1914>34,Data!F1914=\"Chest Pain\",Data!G1914=\"No\"),1,0)","v":0}]
[{"$f":"IF(AND(Data!C1915>34,Data!F1915=\"Chest Pain\",Data!G1915=\"No\"),1,0)","v":0}]
[{"$f":"IF(AND(Data!C1916>34,Data!F1916=\"Chest Pain\",Data!G1916=\"No\"),1,0)","v":0}]
[{"$f":"IF(AND(Data!C1917>34,Data!F1917=\"Chest Pain\",Data!G1917=\"No\"),1,0)","v":0}]
[{"$f":"IF(AND(Data!C1918>34,Data!F1918=\"Chest Pain\",Data!G1918=\"No\"),1,0)","v":0}]
[{"$f":"IF(AND(Data!C1919>34,Data!F1919=\"Chest Pain\",Data!G1919=\"No\"),1,0)","v":0}]
[{"$f":"IF(AND(Data!C1920>34,Data!F1920=\"Chest Pain\",Data!G1920=\"No\"),1,0)","v":0}]
[{"$f":"IF(AND(Data!C1921>34,Data!F1921=\"Chest Pain\",Data!G1921=\"No\"),1,0)","v":0}]
[{"$f":"IF(AND(Data!C1922>34,Data!F1922=\"Chest Pain\",Data!G1922=\"No\"),1,0)","v":0}]
[{"$f":"IF(AND(Data!C1923>34,Data!F1923=\"Chest Pain\",Data!G1923=\"No\"),1,0)","v":0}]
[{"$f":"IF(AND(Data!C1924>34,Data!F1924=\"Chest Pain\",Data!G1924=\"No\"),1,0)","v":0}]
[{"$f":"IF(AND(Data!C1925>34,Data!F1925=\"Chest Pain\",Data!G1925=\"No\"),1,0)","v":0}]
[{"$f":"IF(AND(Data!C1926>34,Data!F1926=\"Chest Pain\",Data!G1926=\"No\"),1,0)","v":0}]
[{"$f":"IF(AND(Data!C1927>34,Data!F1927=\"Chest Pain\",Data!G1927=\"No\"),1,0)","v":0}]
[{"$f":"IF(AND(Data!C1928>34,Data!F1928=\"Chest Pain\",Data!G1928=\"No\"),1,0)","v":0}]
[{"$f":"IF(AND(Data!C1929>34,Data!F1929=\"Chest Pain\",Data!G1929=\"No\"),1,0)","v":0}]
[{"$f":"IF(AND(Data!C1930>34,Data!F1930=\"Chest Pain\",Data!G1930=\"No\"),1,0)","v":0}]
[{"$f":"IF(AND(Data!C1931>34,Data!F1931=\"Chest Pain\",Data!G1931=\"No\"),1,0)","v":0}]
[{"$f":"IF(AND(Data!C1932>34,Data!F1932=\"Chest Pain\",Data!G1932=\"No\"),1,0)","v":0}]
[{"$f":"IF(AND(Data!C1933>34,Data!F1933=\"Chest Pain\",Data!G1933=\"No\"),1,0)","v":0}]
[{"$f":"IF(AND(Data!C1934>34,Data!F1934=\"Chest Pain\",Data!G1934=\"No\"),1,0)","v":0}]
[{"$f":"IF(AND(Data!C1935>34,Data!F1935=\"Chest Pain\",Data!G1935=\"No\"),1,0)","v":0}]
[{"$f":"IF(AND(Data!C1936>34,Data!F1936=\"Chest Pain\",Data!G1936=\"No\"),1,0)","v":0}]
[{"$f":"IF(AND(Data!C1937>34,Data!F1937=\"Chest Pain\",Data!G1937=\"No\"),1,0)","v":0}]
[{"$f":"IF(AND(Data!C1938>34,Data!F1938=\"Chest Pain\",Data!G1938=\"No\"),1,0)","v":0}]
[{"$f":"IF(AND(Data!C1939>34,Data!F1939=\"Chest Pain\",Data!G1939=\"No\"),1,0)","v":0}]
[{"$f":"IF(AND(Data!C1940>34,Data!F1940=\"Chest Pain\",Data!G1940=\"No\"),1,0)","v":0}]
[{"$f":"IF(AND(Data!C1941>34,Data!F1941=\"Chest Pain\",Data!G1941=\"No\"),1,0)","v":0}]
[{"$f":"IF(AND(Data!C1942>34,Data!F1942=\"Chest Pain\",Data!G1942=\"No\"),1,0)","v":0}]
[{"$f":"IF(AND(Data!C1943>34,Data!F1943=\"Chest Pain\",Data!G1943=\"No\"),1,0)","v":0}]
[{"$f":"IF(AND(Data!C1944>34,Data!F1944=\"Chest Pain\",Data!G1944=\"No\"),1,0)","v":0}]
[{"$f":"IF(AND(Data!C1945>34,Data!F1945=\"Chest Pain\",Data!G1945=\"No\"),1,0)","v":0}]
[{"$f":"IF(AND(Data!C1946>34,Data!F1946=\"Chest Pain\",Data!G1946=\"No\"),1,0)","v":0}]
[{"$f":"IF(AND(Data!C1947>34,Data!F1947=\"Chest Pain\",Data!G1947=\"No\"),1,0)","v":0}]
[{"$f":"IF(AND(Data!C1948>34,Data!F1948=\"Chest Pain\",Data!G1948=\"No\"),1,0)","v":0}]
[{"$f":"IF(AND(Data!C1949>34,Data!F1949=\"Chest Pain\",Data!G1949=\"No\"),1,0)","v":0}]
[{"$f":"IF(AND(Data!C1950>34,Data!F1950=\"Chest Pain\",Data!G1950=\"No\"),1,0)","v":0}]
[{"$f":"IF(AND(Data!C1951>34,Data!F1951=\"Chest Pain\",Data!G1951=\"No\"),1,0)","v":0}]
[{"$f":"IF(AND(Data!C1952>34,Data!F1952=\"Chest Pain\",Data!G1952=\"No\"),1,0)","v":0}]
[{"$f":"IF(AND(Data!C1953>34,Data!F1953=\"Chest Pain\",Data!G1953=\"No\"),1,0)","v":0}]
[{"$f":"IF(AND(Data!C1954>34,Data!F1954=\"Chest Pain\",Data!G1954=\"No\"),1,0)","v":0}]
[{"$f":"IF(AND(Data!C1955>34,Data!F1955=\"Chest Pain\",Data!G1955=\"No\"),1,0)","v":0}]
[{"$f":"IF(AND(Data!C1956>34,Data!F1956=\"Chest Pain\",Data!G1956=\"No\"),1,0)","v":0}]
[{"$f":"IF(AND(Data!C1957>34,Data!F1957=\"Chest Pain\",Data!G1957=\"No\"),1,0)","v":0}]
[{"$f":"IF(AND(Data!C1958>34,Data!F1958=\"Chest Pain\",Data!G1958=\"No\"),1,0)","v":0}]
[{"$f":"IF(AND(Data!C1959>34,Data!F1959=\"Chest Pain\",Data!G1959=\"No\"),1,0)","v":0}]
[{"$f":"IF(AND(Data!C1960>34,Data!F1960=\"Chest Pain\",Data!G1960=\"No\"),1,0)","v":0}]
[{"$f":"IF(AND(Data!C1961>34,Data!F1961=\"Chest Pain\",Data!G1961=\"No\"),1,0)","v":0}]
[{"$f":"IF(AND(Data!C1962>34,Data!F1962=\"Chest Pain\",Data!G1962=\"No\"),1,0)","v":0}]
[{"$f":"IF(AND(Data!C1963>34,Data!F1963=\"Chest Pain\",Data!G1963=\"No\"),1,0)","v":0}]
[{"$f":"IF(AND(Data!C1964>34,Data!F1964=\"Chest Pain\",Data!G1964=\"No\"),1,0)","v":0}]
[{"$f":"IF(AND(Data!C1965>34,Data!F1965=\"Chest Pain\",Data!G1965=\"No\"),1,0)","v":0}]
[{"$f":"IF(AND(Data!C1966>34,Data!F1966=\"Chest Pain\",Data!G1966=\"No\"),1,0)","v":0}]
[{"$f":"IF(AND(Data!C1967>34,Data!F1967=\"Chest Pain\",Data!G1967=\"No\"),1,0)","v":0}]
[{"$f":"IF(AND(Data!C1968>34,Data!F1968=\"Chest Pain\",Data!G1968=\"No\"),1,0)","v":0}]
[{"$f":"IF(AND(Data!C1969>34,Data!F1969=\"Chest Pain\",Data!G1969=\"No\"),1,0)","v":0}]
[{"$f":"IF(AND(Data!C1970>34,Data!F1970=\"Chest Pain\",Data!G1970=\"No\"),1,0)","v":0}]
[{"$f":"IF(AND(Data!C1971>34,Data!F1971=\"Chest Pain\",Data!G1971=\"No\"),1,0)","v":0}]
[{"$f":"IF(AND(Data!C1972>34,Data!F1972=\"Chest Pain\",Data!G1972=\"No\"),1,0)","v":0}]
[{"$f":"IF(AND(Data!C1973>34,Data!F1973=\"Chest Pain\",Data!G1973=\"No\"),1,0)","v":0}]
[{"$f":"IF(AND(Data!C1974>34,Data!F1974=\"Chest Pain\",Data!G1974=\"No\"),1,0)","v":0}]
[{"$f":"IF(AND(Data!C1975>34,Data!F1975=\"Chest Pain\",Data!G1975=\"No\"),1,0)","v":0}]
[{"$f":"IF(AND(Data!C1976>34,Data!F1976=\"Chest Pain\",Data!G1976=\"No\"),1,0)","v":0}]
[{"$f":"IF(AND(Data!C1977>34,Data!F1977=\"Chest Pain\",Data!G1977=\"No\"),1,0)","v":0}]
[{"$f":"IF(AND(Data!C1978>34,Data!F1978=\"Chest Pain\",Data!G1978=\"No\"),1,0)","v":0}]
[{"$f":"IF(AND(Data!C1979>34,Data!F1979=\"Chest Pain\",Data!G1979=\"No\"),1,0)","v":0}]
[{"$f":"IF(AND(Data!C1980>34,Data!F1980=\"Chest Pain\",Data!G1980=\"No\"),1,0)","v":0}]
[{"$f":"IF(AND(Data!C1981>34,Data!F1981=\"Chest Pain\",Data!G1981=\"No\"),1,0)","v":0}]
[{"$f":"IF(AND(Data!C1982>34,Data!F1982=\"Chest Pain\",Data!G1982=\"No\"),1,0)","v":0}]
[{"$f":"IF(AND(Data!C1983>34,Data!F1983=\"Chest Pain\",Data!G1983=\"No\"),1,0)","v":0}]
[{"$f":"IF(AND(Data!C1984>34,Data!F1984=\"Chest Pain\",Data!G1984=\"No\"),1,0)","v":0}]
[{"$f":"IF(AND(Data!C1985>34,Data!F1985=\"Chest Pain\",Data!G1985=\"No\"),1,0)","v":0}]
[{"$f":"IF(AND(Data!C1986>34,Data!F1986=\"Chest Pain\",Data!G1986=\"No\"),1,0)","v":0}]
[{"$f":"IF(AND(Data!C1987>34,Data!F1987=\"Chest Pain\",Data!G1987=\"No\"),1,0)","v":0}]
[{"$f":"IF(AND(Data!C1988>34,Data!F1988=\"Chest Pain\",Data!G1988=\"No\"),1,0)","v":0}]
[{"$f":"IF(AND(Data!C1989>34,Data!F1989=\"Chest Pain\",Data!G1989=\"No\"),1,0)","v":0}]
[{"$f":"IF(AND(Data!C1990>34,Data!F1990=\"Chest Pain\",Data!G1990=\"No\"),1,0)","v":0}]
[{"$f":"IF(AND(Data!C1991>34,Data!F1991=\"Chest Pain\",Data!G1991=\"No\"),1,0)","v":0}]
[{"$f":"IF(AND(Data!C1992>34,Data!F1992=\"Chest Pain\",Data!G1992=\"No\"),1,0)","v":0}]
[{"$f":"IF(AND(Data!C1993>34,Data!F1993=\"Chest Pain\",Data!G1993=\"No\"),1,0)","v":0}]
[{"$f":"IF(AND(Data!C1994>34,Data!F1994=\"Chest Pain\",Data!G1994=\"No\"),1,0)","v":0}]

{"sheet":"Achievement Measures","index":4,"n_rows":0,"n_cols":0,"rows_kept":0,"cut":false,"hidden":true,"merged":[]}

{"sheet":"Optional Reporting Measures","index":5,"n_rows":0,"n_cols":0,"rows_kept":0,"cut":false,"hidden":true,"merged":[]}